BEGIN:VCALENDAR
VERSION:2.0
PRODID:-//Bay Soundings - ECPv6.15.11//NONSGML v1.0//EN
CALSCALE:GREGORIAN
METHOD:PUBLISH
X-ORIGINAL-URL:https://baysoundings.com
X-WR-CALDESC:Events for Bay Soundings
REFRESH-INTERVAL;VALUE=DURATION:PT1H
X-Robots-Tag:noindex
X-PUBLISHED-TTL:PT1H
BEGIN:VTIMEZONE
TZID:America/New_York
BEGIN:DAYLIGHT
TZOFFSETFROM:-0500
TZOFFSETTO:-0400
TZNAME:EDT
DTSTART:20230312T070000
END:DAYLIGHT
BEGIN:STANDARD
TZOFFSETFROM:-0400
TZOFFSETTO:-0500
TZNAME:EST
DTSTART:20231105T060000
END:STANDARD
BEGIN:DAYLIGHT
TZOFFSETFROM:-0500
TZOFFSETTO:-0400
TZNAME:EDT
DTSTART:20240310T070000
END:DAYLIGHT
BEGIN:STANDARD
TZOFFSETFROM:-0400
TZOFFSETTO:-0500
TZNAME:EST
DTSTART:20241103T060000
END:STANDARD
BEGIN:DAYLIGHT
TZOFFSETFROM:-0500
TZOFFSETTO:-0400
TZNAME:EDT
DTSTART:20250309T070000
END:DAYLIGHT
BEGIN:STANDARD
TZOFFSETFROM:-0400
TZOFFSETTO:-0500
TZNAME:EST
DTSTART:20251102T060000
END:STANDARD
END:VTIMEZONE
BEGIN:VEVENT
DTSTART;TZID=America/New_York:20240504T103000
DTEND;TZID=America/New_York:20240504T120000
DTSTAMP:20260423T145539
CREATED:20240421T210514Z
LAST-MODIFIED:20240421T210514Z
UID:10005747-1714818600-1714824000@baysoundings.com
SUMMARY:Frogs!
DESCRIPTION:Do you know why frogs are so important to our world\, and how by saving them\, we save the environment? \nExplore challenges frogs are facing\, as well as some ways that ordinary people of all ages can help. Learn about our very own Florida frogs\, and maybe even croak in a human frog chorus! Program suitable for all ages. \nJoin Avalon Theisen\, the young founder of Conserve It Forward\, Inc. for Florida Frogs! \n>>> REGISTER HERE <<<
URL:https://baysoundings.com/event/frogs-2-2/
LOCATION:Brooker Creek Environmental Education Center\, 3940 Keystone Road\, Tarpon Springs\, FL\, 34688\, United States
CATEGORIES:Coastal & Wetlands,Conservation & Ecology,Lectures & Seminars,Local Community,Native Flora & Fauna,Nature Tours & Hikes,Reptiles & Amphibians,Wildlife,Workshops & Classes,Youth Programs
GEO:28.136639;-82.656421
X-APPLE-STRUCTURED-LOCATION;VALUE=URI;X-ADDRESS=Brooker Creek Environmental Education Center 3940 Keystone Road Tarpon Springs FL 34688 United States;X-APPLE-RADIUS=500;X-TITLE=3940 Keystone Road:geo:-82.656421,28.136639
END:VEVENT
BEGIN:VEVENT
DTSTART;TZID=America/New_York:20240504T110000
DTEND;TZID=America/New_York:20240504T120000
DTSTAMP:20260423T145539
CREATED:20240424T184122Z
LAST-MODIFIED:20240424T184122Z
UID:10005777-1714820400-1714824000@baysoundings.com
SUMMARY:Bay Babies
DESCRIPTION:Come join us with your young scientists!\nThis program is for the youngest ocean explorers. Bay Babies is offered for 3 to 6 year olds monthly. Each session includes story time\, crafts\, activities\, and animal interactions to keep your little one(s) engaged and excited. Program is held in our indoor classroom and space is limited. \nAges 3 – 6 • 1 Hour \nChildren must be accompanied by an adult while in the classroom \n>>> REGISTER HERE <<<
URL:https://baysoundings.com/event/bay-babies-2/2024-05-04/
LOCATION:Bishop Museum of Science ﻿and Nature\, 201 10th St. West\, Bradenton\, FL\, 34205\, United States
CATEGORIES:Coastal & Wetlands,Kids & Families,Marine Life,Youth Programs
END:VEVENT
BEGIN:VEVENT
DTSTART;TZID=America/New_York:20240504T180000
DTEND;TZID=America/New_York:20240504T193000
DTSTAMP:20260423T145539
CREATED:20240220T202849Z
LAST-MODIFIED:20251207T224747Z
UID:10004783-1714845600-1714851000@baysoundings.com
SUMMARY:Family Night Hike
DESCRIPTION:Bring the whole family for our monthly family night hike at Boyd Hill. \nExplore the trials under the stars\, discover nocturnal wildlife\, and enjoy the wonders of nature together on this fun and educational adventure. \n>>> REGISTER HERE <<<
URL:https://baysoundings.com/event/family-night-hike-2-6/2024-05-04/
LOCATION:Boyd Hill Nature Preserve Classroom\, 1101 COUNTRY CLUB WY S\, St. Petersburg\, FL\, 33705\, United States
CATEGORIES:Kids & Families,Native Flora & Fauna,Nature Tours & Hikes,Various Sports,Wildlife,Youth Programs
ORGANIZER;CN="Boyd Hill Nature Preserve":MAILTO:stpeteparksrec@stpete.org 
GEO:27.724764;-82.6502749
X-APPLE-STRUCTURED-LOCATION;VALUE=URI;X-ADDRESS=Boyd Hill Nature Preserve Classroom 1101 COUNTRY CLUB WY S St. Petersburg FL 33705 United States;X-APPLE-RADIUS=500;X-TITLE=1101 COUNTRY CLUB WY S:geo:-82.6502749,27.724764
END:VEVENT
END:VCALENDAR