BEGIN:VCALENDAR
VERSION:2.0
PRODID:-//Bay Soundings - ECPv6.15.11//NONSGML v1.0//EN
CALSCALE:GREGORIAN
METHOD:PUBLISH
X-ORIGINAL-URL:https://baysoundings.com
X-WR-CALDESC:Events for Bay Soundings
REFRESH-INTERVAL;VALUE=DURATION:PT1H
X-Robots-Tag:noindex
X-PUBLISHED-TTL:PT1H
BEGIN:VTIMEZONE
TZID:America/New_York
BEGIN:DAYLIGHT
TZOFFSETFROM:-0500
TZOFFSETTO:-0400
TZNAME:EDT
DTSTART:20220313T070000
END:DAYLIGHT
BEGIN:STANDARD
TZOFFSETFROM:-0400
TZOFFSETTO:-0500
TZNAME:EST
DTSTART:20221106T060000
END:STANDARD
BEGIN:DAYLIGHT
TZOFFSETFROM:-0500
TZOFFSETTO:-0400
TZNAME:EDT
DTSTART:20230312T070000
END:DAYLIGHT
BEGIN:STANDARD
TZOFFSETFROM:-0400
TZOFFSETTO:-0500
TZNAME:EST
DTSTART:20231105T060000
END:STANDARD
BEGIN:DAYLIGHT
TZOFFSETFROM:-0500
TZOFFSETTO:-0400
TZNAME:EDT
DTSTART:20240310T070000
END:DAYLIGHT
BEGIN:STANDARD
TZOFFSETFROM:-0400
TZOFFSETTO:-0500
TZNAME:EST
DTSTART:20241103T060000
END:STANDARD
END:VTIMEZONE
BEGIN:VEVENT
DTSTART;TZID=America/New_York:20230616T080000
DTEND;TZID=America/New_York:20230616T170000
DTSTAMP:20260420T061414
CREATED:20221220T220106Z
LAST-MODIFIED:20230528T185605Z
UID:10002164-1686902400-1686934800@baysoundings.com
SUMMARY:Tot Time
DESCRIPTION:Families with little ones can enjoy nature-themed stories and crafts at the Weedon Island Preserve. \n\n\nEvery first and third Friday of each month\, families of pre-school aged children are invited to explore the wonders of the natural world at the Weedon Island Preserve. Families will be treated to rhymes\, stories\, and crafts that connect them to our environment. Activities are intended for youth aged 3-5. \nThis program will take place inside the Cultural and Natural History Center unless otherwise specified. Youth must be accompanied by an adult for the duration of the program. \nProceeds will support the Friends of Weedon Island\, a non-profit organization that work to promotes education and conservation of the Weedon Island Preserve. \n>>> REGISTER HERE <<<
URL:https://baysoundings.com/event/tot-time-3-2023-02-17/2023-06-16/
LOCATION:Weedon Island Preserve Cultural and Natural History Center\, 1800 Weedon Drive NE\, St. Petersburg\, FL\, United States
CATEGORIES:Crafts & Hobbies,Kids & Families,Story Time,Youth Programs
GEO:27.850451;-82.6075539
X-APPLE-STRUCTURED-LOCATION;VALUE=URI;X-ADDRESS=Weedon Island Preserve Cultural and Natural History Center 1800 Weedon Drive NE St. Petersburg FL United States;X-APPLE-RADIUS=500;X-TITLE=1800 Weedon Drive NE:geo:-82.6075539,27.850451
END:VEVENT
BEGIN:VEVENT
DTSTART;TZID=America/New_York:20230616T080000
DTEND;TZID=America/New_York:20230616T170000
DTSTAMP:20260420T061414
CREATED:20230421T183211Z
LAST-MODIFIED:20230421T183211Z
UID:10001035-1686902400-1686934800@baysoundings.com
SUMMARY:Animal Evidence Camp
DESCRIPTION:Natalie Lloyd will lead campers as they learn how to identify bones\, tracks\, and scat through daily hikes in the preserve. \nAges: 7 yrs – 12 yrs \n>>> REGISTER HERE <<<
URL:https://baysoundings.com/event/animal-evidence-camp/2023-06-16/
LOCATION:Boyd Hill Nature Preserve Classroom\, 1101 COUNTRY CLUB WY S\, St. Petersburg\, FL\, 33705\, United States
CATEGORIES:Camps & Childcare,Local Community,Native Flora & Fauna,Nature Tours & Hikes,Wildlife,Workshops & Classes,Youth Programs
ORGANIZER;CN="Boyd Hill Nature Preserve":MAILTO:stpeteparksrec@stpete.org 
GEO:27.724764;-82.6502749
X-APPLE-STRUCTURED-LOCATION;VALUE=URI;X-ADDRESS=Boyd Hill Nature Preserve Classroom 1101 COUNTRY CLUB WY S St. Petersburg FL 33705 United States;X-APPLE-RADIUS=500;X-TITLE=1101 COUNTRY CLUB WY S:geo:-82.6502749,27.724764
END:VEVENT
END:VCALENDAR