BEGIN:VCALENDAR
VERSION:2.0
PRODID:-//Bay Soundings - ECPv6.15.11//NONSGML v1.0//EN
CALSCALE:GREGORIAN
METHOD:PUBLISH
X-ORIGINAL-URL:https://baysoundings.com
X-WR-CALDESC:Events for Bay Soundings
REFRESH-INTERVAL;VALUE=DURATION:PT1H
X-Robots-Tag:noindex
X-PUBLISHED-TTL:PT1H
BEGIN:VTIMEZONE
TZID:America/New_York
BEGIN:DAYLIGHT
TZOFFSETFROM:-0500
TZOFFSETTO:-0400
TZNAME:EDT
DTSTART:20220313T070000
END:DAYLIGHT
BEGIN:STANDARD
TZOFFSETFROM:-0400
TZOFFSETTO:-0500
TZNAME:EST
DTSTART:20221106T060000
END:STANDARD
BEGIN:DAYLIGHT
TZOFFSETFROM:-0500
TZOFFSETTO:-0400
TZNAME:EDT
DTSTART:20230312T070000
END:DAYLIGHT
BEGIN:STANDARD
TZOFFSETFROM:-0400
TZOFFSETTO:-0500
TZNAME:EST
DTSTART:20231105T060000
END:STANDARD
BEGIN:DAYLIGHT
TZOFFSETFROM:-0500
TZOFFSETTO:-0400
TZNAME:EDT
DTSTART:20240310T070000
END:DAYLIGHT
BEGIN:STANDARD
TZOFFSETFROM:-0400
TZOFFSETTO:-0500
TZNAME:EST
DTSTART:20241103T060000
END:STANDARD
END:VTIMEZONE
BEGIN:VEVENT
DTSTART;TZID=America/New_York:20231104T083000
DTEND;TZID=America/New_York:20231104T093000
DTSTAMP:20260421T110229
CREATED:20231029T180605Z
LAST-MODIFIED:20231029T182123Z
UID:10003706-1699086600-1699090200@baysoundings.com
SUMMARY:Composting Workshop
DESCRIPTION:Composting – learn how to turn trash into treasure! \nThis workshop is for Hillsborough County and City of Tampa residents/employees only. \nLearn how to put your everyday food waste and organic materials to work for you! Hillsborough County and City of Tampa residents/employees will receive a compost bin\, compost bucket and thermometer after attending the workshop. (Limit 1 per household and the representative of the household must be an adult.) Please arrive 15 minutes before the program starts. \n>>> IN PERSON REGISTRATION <<<\n>>> WEBINAR REGISTRATION <<<
URL:https://baysoundings.com/event/composting-workshop-13-4/
LOCATION:Hillsborough County Extension\, 5339 County Road 579\, Seffner\, FL\, 33584\, United States
CATEGORIES:Certification & Training Programs,Gardening & Landscaping,Home & Lifestyle,Local Community,Recycling,WEBINARS & ONLINE CLASSES,Workshops & Classes
END:VEVENT
BEGIN:VEVENT
DTSTART;TZID=America/New_York:20231104T090000
DTEND;TZID=America/New_York:20231104T120000
DTSTAMP:20260421T110229
CREATED:20231028T185340Z
LAST-MODIFIED:20231028T185340Z
UID:10003632-1699088400-1699099200@baysoundings.com
SUMMARY:Paddle and Learn
DESCRIPTION:Paddle and Learn – \nKayaking with Mangroves \nJoin Alyssa Vinson with UF/IFAS Extension Manatee County and Sarah Denison with Manatee County Natural Resources for a special kayaking program at Robinson Preserve! On this approximately 2-mile paddle\, we will learn about one of Florida’s most important coastal trees – Mangroves! \nSingle and tandem kayaks\, paddles\, and life jackets are available to borrow free of charge on a first come-first served basis. All participants must wear a life jacket. All participants must be able to meet the County’s minimum eligibility requirements: https://www.mymanatee.org/departments/natural_resources/ecoevents#kayak  \nPlease wear comfortable clothing and footwear that can get wet – no flip-flops or sandals unless they have a heel strap. You may wish to bring light layers and wear sun protection. \nThis is an easy paddle that can be enjoyed by beginning kayakers\, but we do recommend some prior paddling experience. Program suitable for all ages. Participants under 16 years old must be accompanied by an adult. \n>>> REGISTER HERE <<< \nThe University of Florida is committed to providing universal access to all of our events. For disability accommodations such as sign language interpreters and listening devices\, please contact Katie Granberg\, katiebg@ufl.edu\, (941) 722-4524 x 1815 at least 1 week in advance. Advance notice is necessary to arrange for some accessibility needs.
URL:https://baysoundings.com/event/paddle-and-learn/
LOCATION:ROBINSON PRESERVE\, 1704 99th Street Northwest\, Bradenton\, FL\, 34209\, United States
CATEGORIES:Coastal & Wetlands,Kayak & Canoe Trips,Local Community,Nature Tours & Hikes,Water Sports,Workshops & Classes
GEO:27.5144373;-82.6610077
X-APPLE-STRUCTURED-LOCATION;VALUE=URI;X-ADDRESS=ROBINSON PRESERVE 1704 99th Street Northwest Bradenton FL 34209 United States;X-APPLE-RADIUS=500;X-TITLE=1704 99th Street Northwest:geo:-82.6610077,27.5144373
END:VEVENT
BEGIN:VEVENT
DTSTART;TZID=America/New_York:20231104T093000
DTEND;TZID=America/New_York:20231104T110000
DTSTAMP:20260421T110229
CREATED:20231029T181402Z
LAST-MODIFIED:20231029T181402Z
UID:10003707-1699090200-1699095600@baysoundings.com
SUMMARY:Microirrigation Workshop
DESCRIPTION:Learn how to save water when watering your garden. \nThis workshop is for Hillsborough County and City of Tampa residents/employees only.  \nLearn how you can have healthy and attractive landscape beds while conserving water. This irrigation method not only conserves water\, but is not limited by current water restrictions as is traditional in-ground irrigation. Hillsborough County and City of Tampa residents/employees will receive a microirrigation kit after attending the workshop. (Limit 1 kit per household and the representative of the household must be an adult.) \n>>> IN PERSON REGISTRATION <<<\n>>> WEBINAR REGISTRATION <<< \nNOTE: Pick-up of workshop items/giveaways for on-site attendees will be on the date of the workshop or by rescheduling with the workshop presenter. All items must be picked up within 30 days of the date of the workshop. No exceptions.
URL:https://baysoundings.com/event/microirrigation-workshop-14-4/
LOCATION:Hillsborough County Extension\, 5339 County Road 579\, Seffner\, FL\, 33584\, United States
CATEGORIES:Conservation & Ecology,Farming,Gardening & Landscaping,Home & Lifestyle,Local Community,WEBINARS & ONLINE CLASSES,Workshops & Classes
END:VEVENT
BEGIN:VEVENT
DTSTART;TZID=America/New_York:20231104T100000
DTEND;TZID=America/New_York:20231104T113000
DTSTAMP:20260421T110229
CREATED:20230827T191742Z
LAST-MODIFIED:20230827T191742Z
UID:10002828-1699092000-1699097400@baysoundings.com
SUMMARY:Fire Building and S'mores
DESCRIPTION:For light\, heat\, and food\, fire has always been an essential aspect of survival. Today\, our need for fire is no less important. Join us in learning how to safely start a fire\, cook with fire\, and identify natural materials that are reliable for ignition. \nAges 18 yrs + \n>>> REGISTER HERE <<<
URL:https://baysoundings.com/event/fire-building-and-smores/
LOCATION:Boyd Hill Nature Preserve Classroom\, 1101 COUNTRY CLUB WY S\, St. Petersburg\, FL\, 33705\, United States
CATEGORIES:Adult Level,Backpacking & Camping,Food & Cooking,Native Flora & Fauna,Workshops & Classes
ORGANIZER;CN="Boyd Hill Nature Preserve":MAILTO:stpeteparksrec@stpete.org 
GEO:27.724764;-82.6502749
X-APPLE-STRUCTURED-LOCATION;VALUE=URI;X-ADDRESS=Boyd Hill Nature Preserve Classroom 1101 COUNTRY CLUB WY S St. Petersburg FL 33705 United States;X-APPLE-RADIUS=500;X-TITLE=1101 COUNTRY CLUB WY S:geo:-82.6502749,27.724764
END:VEVENT
BEGIN:VEVENT
DTSTART;TZID=America/New_York:20231104T110000
DTEND;TZID=America/New_York:20231104T120000
DTSTAMP:20260421T110229
CREATED:20231029T181950Z
LAST-MODIFIED:20231029T181950Z
UID:10003708-1699095600-1699099200@baysoundings.com
SUMMARY:Rainwater Harvesting Workshop
DESCRIPTION:This workshop is for Hillsborough County and City of Tampa residents/employees only. \nLearn how to collect rainwater for ornamental plant irrigation while reducing erosion and stormwater runoff\, and the use of non-potable water for irrigation. Hillsborough County and City of Tampa residents/employees will receive one 45-55 gallon plastic food-grade barrel after attending the workshop. (1 per household and the representative of the household must be an adult.) \n>>> IN PERSON REGISTRATION <<<\n>>> WEBINAR REGISTRATION <<< \nNOTE: Pick-up of workshop items/giveaways for on-site attendees will be on the date of the workshop or by rescheduling with the workshop presenter. All items must be picked up within 30 days of the date of the workshop. No exceptions.
URL:https://baysoundings.com/event/rainwater-harvesting-workshop-15/
LOCATION:Hillsborough County Extension\, 5339 County Road 579\, Seffner\, FL\, 33584\, United States
CATEGORIES:Agriculture & Botany,Clean Water,Conservation & Ecology,Gardening & Landscaping,Home & Lifestyle,Local Community,Recycling,WEBINARS & ONLINE CLASSES,Workshops & Classes
END:VEVENT
END:VCALENDAR