BEGIN:VCALENDAR
VERSION:2.0
PRODID:-//Bay Soundings - ECPv6.15.11//NONSGML v1.0//EN
CALSCALE:GREGORIAN
METHOD:PUBLISH
X-ORIGINAL-URL:https://baysoundings.com
X-WR-CALDESC:Events for Bay Soundings
REFRESH-INTERVAL;VALUE=DURATION:PT1H
X-Robots-Tag:noindex
X-PUBLISHED-TTL:PT1H
BEGIN:VTIMEZONE
TZID:America/New_York
BEGIN:DAYLIGHT
TZOFFSETFROM:-0500
TZOFFSETTO:-0400
TZNAME:EDT
DTSTART:20220313T070000
END:DAYLIGHT
BEGIN:STANDARD
TZOFFSETFROM:-0400
TZOFFSETTO:-0500
TZNAME:EST
DTSTART:20221106T060000
END:STANDARD
BEGIN:DAYLIGHT
TZOFFSETFROM:-0500
TZOFFSETTO:-0400
TZNAME:EDT
DTSTART:20230312T070000
END:DAYLIGHT
BEGIN:STANDARD
TZOFFSETFROM:-0400
TZOFFSETTO:-0500
TZNAME:EST
DTSTART:20231105T060000
END:STANDARD
BEGIN:DAYLIGHT
TZOFFSETFROM:-0500
TZOFFSETTO:-0400
TZNAME:EDT
DTSTART:20240310T070000
END:DAYLIGHT
BEGIN:STANDARD
TZOFFSETFROM:-0400
TZOFFSETTO:-0500
TZNAME:EST
DTSTART:20241103T060000
END:STANDARD
END:VTIMEZONE
BEGIN:VEVENT
DTSTART;TZID=America/New_York:20230225T100000
DTEND;TZID=America/New_York:20230225T113000
DTSTAMP:20260424T122543
CREATED:20230124T220749Z
LAST-MODIFIED:20230124T220749Z
UID:10002064-1677319200-1677324600@baysoundings.com
SUMMARY:Trying Out Tillandsias: A “Make and Take” Workshop
DESCRIPTION:Learn about these amazing epiphytes that only require air and water to live! \nLearn about these lovely epiphytes that only require air and water to live. This is a “make and take” workshop where you will create a palm boot planter using Tillandsia airplants. Bring wire cutters and pliers. $35 advance payment for materials due by February 7. Limited to 20 participants. \n>>> REGISTER HERE <<< \nAn Equal Opportunity Institution. The University of Florida is committed to providing universal access to all of our events. For disability accommodations such as sign language interpreters and listening devices\, please contact our office at (941) 722-4524 at least 1 week in advance. Advance notice is necessary to arrange for some accessibility needs. \n 
URL:https://baysoundings.com/event/trying-out-tillandsias-a-make-and-take-workshop/
LOCATION:Manatee County Agriculture and Extension Office\, 1303 17th St W\, Palmetto\, FL\, 34221\, United States
CATEGORIES:Crafts & Hobbies,Native Flora & Fauna,Workshops & Classes
GEO:27.528425;-82.580584
X-APPLE-STRUCTURED-LOCATION;VALUE=URI;X-ADDRESS=Manatee County Agriculture and Extension Office 1303 17th St W Palmetto FL 34221 United States;X-APPLE-RADIUS=500;X-TITLE=1303 17th St W:geo:-82.580584,27.528425
END:VEVENT
END:VCALENDAR