BEGIN:VCALENDAR
VERSION:2.0
PRODID:-//Bay Soundings - ECPv6.15.11//NONSGML v1.0//EN
CALSCALE:GREGORIAN
METHOD:PUBLISH
X-ORIGINAL-URL:https://baysoundings.com
X-WR-CALDESC:Events for Bay Soundings
REFRESH-INTERVAL;VALUE=DURATION:PT1H
X-Robots-Tag:noindex
X-PUBLISHED-TTL:PT1H
BEGIN:VTIMEZONE
TZID:America/New_York
BEGIN:DAYLIGHT
TZOFFSETFROM:-0500
TZOFFSETTO:-0400
TZNAME:EDT
DTSTART:20220313T070000
END:DAYLIGHT
BEGIN:STANDARD
TZOFFSETFROM:-0400
TZOFFSETTO:-0500
TZNAME:EST
DTSTART:20221106T060000
END:STANDARD
BEGIN:DAYLIGHT
TZOFFSETFROM:-0500
TZOFFSETTO:-0400
TZNAME:EDT
DTSTART:20230312T070000
END:DAYLIGHT
BEGIN:STANDARD
TZOFFSETFROM:-0400
TZOFFSETTO:-0500
TZNAME:EST
DTSTART:20231105T060000
END:STANDARD
BEGIN:DAYLIGHT
TZOFFSETFROM:-0500
TZOFFSETTO:-0400
TZNAME:EDT
DTSTART:20240310T070000
END:DAYLIGHT
BEGIN:STANDARD
TZOFFSETFROM:-0400
TZOFFSETTO:-0500
TZNAME:EST
DTSTART:20241103T060000
END:STANDARD
END:VTIMEZONE
BEGIN:VEVENT
DTSTART;TZID=America/New_York:20230811T100000
DTEND;TZID=America/New_York:20230811T113000
DTSTAMP:20260421T162256
CREATED:20230728T205517Z
LAST-MODIFIED:20230728T205614Z
UID:10002809-1691748000-1691753400@baysoundings.com
SUMMARY:Dragonfly Discovery Walk
DESCRIPTION:Join local dragonfly expert Paul Trunk as we explore the Preserve looking for dragonflies. \nBrooker Creek Preserve is an excellent area that is home to approximately 20+ species of odonates. \nWe will learn about the natural history of dragonflies and their importance to a healthy ecosystem. \n>>> REGISTER HERE <<< \nBring your binoculars and also a camera if you enjoy taking pictures. Registration is required. \n>>> REGISTER HERE <<<
URL:https://baysoundings.com/event/dragonfly-discovery-walk-2-2/2023-08-11/
LOCATION:Brooker Creek Environmental Education Center\, 3940 Keystone Road\, Tarpon Springs\, FL\, 34688\, United States
CATEGORIES:Insects,Native Flora & Fauna,Workshops & Classes
GEO:28.136639;-82.656421
X-APPLE-STRUCTURED-LOCATION;VALUE=URI;X-ADDRESS=Brooker Creek Environmental Education Center 3940 Keystone Road Tarpon Springs FL 34688 United States;X-APPLE-RADIUS=500;X-TITLE=3940 Keystone Road:geo:-82.656421,28.136639
END:VEVENT
BEGIN:VEVENT
DTSTART;TZID=America/New_York:20230811T100000
DTEND;TZID=America/New_York:20230811T120000
DTSTAMP:20260421T162256
CREATED:20230729T193903Z
LAST-MODIFIED:20230729T193903Z
UID:10002816-1691748000-1691755200@baysoundings.com
SUMMARY:Grafting & Air Layering
DESCRIPTION:Join UF/IFAS Environmental Horticulture Associate Professor Dr. Andrew Koeser and Residential Horticulture Agent Alyssa Vinson for an introduction to grafting and air layering. The class will be hands on\, so be prepared to participate and learn skills you can apply in your home landscapes. \nThe University of Florida is committed to providing universal access to all of our events. For disability accommodations such as sign language interpreters and listening devices\, please contact Katie Granberg\, katiebg@ufl.edu\, (941) 722-4524 x 1815 at least 1 week in advance. Advance notice is necessary to arrange for some accessibility needs. \n>>> REGISTER HERE <<<
URL:https://baysoundings.com/event/grafting-air-layering/
LOCATION:Palma Sola Botanical Park\, 9800 17th Avenue Northwest\, Bradenton\, FL\, 34209\, United States
CATEGORIES:Agriculture & Botany,Farming,Gardening & Landscaping,Workshops & Classes
END:VEVENT
BEGIN:VEVENT
DTSTART;TZID=America/New_York:20230812T140000
DTEND;TZID=America/New_York:20230812T160000
DTSTAMP:20260421T162256
CREATED:20230727T214236Z
LAST-MODIFIED:20230727T214236Z
UID:10002803-1691848800-1691856000@baysoundings.com
SUMMARY:Clay Leaf Coins
DESCRIPTION:Kids and families will enjoy creating this simple craft! Leaf coins are quarter-size clay coins imprinted with natural textures. Perfect for all ages and experience levels. All ages welcome with a registered adult. Please select the correct number of participants or seats needed at the time of enrollment. \n>>> REGISTER HERE <<<
URL:https://baysoundings.com/event/clay-leaf-coins/
LOCATION:Boyd Hill Nature Preserve Classroom\, 1101 COUNTRY CLUB WY S\, St. Petersburg\, FL\, 33705\, United States
CATEGORIES:Crafts & Hobbies,Kids & Families,Native Flora & Fauna,Workshops & Classes
ORGANIZER;CN="Boyd Hill Nature Preserve":MAILTO:stpeteparksrec@stpete.org 
GEO:27.724764;-82.6502749
X-APPLE-STRUCTURED-LOCATION;VALUE=URI;X-ADDRESS=Boyd Hill Nature Preserve Classroom 1101 COUNTRY CLUB WY S St. Petersburg FL 33705 United States;X-APPLE-RADIUS=500;X-TITLE=1101 COUNTRY CLUB WY S:geo:-82.6502749,27.724764
END:VEVENT
BEGIN:VEVENT
DTSTART;TZID=America/New_York:20230819T130000
DTEND;TZID=America/New_York:20230819T140000
DTSTAMP:20260421T162256
CREATED:20230727T213828Z
LAST-MODIFIED:20230727T213828Z
UID:10002802-1692450000-1692453600@baysoundings.com
SUMMARY:Bird Feather Identification
DESCRIPTION:Have you ever found a bird feather and wondered from which bird it came? Learn the basics about bird feather identification and common feathers you might find in our area. Participants will sketch feather patterns and make a mini-identification booklet. \n>>> REGISTER HERE <<<
URL:https://baysoundings.com/event/bird-feather-identification/
LOCATION:Boyd Hill Nature Preserve Classroom\, 1101 COUNTRY CLUB WY S\, St. Petersburg\, FL\, 33705\, United States
CATEGORIES:Birds & Birding,Coastal & Wetlands,Native Flora & Fauna,Wildlife,Workshops & Classes
ORGANIZER;CN="Boyd Hill Nature Preserve":MAILTO:stpeteparksrec@stpete.org 
GEO:27.724764;-82.6502749
X-APPLE-STRUCTURED-LOCATION;VALUE=URI;X-ADDRESS=Boyd Hill Nature Preserve Classroom 1101 COUNTRY CLUB WY S St. Petersburg FL 33705 United States;X-APPLE-RADIUS=500;X-TITLE=1101 COUNTRY CLUB WY S:geo:-82.6502749,27.724764
END:VEVENT
BEGIN:VEVENT
DTSTART;TZID=America/New_York:20230820T140000
DTEND;TZID=America/New_York:20230820T153000
DTSTAMP:20260421T162256
CREATED:20230727T221550Z
LAST-MODIFIED:20230727T221550Z
UID:10002805-1692540000-1692545400@baysoundings.com
SUMMARY:Gardening & Cooking with Herbs
DESCRIPTION:Herbs bring fresh\, bright flavors to your cooking! Join us as we learn about how to grow\, store\, and cook with various herbs including fresh thyme\, rosemary\, basil\, chives\, parsley\, mint and more. Participants will sample a few dishes made with fresh herbs\, too! \n>>> REGISTER HERE <<<
URL:https://baysoundings.com/event/gardening-cooking-with-herbs/
LOCATION:Boyd Hill Nature Preserve Classroom\, 1101 COUNTRY CLUB WY S\, St. Petersburg\, FL\, 33705\, United States
CATEGORIES:Adult Level,Food & Cooking,Gardening & Landscaping,Herbs,Home & Lifestyle,Workshops & Classes
ORGANIZER;CN="Boyd Hill Nature Preserve":MAILTO:stpeteparksrec@stpete.org 
GEO:27.724764;-82.6502749
X-APPLE-STRUCTURED-LOCATION;VALUE=URI;X-ADDRESS=Boyd Hill Nature Preserve Classroom 1101 COUNTRY CLUB WY S St. Petersburg FL 33705 United States;X-APPLE-RADIUS=500;X-TITLE=1101 COUNTRY CLUB WY S:geo:-82.6502749,27.724764
END:VEVENT
BEGIN:VEVENT
DTSTART;TZID=America/New_York:20230821T080000
DTEND;TZID=America/New_York:20230821T110000
DTSTAMP:20260421T162256
CREATED:20230425T210423Z
LAST-MODIFIED:20230425T210423Z
UID:10002130-1692604800-1692615600@baysoundings.com
SUMMARY:Mangrove Trimming Best Management Practices
DESCRIPTION:Join us for a workshop covering Mangrove Trimming Best Practices! \nThis workshop will cover: Mangrove Ecology and Identification\, Mangrove Trimming Regulations\, Mangrove Trimming Demonstration of Best Practices. \nClassroom located at the Nature Center\, follow the road past the first parking lot on the left. \nPreapproved with ISA CEUs. \nMaterials & light refreshments provided. \nFree tickets for government employees\, $15 (plus Eventbrite fees) for non-government employees. \n>>> BUY TICKETS <<< \nThe University of Florida is committed to providing universal access to all of our events. For disability accommodations such as sign language interpreters and listening devices\, please contact Katie Granberg\, katiebg@ufl.edu\, (941) 722-4524 x 1815 at least 1 week in advance. Advance notice is necessary to arrange for some accessibility needs.
URL:https://baysoundings.com/event/mangrove-trimming-best-management-practices-2/2023-08-21/
LOCATION:Emerson Point Preserve\, 5801 17th St W\, Palmetto\, FL\, 34221\, United States
CATEGORIES:Coastal & Wetlands,Gardening & Landscaping,Home & Lifestyle,Invasive & Intrusive Species,Local Community,Workshops & Classes
GEO:27.532876;-82.625834
X-APPLE-STRUCTURED-LOCATION;VALUE=URI;X-ADDRESS=Emerson Point Preserve 5801 17th St W Palmetto FL 34221 United States;X-APPLE-RADIUS=500;X-TITLE=5801 17th St W:geo:-82.625834,27.532876
END:VEVENT
BEGIN:VEVENT
DTSTART;TZID=America/New_York:20230824T100000
DTEND;TZID=America/New_York:20230824T113000
DTSTAMP:20260421T162256
CREATED:20230728T205517Z
LAST-MODIFIED:20230728T205614Z
UID:10002810-1692871200-1692876600@baysoundings.com
SUMMARY:Dragonfly Discovery Walk
DESCRIPTION:Join local dragonfly expert Paul Trunk as we explore the Preserve looking for dragonflies. \nBrooker Creek Preserve is an excellent area that is home to approximately 20+ species of odonates. \nWe will learn about the natural history of dragonflies and their importance to a healthy ecosystem. \n>>> REGISTER HERE <<< \nBring your binoculars and also a camera if you enjoy taking pictures. Registration is required. \n>>> REGISTER HERE <<<
URL:https://baysoundings.com/event/dragonfly-discovery-walk-2-2/2023-08-24/
LOCATION:Brooker Creek Environmental Education Center\, 3940 Keystone Road\, Tarpon Springs\, FL\, 34688\, United States
CATEGORIES:Insects,Native Flora & Fauna,Workshops & Classes
GEO:28.136639;-82.656421
X-APPLE-STRUCTURED-LOCATION;VALUE=URI;X-ADDRESS=Brooker Creek Environmental Education Center 3940 Keystone Road Tarpon Springs FL 34688 United States;X-APPLE-RADIUS=500;X-TITLE=3940 Keystone Road:geo:-82.656421,28.136639
END:VEVENT
END:VCALENDAR