BEGIN:VCALENDAR
VERSION:2.0
PRODID:-//Bay Soundings - ECPv6.15.11//NONSGML v1.0//EN
CALSCALE:GREGORIAN
METHOD:PUBLISH
X-ORIGINAL-URL:https://baysoundings.com
X-WR-CALDESC:Events for Bay Soundings
REFRESH-INTERVAL;VALUE=DURATION:PT1H
X-Robots-Tag:noindex
X-PUBLISHED-TTL:PT1H
BEGIN:VTIMEZONE
TZID:America/New_York
BEGIN:DAYLIGHT
TZOFFSETFROM:-0500
TZOFFSETTO:-0400
TZNAME:EDT
DTSTART:20220313T070000
END:DAYLIGHT
BEGIN:STANDARD
TZOFFSETFROM:-0400
TZOFFSETTO:-0500
TZNAME:EST
DTSTART:20221106T060000
END:STANDARD
BEGIN:DAYLIGHT
TZOFFSETFROM:-0500
TZOFFSETTO:-0400
TZNAME:EDT
DTSTART:20230312T070000
END:DAYLIGHT
BEGIN:STANDARD
TZOFFSETFROM:-0400
TZOFFSETTO:-0500
TZNAME:EST
DTSTART:20231105T060000
END:STANDARD
BEGIN:DAYLIGHT
TZOFFSETFROM:-0500
TZOFFSETTO:-0400
TZNAME:EDT
DTSTART:20240310T070000
END:DAYLIGHT
BEGIN:STANDARD
TZOFFSETFROM:-0400
TZOFFSETTO:-0500
TZNAME:EST
DTSTART:20241103T060000
END:STANDARD
END:VTIMEZONE
BEGIN:VEVENT
DTSTART;TZID=America/New_York:20230701T083000
DTEND;TZID=America/New_York:20230701T093000
DTSTAMP:20260421T180009
CREATED:20230627T225428Z
LAST-MODIFIED:20230627T225428Z
UID:10002711-1688200200-1688203800@baysoundings.com
SUMMARY:Composting Workshop
DESCRIPTION:Composting – learn how to turn trash into treasure! \nLearn how to put your everyday food waste and organic materials to work for you! Hillsborough County and City of Tampa residents/employees will receive a compost bin\, compost bucket and thermometer after attending the workshop. (Limit 1 per household and the representative of the household must be an adult.) Please arrive 15 minutes before the program starts. \n>>> IN PERSON REGISTRATION <<<\n>>> WEBINAR REGISTRATION <<<
URL:https://baysoundings.com/event/composting-workshop-13-2/
LOCATION:UF/IFAS Extension\, Hillsborough County\, 5339 County Road 579\, Seffner\, FL\, 33584\, United States
CATEGORIES:Gardening & Landscaping,Home & Lifestyle,Recycling,WEBINARS & ONLINE CLASSES,Workshops & Classes
GEO:27.9914092;-82.3022317
X-APPLE-STRUCTURED-LOCATION;VALUE=URI;X-ADDRESS=UF/IFAS Extension Hillsborough County 5339 County Road 579 Seffner FL 33584 United States;X-APPLE-RADIUS=500;X-TITLE=5339 County Road 579:geo:-82.3022317,27.9914092
END:VEVENT
BEGIN:VEVENT
DTSTART;TZID=America/New_York:20230701T093000
DTEND;TZID=America/New_York:20230701T110000
DTSTAMP:20260421T180009
CREATED:20230627T225849Z
LAST-MODIFIED:20230627T225849Z
UID:10002712-1688203800-1688209200@baysoundings.com
SUMMARY:Microirrigation Workshop
DESCRIPTION:Learn how to save water when watering your garden. \nLearn how you can have healthy and attractive landscape beds while conserving water. This irrigation method not only conserves water\, but is not limited by current water restrictions as is traditional in-ground irrigation. Hillsborough County and City of Tampa residents/employees will receive a microirrigation kit after attending the workshop. (Limit 1 kit per household and the representative of the household must be an adult.) \n>>> IN PERSON REGISTRATION <<<\n>>> WEBINAR REGISTRATION <<<
URL:https://baysoundings.com/event/microirrigation-workshop-14-2/
LOCATION:UF/IFAS Extension\, Hillsborough County\, 5339 County Road 579\, Seffner\, FL\, 33584\, United States
CATEGORIES:Conservation & Ecology,Gardening & Landscaping,Home & Lifestyle,Local Community,WEBINARS & ONLINE CLASSES,Workshops & Classes
GEO:27.9914092;-82.3022317
X-APPLE-STRUCTURED-LOCATION;VALUE=URI;X-ADDRESS=UF/IFAS Extension Hillsborough County 5339 County Road 579 Seffner FL 33584 United States;X-APPLE-RADIUS=500;X-TITLE=5339 County Road 579:geo:-82.3022317,27.9914092
END:VEVENT
BEGIN:VEVENT
DTSTART;TZID=America/New_York:20230701T110000
DTEND;TZID=America/New_York:20230701T120000
DTSTAMP:20260421T180009
CREATED:20230627T231618Z
LAST-MODIFIED:20230627T231618Z
UID:10002713-1688209200-1688212800@baysoundings.com
SUMMARY:Rainwater Harvesting Workshop
DESCRIPTION:Harvest some of that rain to help in your garden! \nLearn how to collect rainwater for ornamental plant irrigation while reducing erosion and stormwater runoff\, and the use of non-potable water for irrigation. Hillsborough County and City of Tampa residents/employees will receive one 45-55 gallon plastic food-grade barrel after attending the workshop. (1 per household and the representative of the household must be an adult.). \n>>> IN PERSON REGISTRATION <<<\n>>> WEBINAR REGISTRATION <<< \n 
URL:https://baysoundings.com/event/rainwater-harvesting-workshop-13/
LOCATION:UF/IFAS Extension\, Hillsborough County\, 5339 County Road 579\, Seffner\, FL\, 33584\, United States
CATEGORIES:Clean Water,Conservation & Ecology,Gardening & Landscaping,Home & Lifestyle,Local Community,Recycling,WEBINARS & ONLINE CLASSES,Workshops & Classes
GEO:27.9914092;-82.3022317
X-APPLE-STRUCTURED-LOCATION;VALUE=URI;X-ADDRESS=UF/IFAS Extension Hillsborough County 5339 County Road 579 Seffner FL 33584 United States;X-APPLE-RADIUS=500;X-TITLE=5339 County Road 579:geo:-82.3022317,27.9914092
END:VEVENT
BEGIN:VEVENT
DTSTART;VALUE=DATE:20230705
DTEND;VALUE=DATE:20230706
DTSTAMP:20260421T180009
CREATED:20230529T191008Z
LAST-MODIFIED:20230529T191153Z
UID:10002246-1688515200-1688601599@baysoundings.com
SUMMARY:Scientific Literacy: 4-Part Series
DESCRIPTION:If you are curious about the world\, and want to be better equipped at getting at the truth\, join us for a new webinar series in scientific literacy! Starting with an overview of statistics and the core of what science is\, we will work our way through several popular and peer-reviewed articles\, discussing how to read and think critically. Topics we will cover include different forms of bias\, probability theory\, regression to the mean\, and the ever-infamous p-value. We will also talk about the implications of summarizing and “popularizing” results into ever-shorter soundbites\, designed for easy digestion by the general public\, but often at the expense of what the data actually tell us. \nThe target audience for this series is high school and older. \nThe first session in this four-part series will be an introduction to scientific literacy. The following three sessions will be a classroom style discussion looking at a specific science article and/or paper. Links to assigned papers for classroom discussions will be sent in a follow-up email. \nSeries Overview:\nSession 1: Introduction of Scientific Literacy Presented by Brian Magnier\nSession 2: We’ll look at our 1st specific article or paper. Come ready to discuss!\nSession 3: We’ll look at our 2nd specific article or paper. Come ready to discuss!\nSession 4: We’ll look at our 3rd specific article or paper. Come ready to discuss\, plus final wrap up and overview of entire series. \nThis series is led by Brian Magnier alongside Brooker Creek Preserve Staff. Brian Magnier is a naturalist and wildlife photographer. He studied ecology and evolutionary biology at Cornell University\, where his passion for the natural world flourished. \n>>> RESERVE A SPOT <<<
URL:https://baysoundings.com/event/scientific-literacy-4-part-series/2023-07-05/
LOCATION:Brooker Creek Environmental Education Center\, 3940 Keystone Road\, Tarpon Springs\, FL\, 34688\, United States
CATEGORIES:Career Paths & Enhancement,For Teachers & Educators,Homeschool,Lectures & Seminars,Local Community,Schools & Education,Science & Technology,Workshops & Classes
GEO:28.136639;-82.656421
X-APPLE-STRUCTURED-LOCATION;VALUE=URI;X-ADDRESS=Brooker Creek Environmental Education Center 3940 Keystone Road Tarpon Springs FL 34688 United States;X-APPLE-RADIUS=500;X-TITLE=3940 Keystone Road:geo:-82.656421,28.136639
END:VEVENT
BEGIN:VEVENT
DTSTART;TZID=America/New_York:20230707T100000
DTEND;TZID=America/New_York:20230707T120000
DTSTAMP:20260421T180009
CREATED:20230627T220442Z
LAST-MODIFIED:20230627T220442Z
UID:10002703-1688724000-1688731200@baysoundings.com
SUMMARY:Vegetable Gardening
DESCRIPTION:A beginner’s guide to vegetable gardening in Florida! \nJoin us for Vegetable Gardening! In this two-hour workshop\, we will be covering basic vegetable gardening in Central Florida. Topics include planting seasons\, variety selections\, cultivation techniques\, fertilizer\, and more. For more information\, please contact\, Mack Lessig\, at (941) 722-4521 ext.1821 or mlessig@ufl.edu. \n>>> REGISTER HERE <<<
URL:https://baysoundings.com/event/vegetable-gardening/
LOCATION:UF/IFAS Manatee County Extension\, 1303 17th Street West\, Palmetto\, FL\, 34221\, United States
CATEGORIES:Agriculture & Botany,Farming,Food & Cooking,Gardening & Landscaping,Workshops & Classes
GEO:27.526707;-82.580054
X-APPLE-STRUCTURED-LOCATION;VALUE=URI;X-ADDRESS=UF/IFAS Manatee County Extension 1303 17th Street West Palmetto FL 34221 United States;X-APPLE-RADIUS=500;X-TITLE=1303 17th Street West:geo:-82.580054,27.526707
END:VEVENT
BEGIN:VEVENT
DTSTART;TZID=America/New_York:20230710T183000
DTEND;TZID=America/New_York:20230710T200000
DTSTAMP:20260421T180009
CREATED:20230627T221304Z
LAST-MODIFIED:20230627T221426Z
UID:10002704-1689013800-1689019200@baysoundings.com
SUMMARY:Uncommon Edibles
DESCRIPTION:Learn about uncommon fruits\, vegetables\, herbs\, and spices! \nJoin experts from UF/IFAS Extension and the Manatee Rare Fruit Council to discover some of the lesser known edible plants that can be a successful addition to your garden or landscape. Attendees will tour the fruit tree orchard and participate in a planting activity. \n>>> REGISTER HERE <<<
URL:https://baysoundings.com/event/uncommon-edibles/
LOCATION:Palma Sola Botanical Park\, 9800 17th Avenue Northwest\, Bradenton\, FL\, 34209\, United States
CATEGORIES:Agriculture & Botany,Farming,Food & Cooking,Gardening & Landscaping,Workshops & Classes
END:VEVENT
BEGIN:VEVENT
DTSTART;VALUE=DATE:20230712
DTEND;VALUE=DATE:20230713
DTSTAMP:20260421T180009
CREATED:20230529T191008Z
LAST-MODIFIED:20230529T191153Z
UID:10002247-1689120000-1689206399@baysoundings.com
SUMMARY:Scientific Literacy: 4-Part Series
DESCRIPTION:If you are curious about the world\, and want to be better equipped at getting at the truth\, join us for a new webinar series in scientific literacy! Starting with an overview of statistics and the core of what science is\, we will work our way through several popular and peer-reviewed articles\, discussing how to read and think critically. Topics we will cover include different forms of bias\, probability theory\, regression to the mean\, and the ever-infamous p-value. We will also talk about the implications of summarizing and “popularizing” results into ever-shorter soundbites\, designed for easy digestion by the general public\, but often at the expense of what the data actually tell us. \nThe target audience for this series is high school and older. \nThe first session in this four-part series will be an introduction to scientific literacy. The following three sessions will be a classroom style discussion looking at a specific science article and/or paper. Links to assigned papers for classroom discussions will be sent in a follow-up email. \nSeries Overview:\nSession 1: Introduction of Scientific Literacy Presented by Brian Magnier\nSession 2: We’ll look at our 1st specific article or paper. Come ready to discuss!\nSession 3: We’ll look at our 2nd specific article or paper. Come ready to discuss!\nSession 4: We’ll look at our 3rd specific article or paper. Come ready to discuss\, plus final wrap up and overview of entire series. \nThis series is led by Brian Magnier alongside Brooker Creek Preserve Staff. Brian Magnier is a naturalist and wildlife photographer. He studied ecology and evolutionary biology at Cornell University\, where his passion for the natural world flourished. \n>>> RESERVE A SPOT <<<
URL:https://baysoundings.com/event/scientific-literacy-4-part-series/2023-07-12/
LOCATION:Brooker Creek Environmental Education Center\, 3940 Keystone Road\, Tarpon Springs\, FL\, 34688\, United States
CATEGORIES:Career Paths & Enhancement,For Teachers & Educators,Homeschool,Lectures & Seminars,Local Community,Schools & Education,Science & Technology,Workshops & Classes
GEO:28.136639;-82.656421
X-APPLE-STRUCTURED-LOCATION;VALUE=URI;X-ADDRESS=Brooker Creek Environmental Education Center 3940 Keystone Road Tarpon Springs FL 34688 United States;X-APPLE-RADIUS=500;X-TITLE=3940 Keystone Road:geo:-82.656421,28.136639
END:VEVENT
BEGIN:VEVENT
DTSTART;TZID=America/New_York:20230714T100000
DTEND;TZID=America/New_York:20230714T120000
DTSTAMP:20260421T180009
CREATED:20230627T221756Z
LAST-MODIFIED:20230627T221756Z
UID:10002705-1689328800-1689336000@baysoundings.com
SUMMARY:Bugs\, Bugs\, Bugs
DESCRIPTION:Let us answer all of your insect and pest questions! \nDo you want to learn more about pest and beneficial insects? During this 2-hour class we’ll cover insect life cycles\, managements\, identification\, and more. For more information\, please contact Mack Lessig at (941) 722-4524 ext. 1821 or mlessig@ufl.edu. \n>>> REGISTER HERE <<<
URL:https://baysoundings.com/event/bugs-bugs-bugs/
LOCATION:UF/IFAS Manatee County Extension\, 1303 17th Street West\, Palmetto\, FL\, 34221\, United States
CATEGORIES:Agriculture & Botany,Farming,Gardening & Landscaping,Insects,Invasive & Intrusive Species,Local Community,Native Flora & Fauna,Workshops & Classes
GEO:27.526707;-82.580054
X-APPLE-STRUCTURED-LOCATION;VALUE=URI;X-ADDRESS=UF/IFAS Manatee County Extension 1303 17th Street West Palmetto FL 34221 United States;X-APPLE-RADIUS=500;X-TITLE=1303 17th Street West:geo:-82.580054,27.526707
END:VEVENT
BEGIN:VEVENT
DTSTART;TZID=America/New_York:20230716T140000
DTEND;TZID=America/New_York:20230716T160000
DTSTAMP:20260421T180009
CREATED:20230628T221826Z
LAST-MODIFIED:20230628T221826Z
UID:10002772-1689516000-1689523200@baysoundings.com
SUMMARY:DIY NATURAL BUG SPRAY
DESCRIPTION:Make your own natural bug spray to use while outdoors during the summer months. \nRegistration is required by July 15. \nAges 18 & up welcome \n>>> REGISTER HERE <<<
URL:https://baysoundings.com/event/diy-natural-bug-spray/
LOCATION:Lake Maggiore Environmental Education Center
CATEGORIES:Adult Level,Home & Lifestyle,Insects,Invasive & Intrusive Species,Workshops & Classes
ORGANIZER;CN="Boyd Hill Nature Preserve":MAILTO:stpeteparksrec@stpete.org 
END:VEVENT
BEGIN:VEVENT
DTSTART;TZID=America/New_York:20230718T113000
DTEND;TZID=America/New_York:20230718T133000
DTSTAMP:20260421T180009
CREATED:20230627T222220Z
LAST-MODIFIED:20230627T222220Z
UID:10002706-1689679800-1689687000@baysoundings.com
SUMMARY:Dooryard Citrus Workshop
DESCRIPTION:Join UF/IFAS Extension for a workshop on selection\, planting and care of your dooryard citrus! \nJoin UF/IFAS Extension for a workshop on selection\, planting and care of your dooryard citrus. Citrus greening left many individuals concerned about growing citrus at home\, now with the UF developed Sugar Belle variety\, you can feel confident in growing. \n>>> REGISTER HERE <<<
URL:https://baysoundings.com/event/dooryard-citrus-workshop/
LOCATION:UF/IFAS Manatee County Extension\, 1303 17th Street West\, Palmetto\, FL\, 34221\, United States
CATEGORIES:Agriculture & Botany,Food & Cooking,Gardening & Landscaping,Home & Lifestyle,Workshops & Classes
GEO:27.526707;-82.580054
X-APPLE-STRUCTURED-LOCATION;VALUE=URI;X-ADDRESS=UF/IFAS Manatee County Extension 1303 17th Street West Palmetto FL 34221 United States;X-APPLE-RADIUS=500;X-TITLE=1303 17th Street West:geo:-82.580054,27.526707
END:VEVENT
BEGIN:VEVENT
DTSTART;VALUE=DATE:20230719
DTEND;VALUE=DATE:20230720
DTSTAMP:20260421T180009
CREATED:20230529T191008Z
LAST-MODIFIED:20230529T191153Z
UID:10002248-1689724800-1689811199@baysoundings.com
SUMMARY:Scientific Literacy: 4-Part Series
DESCRIPTION:If you are curious about the world\, and want to be better equipped at getting at the truth\, join us for a new webinar series in scientific literacy! Starting with an overview of statistics and the core of what science is\, we will work our way through several popular and peer-reviewed articles\, discussing how to read and think critically. Topics we will cover include different forms of bias\, probability theory\, regression to the mean\, and the ever-infamous p-value. We will also talk about the implications of summarizing and “popularizing” results into ever-shorter soundbites\, designed for easy digestion by the general public\, but often at the expense of what the data actually tell us. \nThe target audience for this series is high school and older. \nThe first session in this four-part series will be an introduction to scientific literacy. The following three sessions will be a classroom style discussion looking at a specific science article and/or paper. Links to assigned papers for classroom discussions will be sent in a follow-up email. \nSeries Overview:\nSession 1: Introduction of Scientific Literacy Presented by Brian Magnier\nSession 2: We’ll look at our 1st specific article or paper. Come ready to discuss!\nSession 3: We’ll look at our 2nd specific article or paper. Come ready to discuss!\nSession 4: We’ll look at our 3rd specific article or paper. Come ready to discuss\, plus final wrap up and overview of entire series. \nThis series is led by Brian Magnier alongside Brooker Creek Preserve Staff. Brian Magnier is a naturalist and wildlife photographer. He studied ecology and evolutionary biology at Cornell University\, where his passion for the natural world flourished. \n>>> RESERVE A SPOT <<<
URL:https://baysoundings.com/event/scientific-literacy-4-part-series/2023-07-19/
LOCATION:Brooker Creek Environmental Education Center\, 3940 Keystone Road\, Tarpon Springs\, FL\, 34688\, United States
CATEGORIES:Career Paths & Enhancement,For Teachers & Educators,Homeschool,Lectures & Seminars,Local Community,Schools & Education,Science & Technology,Workshops & Classes
GEO:28.136639;-82.656421
X-APPLE-STRUCTURED-LOCATION;VALUE=URI;X-ADDRESS=Brooker Creek Environmental Education Center 3940 Keystone Road Tarpon Springs FL 34688 United States;X-APPLE-RADIUS=500;X-TITLE=3940 Keystone Road:geo:-82.656421,28.136639
END:VEVENT
BEGIN:VEVENT
DTSTART;TZID=America/New_York:20230721T100000
DTEND;TZID=America/New_York:20230721T120000
DTSTAMP:20260421T180009
CREATED:20230627T222902Z
LAST-MODIFIED:20230627T222902Z
UID:10002707-1689933600-1689940800@baysoundings.com
SUMMARY:Veggie Influenza
DESCRIPTION:Be prepared for veggie flu season by getting a shot of information! \nThis workshop is designed to educate the casual gardener about some of the most common vegetable diseases in Florida and in Manatee County. In this roughly two hour class\, participants will learn the basic biology of pathogenic organisms\, how to identify common disease symptoms\, and acquire some basic disease management skills. This workshop is not designed for professional landscapers or pesticide applicators. \n>>> REGISTER HERE <<<
URL:https://baysoundings.com/event/veggie-influenza-3/
LOCATION:UF/IFAS Manatee County Extension\, 1303 17th Street West\, Palmetto\, FL\, 34221\, United States
CATEGORIES:Agriculture & Botany,Farming,Food & Cooking,Gardening & Landscaping,Local Community,Workshops & Classes
GEO:27.526707;-82.580054
X-APPLE-STRUCTURED-LOCATION;VALUE=URI;X-ADDRESS=UF/IFAS Manatee County Extension 1303 17th Street West Palmetto FL 34221 United States;X-APPLE-RADIUS=500;X-TITLE=1303 17th Street West:geo:-82.580054,27.526707
END:VEVENT
BEGIN:VEVENT
DTSTART;VALUE=DATE:20230726
DTEND;VALUE=DATE:20230727
DTSTAMP:20260421T180009
CREATED:20230529T191008Z
LAST-MODIFIED:20230529T191153Z
UID:10002249-1690329600-1690415999@baysoundings.com
SUMMARY:Scientific Literacy: 4-Part Series
DESCRIPTION:If you are curious about the world\, and want to be better equipped at getting at the truth\, join us for a new webinar series in scientific literacy! Starting with an overview of statistics and the core of what science is\, we will work our way through several popular and peer-reviewed articles\, discussing how to read and think critically. Topics we will cover include different forms of bias\, probability theory\, regression to the mean\, and the ever-infamous p-value. We will also talk about the implications of summarizing and “popularizing” results into ever-shorter soundbites\, designed for easy digestion by the general public\, but often at the expense of what the data actually tell us. \nThe target audience for this series is high school and older. \nThe first session in this four-part series will be an introduction to scientific literacy. The following three sessions will be a classroom style discussion looking at a specific science article and/or paper. Links to assigned papers for classroom discussions will be sent in a follow-up email. \nSeries Overview:\nSession 1: Introduction of Scientific Literacy Presented by Brian Magnier\nSession 2: We’ll look at our 1st specific article or paper. Come ready to discuss!\nSession 3: We’ll look at our 2nd specific article or paper. Come ready to discuss!\nSession 4: We’ll look at our 3rd specific article or paper. Come ready to discuss\, plus final wrap up and overview of entire series. \nThis series is led by Brian Magnier alongside Brooker Creek Preserve Staff. Brian Magnier is a naturalist and wildlife photographer. He studied ecology and evolutionary biology at Cornell University\, where his passion for the natural world flourished. \n>>> RESERVE A SPOT <<<
URL:https://baysoundings.com/event/scientific-literacy-4-part-series/2023-07-26/
LOCATION:Brooker Creek Environmental Education Center\, 3940 Keystone Road\, Tarpon Springs\, FL\, 34688\, United States
CATEGORIES:Career Paths & Enhancement,For Teachers & Educators,Homeschool,Lectures & Seminars,Local Community,Schools & Education,Science & Technology,Workshops & Classes
GEO:28.136639;-82.656421
X-APPLE-STRUCTURED-LOCATION;VALUE=URI;X-ADDRESS=Brooker Creek Environmental Education Center 3940 Keystone Road Tarpon Springs FL 34688 United States;X-APPLE-RADIUS=500;X-TITLE=3940 Keystone Road:geo:-82.656421,28.136639
END:VEVENT
BEGIN:VEVENT
DTSTART;TZID=America/New_York:20230726T140000
DTEND;TZID=America/New_York:20230726T160000
DTSTAMP:20260421T180009
CREATED:20230627T223316Z
LAST-MODIFIED:20230627T223316Z
UID:10002708-1690380000-1690387200@baysoundings.com
SUMMARY:Silent Sentinels: The Trees that Outlive Us
DESCRIPTION:Learn about long lived trees\, their history\, cultural significance and how we can manage for their care in urban environments. \nJoin UF/IFAS Extension to learn about long lived trees\, their history\, cultural significance and how we can manage for their care in urban environments. \n>>> REGISTER HERE <<< \n 
URL:https://baysoundings.com/event/silent-sentinels-the-trees-that-outlive-us/
LOCATION:Palma Sola Botanical Garden\, 9800 17th Avenue Northwest\, Bradenton\, FL\, 34209\, United States
CATEGORIES:Coastal & Wetlands,Gardening & Landscaping,Local Community,Native Flora & Fauna,Workshops & Classes
GEO:27.5135044;-82.6598086
X-APPLE-STRUCTURED-LOCATION;VALUE=URI;X-ADDRESS=Palma Sola Botanical Garden 9800 17th Avenue Northwest Bradenton FL 34209 United States;X-APPLE-RADIUS=500;X-TITLE=9800 17th Avenue Northwest:geo:-82.6598086,27.5135044
END:VEVENT
BEGIN:VEVENT
DTSTART;TZID=America/New_York:20230728T100000
DTEND;TZID=America/New_York:20230728T120000
DTSTAMP:20260421T180009
CREATED:20230627T224608Z
LAST-MODIFIED:20230627T224608Z
UID:10002710-1690538400-1690545600@baysoundings.com
SUMMARY:Plant Food 101
DESCRIPTION:Join us for Plant Food 101! Come find out what plants need to grow. \nJoin us for Plant Food 101! In this two-hour workshop\, we will covering basic plant nutrition. Learn about the role that nitrogen\, potassium\, and other elements play within a plant. For more information\, please contact\, Mack Lessig\, at (941) 722-4524 ext.1821 or mlessig@ufl.edu. \n>>> RESERVE A SPOT <<<
URL:https://baysoundings.com/event/plant-food-101-2/
LOCATION:UF/IFAS Manatee County Extension\, 1303 17th Street West\, Palmetto\, FL\, 34221\, United States
CATEGORIES:Agriculture & Botany,Farming,Gardening & Landscaping,Workshops & Classes
GEO:27.526707;-82.580054
X-APPLE-STRUCTURED-LOCATION;VALUE=URI;X-ADDRESS=UF/IFAS Manatee County Extension 1303 17th Street West Palmetto FL 34221 United States;X-APPLE-RADIUS=500;X-TITLE=1303 17th Street West:geo:-82.580054,27.526707
END:VEVENT
BEGIN:VEVENT
DTSTART;TZID=America/New_York:20230730T100000
DTEND;TZID=America/New_York:20230730T120000
DTSTAMP:20260421T180009
CREATED:20230625T184350Z
LAST-MODIFIED:20230625T184350Z
UID:10002314-1690711200-1690718400@baysoundings.com
SUMMARY:Keeping a Nature Journal
DESCRIPTION:Deepen your connection with the natural world through journaling. Learn and try out different journaling techniques used by renowned naturalists. Each participant will receive a simple journal to use during the class and to take home. \nAges 18 yrs & up \n>>> RESERVE A SPOT <<<
URL:https://baysoundings.com/event/keeping-a-nature-journal/
LOCATION:Boyd Hill Nature Preserve Classroom\, 1101 COUNTRY CLUB WY S\, St. Petersburg\, FL\, 33705\, United States
CATEGORIES:Arts, Music & Literature,Geology & Geography,Native Flora & Fauna,Photography,Workshops & Classes
ORGANIZER;CN="Boyd Hill Nature Preserve":MAILTO:stpeteparksrec@stpete.org 
GEO:27.724764;-82.6502749
X-APPLE-STRUCTURED-LOCATION;VALUE=URI;X-ADDRESS=Boyd Hill Nature Preserve Classroom 1101 COUNTRY CLUB WY S St. Petersburg FL 33705 United States;X-APPLE-RADIUS=500;X-TITLE=1101 COUNTRY CLUB WY S:geo:-82.6502749,27.724764
END:VEVENT
END:VCALENDAR