BEGIN:VCALENDAR
VERSION:2.0
PRODID:-//Bay Soundings - ECPv6.15.11//NONSGML v1.0//EN
CALSCALE:GREGORIAN
METHOD:PUBLISH
X-ORIGINAL-URL:https://baysoundings.com
X-WR-CALDESC:Events for Bay Soundings
REFRESH-INTERVAL;VALUE=DURATION:PT1H
X-Robots-Tag:noindex
X-PUBLISHED-TTL:PT1H
BEGIN:VTIMEZONE
TZID:America/New_York
BEGIN:DAYLIGHT
TZOFFSETFROM:-0500
TZOFFSETTO:-0400
TZNAME:EDT
DTSTART:20220313T070000
END:DAYLIGHT
BEGIN:STANDARD
TZOFFSETFROM:-0400
TZOFFSETTO:-0500
TZNAME:EST
DTSTART:20221106T060000
END:STANDARD
BEGIN:DAYLIGHT
TZOFFSETFROM:-0500
TZOFFSETTO:-0400
TZNAME:EDT
DTSTART:20230312T070000
END:DAYLIGHT
BEGIN:STANDARD
TZOFFSETFROM:-0400
TZOFFSETTO:-0500
TZNAME:EST
DTSTART:20231105T060000
END:STANDARD
BEGIN:DAYLIGHT
TZOFFSETFROM:-0500
TZOFFSETTO:-0400
TZNAME:EDT
DTSTART:20240310T070000
END:DAYLIGHT
BEGIN:STANDARD
TZOFFSETFROM:-0400
TZOFFSETTO:-0500
TZNAME:EST
DTSTART:20241103T060000
END:STANDARD
END:VTIMEZONE
BEGIN:VEVENT
DTSTART;TZID=America/New_York:20230401T083000
DTEND;TZID=America/New_York:20230401T093000
DTSTAMP:20260422T231619
CREATED:20230225T210053Z
LAST-MODIFIED:20230324T203622Z
UID:10000772-1680337800-1680341400@baysoundings.com
SUMMARY:Composting Workshop
DESCRIPTION:This workshop is for Hillsborough County and City of Tampa residents/employees only. \nLearn how to put your everyday food waste and organic materials to work for you! Hillsborough County and City of Tampa residents/employees will receive a compost bin\, compost bucket and thermometer after attending the workshop. (Limit 1 per household and the representative of the household must be an adult.) Please arrive 15 minutes before the program starts. \n>>> REGISTRATION <<< \nNOTE: Pick-up of workshop items/giveaways for on-site attendees will be on the date of the workshop or by rescheduling with the workshop presenter. All items must be picked up within 30 days of the date of the workshop. No exceptions.
URL:https://baysoundings.com/event/composting-workshop-12/2023-04-01/
LOCATION:Hillsborough County Extension\, 5339 County Road 579\, Seffner\, FL\, 33584\, United States
CATEGORIES:Local Community,Recycling,WEBINARS & ONLINE CLASSES,Workshops & Classes
END:VEVENT
BEGIN:VEVENT
DTSTART;TZID=America/New_York:20230401T093000
DTEND;TZID=America/New_York:20230401T110000
DTSTAMP:20260422T231619
CREATED:20230225T211851Z
LAST-MODIFIED:20230324T203921Z
UID:10000777-1680341400-1680346800@baysoundings.com
SUMMARY:Microirrigation Workshop
DESCRIPTION:Learn how to save water when watering your garden. \nThis workshop is for Hillsborough County and City of Tampa residents/employees only. \nLearn how you can have healthy and attractive landscape beds while conserving water. This irrigation method not only conserves water\, but is not limited by current water restrictions as is traditional in-ground irrigation. Hillsborough County and City of Tampa residents/employees will receive a microirrigation kit after attending the workshop. (Limit 1 kit per household and the representative of the household must be an adult.) \n>>> REGISTRATION <<< \nNOTE: Pick-up of workshop items/giveaways for on-site attendees will be on the date of the workshop or by rescheduling with the workshop presenter. All items must be picked up within 30 days of the date of the workshop. No exceptions.
URL:https://baysoundings.com/event/microirrigationworkshop/2023-04-01/
LOCATION:Hillsborough County Extension\, 5339 County Road 579\, Seffner\, FL\, 33584\, United States
CATEGORIES:Clean Water,Conservation & Ecology,Gardening & Landscaping,Local Community,WEBINARS & ONLINE CLASSES,Workshops & Classes
END:VEVENT
BEGIN:VEVENT
DTSTART;TZID=America/New_York:20230401T103000
DTEND;TZID=America/New_York:20230401T120000
DTSTAMP:20260422T231619
CREATED:20230323T210225Z
LAST-MODIFIED:20230323T210225Z
UID:10002110-1680345000-1680350400@baysoundings.com
SUMMARY:Dragonflies of West Central Florida
DESCRIPTION:The Natural History of\nDragonflies of West Central Florida \n\n\nLearn about our local dragonfly population\, biology\, and why they are an important part of our ecosystem. Presented by Paul Trunk. Geared towards an adult audience. \nStick around after the program for an optional dragonfly walk\, and bring your binoculars if you have them! \n>>> REGISTER HERE <<< \n\n\n 
URL:https://baysoundings.com/event/dragonflies-of-west-central-florida/
LOCATION:Brooker Creek Environmental Education Center\, 3940 Keystone Road\, Tarpon Springs\, FL\, 34688\, United States
CATEGORIES:Adult Level,Gardening & Landscaping,Insects,Lectures & Seminars,Native Flora & Fauna,Nature Tours & Hikes,Wildlife,Workshops & Classes
GEO:28.136639;-82.656421
X-APPLE-STRUCTURED-LOCATION;VALUE=URI;X-ADDRESS=Brooker Creek Environmental Education Center 3940 Keystone Road Tarpon Springs FL 34688 United States;X-APPLE-RADIUS=500;X-TITLE=3940 Keystone Road:geo:-82.656421,28.136639
END:VEVENT
BEGIN:VEVENT
DTSTART;TZID=America/New_York:20230410T100000
DTEND;TZID=America/New_York:20230410T113000
DTSTAMP:20260422T231619
CREATED:20220921T204915Z
LAST-MODIFIED:20230324T191523Z
UID:10001866-1681120800-1681126200@baysoundings.com
SUMMARY:Turtle Bioartifacts
DESCRIPTION:Turtle Bioartifacts\nAnd What They Can Teach Us \n\nExamine turtle bioartifacts and learn about turtle biology and ecology! \n\n\n\n\n\nDive into turtle science 101 with local herpetologist and environmental educator George L. Heinrich! This hands-on workshop will explore turtle bioartifacts (natural history objects) commonly found during nature forays. Numerous specimens of shells and skulls will allow us to learn about turtle anatomy and species diversity. We will also examine a variety of eggs and dissect gopher tortoise scat. Participants may also get to observe some of the Preserve’s resident gopher tortoises. \nThis workshop will take place outdoors\, under the covered pavilion adjacent to the Cultural and Natural History Center. This program is recommended for ages 16+ and youth should be accompanied by an adult. \nThis program is sponsored by the Friends of Weedon Island. Our Friends support the Weedon Island Preserve through education\, preservation and protection of its habitats\, ecology\, and cultural history. Learn more about our Friends at https://friendsofweedonisland.org/. \n>>> REGISTER HERE <<<
URL:https://baysoundings.com/event/turtle-bioartifacts-2/2023-04-10/
LOCATION:Weedon Island Preserve Cultural and Natural History Center\, 1800 Weedon Drive NE\, St. Petersburg\, FL\, United States
CATEGORIES:Animals & Pets,Biology & Medicine,Homeschool,Native Flora & Fauna,Reptiles & Amphibians,Wildlife,Workshops & Classes
GEO:27.850451;-82.6075539
X-APPLE-STRUCTURED-LOCATION;VALUE=URI;X-ADDRESS=Weedon Island Preserve Cultural and Natural History Center 1800 Weedon Drive NE St. Petersburg FL United States;X-APPLE-RADIUS=500;X-TITLE=1800 Weedon Drive NE:geo:-82.6075539,27.850451
END:VEVENT
BEGIN:VEVENT
DTSTART;TZID=America/New_York:20230411T103000
DTEND;TZID=America/New_York:20230411T123000
DTSTAMP:20260422T231619
CREATED:20230324T205946Z
LAST-MODIFIED:20230324T210736Z
UID:10001347-1681209000-1681216200@baysoundings.com
SUMMARY:Recycle Your Yard & Recycled Yard Art
DESCRIPTION:This fun and educational workshop will showcase what and how you can reduce\, reuse\, recycle and repeat! \nThis workshop is for Hillsborough County residents/employees only. \nThis fun and educational workshop will showcase what and how you can reduce\, reuse\, recycle and repeat! This includes plants and other items in your landscape and home. If you have a good sense of humor\, love to reuse items in your home and landscape\, want to become more creative\, and enjoy seeing artistic yard treasures\, this workshop is for you! \nThere will be several drawings for various pieces of recycled yard art during this workshop. If you are signed on to the Zoom workshop\, your household’s name will be placed in a compost bucket and names will be drawn during the presentation to determine winners. Each winner will be announced after their name is selected. **Product pick-up will be at our office by scheduling an appointment with our Receptionist on/after April 14 at 813-744-5519. Pick up must be made within 30 days of the workshop – NO exceptions. \n>>> REGISTER HERE <<< \nNOTE: There is a non-refundable $5.00 registration fee per household for this workshop. Please be advised\, if you or someone in your household has already attended this workshop or if you reside outside of Hillsborough County\, you are not eligible to attend and your registration fee will not be refunded\, nor is it transferrable to another party or workshop. \nThis workshop will be offered online via ZOOM. No additional software is required and only basic computer skills are necessary. \n**Registrants will receive an emailed Zoom link to access the Webinar the day before the program. *If you do not receive the Zoom link\, please check your Spam folder for an email from Angie Maki (makia@hillsboroughcounty.org). If no link is received\, please contact Angie at 813-744-5519 Ext. 54127 for assistance. \nClosed captioned for the hearing impaired. \nThe University of Florida is committed to providing universal access to all of our events. For disability accommodations such as sign language interpreters and listening devices\, please contact Lynn Barber\, barberl@hillsboroughcounty.org or 813-744-5519 ext. 54105 at least 1 week in advance. Advance notice is necessary to arrange for some accessibility needs. \nFor questions contact: Lynn Barber\, 813-744-5519 ext. 54105 \nThe University of Florida is an equal opportunity institution.
URL:https://baysoundings.com/event/recycle-your-yard-recycled-yard-art-3/
LOCATION:UF/IFAS Extension\, Hillsborough County\, 5339 County Road 579\, Seffner\, FL\, 33584\, United States
CATEGORIES:Arts, Music & Literature,Crafts & Hobbies,Gardening & Landscaping,WEBINARS & ONLINE CLASSES,Workshops & Classes
GEO:27.9914092;-82.3022317
X-APPLE-STRUCTURED-LOCATION;VALUE=URI;X-ADDRESS=UF/IFAS Extension Hillsborough County 5339 County Road 579 Seffner FL 33584 United States;X-APPLE-RADIUS=500;X-TITLE=5339 County Road 579:geo:-82.3022317,27.9914092
END:VEVENT
BEGIN:VEVENT
DTSTART;TZID=America/New_York:20230413T100000
DTEND;TZID=America/New_York:20230413T113000
DTSTAMP:20260422T231619
CREATED:20230324T211301Z
LAST-MODIFIED:20230324T211301Z
UID:10001350-1681380000-1681385400@baysoundings.com
SUMMARY:Gardening with Native Plants
DESCRIPTION:Learn about native plants for your landscape and their benefits to our ecosystem. \nLearn how to garden with native plants and select species that are native to Florida that match your site conditions. Natives provide ecological benefits important to a healthy garden such as habitat for wildlife and food for pollinators. We will talk about native wildflowers\, perennials\, shrubs and trees suitable for planting in Central Florida home landscapes. \n>>> REGISTER HERE <<< \nIf you have any questions\, please contact the UF/IFAS Extension Hillsborough County at (813) 744-5519. \n***The University of Florida is committed to providing universal access to all of our events. For disability accommodations such as sign language interpreters and listening devices\, please contact: Tia Silvasy\, tsilvasy@ufl.edu\, 813-744-5519 Ext. 54145\, at least 1 week in advance. Advance notice is necessary to arrange for some accessibility needs.
URL:https://baysoundings.com/event/gardening-with-native-plants/
LOCATION:UF/IFAS Extension\, Hillsborough County\, 5339 County Road 579\, Seffner\, FL\, 33584\, United States
CATEGORIES:Gardening & Landscaping,Native Flora & Fauna,WEBINARS & ONLINE CLASSES,Workshops & Classes
GEO:27.9914092;-82.3022317
X-APPLE-STRUCTURED-LOCATION;VALUE=URI;X-ADDRESS=UF/IFAS Extension Hillsborough County 5339 County Road 579 Seffner FL 33584 United States;X-APPLE-RADIUS=500;X-TITLE=5339 County Road 579:geo:-82.3022317,27.9914092
END:VEVENT
BEGIN:VEVENT
DTSTART;TZID=America/New_York:20230416T100000
DTEND;TZID=America/New_York:20230416T120000
DTSTAMP:20260422T231619
CREATED:20230323T221129Z
LAST-MODIFIED:20230323T221129Z
UID:10002113-1681639200-1681646400@baysoundings.com
SUMMARY:Intro to Beekeeping
DESCRIPTION:Introduction to Beekeeping:\nA Hobby with Sweet Rewards \nLearn the Basics of Apiculture! \nThis program is an introduction to honey bees and will introduce you to the basics of honey bees\, their biology and the guiding principles of beekeeping. \nInstructor: Robert Burkard\, President of the Friends of Brooker Creek Preserve’s Beekeepers Club \nAdditional Notes: This program will be held in our auditorium. It takes about 10 minutes to drive from the preserve entrance (Keystone Rd.) to the parking lot\, and there is a 2-5 minute walk from the parking lot to the auditorium. Follow signs to the auditorium. \nIn addition to the personal satisfaction of harvesting your own pure natural honey\, many of our food staples would disappear without honey bees for pollination. According to the U.S. Department of Agriculture\, these under-appreciated workers pollinate 80 percent of our flowering crops\, which constitute one-third of everything we eat. Honey bees are important for pollinating familiar crops such as oranges\, grapefruit\, apples\, almonds\, blueberries\, pumpkins\, asparagus\, and cucumbers\, and also contribute to our beef and dairy industries by pollinating alfalfa. Hobbyist beekeepers play a vital role in keeping our honey bee population healthy. \n>>> REGISTER HERE <<<
URL:https://baysoundings.com/event/intro-to-beekeeping-3/
LOCATION:Brooker Creek Environmental Education Center\, 3940 Keystone Road\, Tarpon Springs\, FL\, 34688\, United States
CATEGORIES:Agriculture & Botany,Crafts & Hobbies,Husbandry,Insects,Native Flora & Fauna,Organizational Meetings,Workshops & Classes
ORGANIZER;CN="Friends of Brooker Creek Preserve":MAILTO:info@friendsofbrookercreekpreserve.org
GEO:28.136639;-82.656421
X-APPLE-STRUCTURED-LOCATION;VALUE=URI;X-ADDRESS=Brooker Creek Environmental Education Center 3940 Keystone Road Tarpon Springs FL 34688 United States;X-APPLE-RADIUS=500;X-TITLE=3940 Keystone Road:geo:-82.656421,28.136639
END:VEVENT
BEGIN:VEVENT
DTSTART;TZID=America/New_York:20230429T090000
DTEND;TZID=America/New_York:20230429T160000
DTSTAMP:20260422T231619
CREATED:20230425T193855Z
LAST-MODIFIED:20230425T193855Z
UID:10002124-1682758800-1682784000@baysoundings.com
SUMMARY:Green Thumb Festival
DESCRIPTION:Celebrate Arbor Day at St. Petersburg’s 37th Annual Green Thumb Festival!\n \nFestival activities include:\n➜ The Tree City USA Award + the Green Thumb Annual Awards\n➜ Garden Club of St. Petersburg Flower Show on Saturday from 9 AM 4 PM + Sunday from 9 AM – 3 PM at the Walter Fuller Recreation Center.\n➜ Garden Wagon Parade & Decorating Contest on Saturday\, April 29 at 11 AM a.m. Cash prizes awards in two categories: youth & adults. Register online at greenthumbfestival.com.\n➜ Hands-on workshops for adults sponsored by the Pinellas County Farm Bureau and UF/IFAS Extension. Ages 18 & up. Registration is required. Limited spots. Reserve your spot at greenthumbfestival.com\n➜ Kids crafts and workshops. Registration is required for workshops. Reserve your spots at greenthumbfestival.com.
URL:https://baysoundings.com/event/green-thumb-festival/2023-04-29/
LOCATION:Walter Fuller Park\, 7891 26th Ave. N.\, St. Petersburg\, FL\, 33710\, United States
CATEGORIES:Agriculture & Botany,Crafts & Hobbies,Festivals & Fairs,Gardening & Landscaping,Kids & Families,Local Community,Workshops & Classes
END:VEVENT
BEGIN:VEVENT
DTSTART;TZID=America/New_York:20230429T103000
DTEND;TZID=America/New_York:20230429T120000
DTSTAMP:20260422T231619
CREATED:20230330T174604Z
LAST-MODIFIED:20230330T174604Z
UID:10000305-1682764200-1682769600@baysoundings.com
SUMMARY:Youth Program: Planet Protectors!
DESCRIPTION:Help Protect our Planet! \nFor true nature lovers\, this thrilling program is full of educational fun. It is specifically designed for Florida students to understand what can be done for the environment in their home town and then express that knowledge through multiple artistic mediums. We’ll also meet some very special animal ambassadors! \nPresented by Paige Konger of Paige’s Planet. Sponsored by the Friends of Brooker Creek Preserve. \n>>> REGISTER HERE <<<
URL:https://baysoundings.com/event/youth-program-planet-protectors/
LOCATION:Brooker Creek Environmental Education Center\, 3940 Keystone Road\, Tarpon Springs\, FL\, 34688\, United States
CATEGORIES:Arts, Music & Literature,Coastal & Wetlands,Conservation & Ecology,Crafts & Hobbies,Exhibits,Geology & Geography,Kids & Families,Local Community,Marine Life,Native Flora & Fauna,Wildlife,Workshops & Classes,Youth Programs
ORGANIZER;CN="Friends of Brooker Creek Preserve":MAILTO:info@friendsofbrookercreekpreserve.org
GEO:28.136639;-82.656421
X-APPLE-STRUCTURED-LOCATION;VALUE=URI;X-ADDRESS=Brooker Creek Environmental Education Center 3940 Keystone Road Tarpon Springs FL 34688 United States;X-APPLE-RADIUS=500;X-TITLE=3940 Keystone Road:geo:-82.656421,28.136639
END:VEVENT
BEGIN:VEVENT
DTSTART;TZID=America/New_York:20230430T090000
DTEND;TZID=America/New_York:20230430T160000
DTSTAMP:20260422T231619
CREATED:20230425T193855Z
LAST-MODIFIED:20230425T193855Z
UID:10002125-1682845200-1682870400@baysoundings.com
SUMMARY:Green Thumb Festival
DESCRIPTION:Celebrate Arbor Day at St. Petersburg’s 37th Annual Green Thumb Festival!\n \nFestival activities include:\n➜ The Tree City USA Award + the Green Thumb Annual Awards\n➜ Garden Club of St. Petersburg Flower Show on Saturday from 9 AM 4 PM + Sunday from 9 AM – 3 PM at the Walter Fuller Recreation Center.\n➜ Garden Wagon Parade & Decorating Contest on Saturday\, April 29 at 11 AM a.m. Cash prizes awards in two categories: youth & adults. Register online at greenthumbfestival.com.\n➜ Hands-on workshops for adults sponsored by the Pinellas County Farm Bureau and UF/IFAS Extension. Ages 18 & up. Registration is required. Limited spots. Reserve your spot at greenthumbfestival.com\n➜ Kids crafts and workshops. Registration is required for workshops. Reserve your spots at greenthumbfestival.com.
URL:https://baysoundings.com/event/green-thumb-festival/2023-04-30/
LOCATION:Walter Fuller Park\, 7891 26th Ave. N.\, St. Petersburg\, FL\, 33710\, United States
CATEGORIES:Agriculture & Botany,Crafts & Hobbies,Festivals & Fairs,Gardening & Landscaping,Kids & Families,Local Community,Workshops & Classes
END:VEVENT
END:VCALENDAR