BEGIN:VCALENDAR
VERSION:2.0
PRODID:-//Bay Soundings - ECPv6.15.11//NONSGML v1.0//EN
CALSCALE:GREGORIAN
METHOD:PUBLISH
X-ORIGINAL-URL:https://baysoundings.com
X-WR-CALDESC:Events for Bay Soundings
REFRESH-INTERVAL;VALUE=DURATION:PT1H
X-Robots-Tag:noindex
X-PUBLISHED-TTL:PT1H
BEGIN:VTIMEZONE
TZID:America/New_York
BEGIN:DAYLIGHT
TZOFFSETFROM:-0500
TZOFFSETTO:-0400
TZNAME:EDT
DTSTART:20220313T070000
END:DAYLIGHT
BEGIN:STANDARD
TZOFFSETFROM:-0400
TZOFFSETTO:-0500
TZNAME:EST
DTSTART:20221106T060000
END:STANDARD
BEGIN:DAYLIGHT
TZOFFSETFROM:-0500
TZOFFSETTO:-0400
TZNAME:EDT
DTSTART:20230312T070000
END:DAYLIGHT
BEGIN:STANDARD
TZOFFSETFROM:-0400
TZOFFSETTO:-0500
TZNAME:EST
DTSTART:20231105T060000
END:STANDARD
BEGIN:DAYLIGHT
TZOFFSETFROM:-0500
TZOFFSETTO:-0400
TZNAME:EDT
DTSTART:20240310T070000
END:DAYLIGHT
BEGIN:STANDARD
TZOFFSETFROM:-0400
TZOFFSETTO:-0500
TZNAME:EST
DTSTART:20241103T060000
END:STANDARD
END:VTIMEZONE
BEGIN:VEVENT
DTSTART;TZID=America/New_York:20230304T083000
DTEND;TZID=America/New_York:20230304T093000
DTSTAMP:20260423T171918
CREATED:20230225T210053Z
LAST-MODIFIED:20230324T203622Z
UID:10000771-1677918600-1677922200@baysoundings.com
SUMMARY:Composting Workshop
DESCRIPTION:This workshop is for Hillsborough County and City of Tampa residents/employees only. \nLearn how to put your everyday food waste and organic materials to work for you! Hillsborough County and City of Tampa residents/employees will receive a compost bin\, compost bucket and thermometer after attending the workshop. (Limit 1 per household and the representative of the household must be an adult.) Please arrive 15 minutes before the program starts. \n>>> REGISTRATION <<< \nNOTE: Pick-up of workshop items/giveaways for on-site attendees will be on the date of the workshop or by rescheduling with the workshop presenter. All items must be picked up within 30 days of the date of the workshop. No exceptions.
URL:https://baysoundings.com/event/composting-workshop-12/2023-03-04/
LOCATION:Hillsborough County Extension\, 5339 County Road 579\, Seffner\, FL\, 33584\, United States
CATEGORIES:Local Community,Recycling,WEBINARS & ONLINE CLASSES,Workshops & Classes
END:VEVENT
BEGIN:VEVENT
DTSTART;TZID=America/New_York:20230304T093000
DTEND;TZID=America/New_York:20230304T110000
DTSTAMP:20260423T171918
CREATED:20230225T211851Z
LAST-MODIFIED:20230324T203921Z
UID:10000776-1677922200-1677927600@baysoundings.com
SUMMARY:Microirrigation Workshop
DESCRIPTION:Learn how to save water when watering your garden. \nThis workshop is for Hillsborough County and City of Tampa residents/employees only. \nLearn how you can have healthy and attractive landscape beds while conserving water. This irrigation method not only conserves water\, but is not limited by current water restrictions as is traditional in-ground irrigation. Hillsborough County and City of Tampa residents/employees will receive a microirrigation kit after attending the workshop. (Limit 1 kit per household and the representative of the household must be an adult.) \n>>> REGISTRATION <<< \nNOTE: Pick-up of workshop items/giveaways for on-site attendees will be on the date of the workshop or by rescheduling with the workshop presenter. All items must be picked up within 30 days of the date of the workshop. No exceptions.
URL:https://baysoundings.com/event/microirrigationworkshop/2023-03-04/
LOCATION:Hillsborough County Extension\, 5339 County Road 579\, Seffner\, FL\, 33584\, United States
CATEGORIES:Clean Water,Conservation & Ecology,Gardening & Landscaping,Local Community,WEBINARS & ONLINE CLASSES,Workshops & Classes
END:VEVENT
BEGIN:VEVENT
DTSTART;TZID=America/New_York:20230304T110000
DTEND;TZID=America/New_York:20230304T120000
DTSTAMP:20260423T171918
CREATED:20230225T214910Z
LAST-MODIFIED:20230425T212003Z
UID:10000723-1677927600-1677931200@baysoundings.com
SUMMARY:Rainwater Harvesting Workshop
DESCRIPTION:This workshop is for Hillsborough County and City of Tampa residents/employees only. \nLearn how to collect rainwater for ornamental plant irrigation while reducing erosion and stormwater runoff\, and the use of non-potable water for irrigation. Hillsborough County and City of Tampa residents/employees will receive one 45-55 gallon plastic food-grade barrel after attending the workshop. (1 per household and the representative of the household must be an adult.). \n>>> IN PERSON REGISTRATION <<<\n>>> WEBINAR REGISTRATION <<< \nNOTE: To pick-up workshop items/giveaways you will need to make an appointment with our receptionist at 813-744-5519 to come in and pick up your items. All items must be picked up within 30 days of the date of the workshop. No exceptions.
URL:https://baysoundings.com/event/rainwater-harvesting-workshop-12/2023-03-04/
LOCATION:Hillsborough County Extension\, 5339 County Road 579\, Seffner\, FL\, 33584\, United States
CATEGORIES:Clean Water,Conservation & Ecology,Gardening & Landscaping,Home & Lifestyle,Local Community,Recycling,WEBINARS & ONLINE CLASSES,Workshops & Classes
END:VEVENT
BEGIN:VEVENT
DTSTART;TZID=America/New_York:20230307T103000
DTEND;TZID=America/New_York:20230307T113000
DTSTAMP:20260423T171918
CREATED:20230224T213725Z
LAST-MODIFIED:20230224T213756Z
UID:10000755-1678185000-1678188600@baysoundings.com
SUMMARY:Gardening with Mushrooms
DESCRIPTION:Join UF/IFAS Extension Manatee County for a conversation about using mushrooms to enhance your gardens! \nNot always nefarious\, fungi in the garden can be used to help build soil\, process compost and support plant health. \n>>> REGISTER HERE <<< \nThe University of Florida is committed to providing universal access to all of our events. For disability accommodations such as sign language interpreters and listening devices\, please contact Katie Granberg\, katiebg@ufl.edu\, (941) 722-4524 x 1815 at least 1 week in advance. Advance notice is necessary to arrange for some accessibility needs. \n 
URL:https://baysoundings.com/event/gardening-with-mushrooms-3/2023-03-07/
LOCATION:UF/IFAS Manatee County Extension\, 1303 17th Street West\, Palmetto\, FL\, 34221\, United States
CATEGORIES:Agriculture & Botany,Gardening & Landscaping,Herbs,Workshops & Classes
GEO:27.526707;-82.580054
X-APPLE-STRUCTURED-LOCATION;VALUE=URI;X-ADDRESS=UF/IFAS Manatee County Extension 1303 17th Street West Palmetto FL 34221 United States;X-APPLE-RADIUS=500;X-TITLE=1303 17th Street West:geo:-82.580054,27.526707
END:VEVENT
BEGIN:VEVENT
DTSTART;TZID=America/New_York:20230309T100000
DTEND;TZID=America/New_York:20230309T113000
DTSTAMP:20260423T171918
CREATED:20230225T220416Z
LAST-MODIFIED:20230225T220416Z
UID:10000538-1678356000-1678361400@baysoundings.com
SUMMARY:Butterfly Gardening
DESCRIPTION:This class will teach you how to attract and keep butterflies in your garden year round along with other pollinators and beneficial insects important to a healthy garden. We will talk about key nectar and host plants for Central Florida that you should plant in your yard. Participants will receive some seeds and a butterfly ID brochure after attending the workshop. (Limit 1 kit per household and the representative of the household must be an adult.) \n>>> IN PERSON REGISTRATION <<<\n>>> WEBINAR REGISTRATION <<< \nIf you have any questions\, please contact the UF/IFAS Extension Hillsborough County at (813) 744-5519. \n***The University of Florida is committed to providing universal access to all of our events. For disability accommodations such as sign language interpreters and listening devices\, please contact: Tia Silvasy\, tsilvasy@ufl.edu\, 813-744-5519 Ext. 54145\, at least 1 week in advance. Advance notice is necessary to arrange for some accessibility needs. \nThe University of Florida is an Equal Opportunity Institution.
URL:https://baysoundings.com/event/butterfly-gardening-3/
LOCATION:Hillsborough County Extension\, 5339 County Road 579\, Seffner\, FL\, 33584\, United States
CATEGORIES:Gardening & Landscaping,Insects,Threatened & Endangered Species,WEBINARS & ONLINE CLASSES,Workshops & Classes
END:VEVENT
BEGIN:VEVENT
DTSTART;TZID=America/New_York:20230310T100000
DTEND;TZID=America/New_York:20230310T110000
DTSTAMP:20260423T171918
CREATED:20230223T211857Z
LAST-MODIFIED:20230223T212530Z
UID:10001302-1678442400-1678446000@baysoundings.com
SUMMARY:Family Program: The Pursuit of Plastics
DESCRIPTION:Let’s take a closer look at plastic pollution and how we can help! \n\n\nLara Milligan\, Natural Resources Agent with UF/IFAS Extension Pinellas County will conduct a class with a hands-on activity to teach participants about plastic pollution and the effects on the environment. Join us for some educational family fun! \nRegistration is required. \n>>> REGISTER HERE <<< \nAdditional Notes: This event will be held in our auditorium. It takes about 10 minutes to drive from the preserve entrance (Keystone Rd.) to the main parking lot\, and there is a 3-5 minute walk from the parking lot to the Auditorium. \nPinellas County complies with the Americans with Disabilities Act. If you are a person with a disability who needs any accommodation in order to participate in this class you are entitled\, at no cost to you\, to the provision of certain assistance. Prior to ten (10) working days before the class\, please submit your request to accommodations@pinellascounty.org. In your request\, please be sure to include the date and title of the program you need accommodations for and what specific accommodations you will need.
URL:https://baysoundings.com/event/family-program-the-pursuit-of-plastics/
LOCATION:Brooker Creek Environmental Education Center\, 3940 Keystone Road\, Tarpon Springs\, FL\, 34688\, United States
CATEGORIES:Clean Water,Coastal & Wetlands,Conservation & Ecology,Kids & Families,Lectures & Seminars,Local Community,Marine Life,Maritime Topics,Pollution,Workshops & Classes
GEO:28.136639;-82.656421
X-APPLE-STRUCTURED-LOCATION;VALUE=URI;X-ADDRESS=Brooker Creek Environmental Education Center 3940 Keystone Road Tarpon Springs FL 34688 United States;X-APPLE-RADIUS=500;X-TITLE=3940 Keystone Road:geo:-82.656421,28.136639
END:VEVENT
BEGIN:VEVENT
DTSTART;TZID=America/New_York:20230311T100000
DTEND;TZID=America/New_York:20230311T120000
DTSTAMP:20260423T171918
CREATED:20230224T214848Z
LAST-MODIFIED:20230224T214848Z
UID:10001217-1678528800-1678536000@baysoundings.com
SUMMARY:Plant ID for Beginners
DESCRIPTION:If you’ve ever wondered how to figure out what plant is which\, join this beginner plant ID class! \nNot sure what that plant is in your backyard? New to Florida and unfamiliar with the new species? If you’ve ever wondered how to figure out what plant is which\, join this beginner plant ID class! \n>>> REGISTER HERE <<< \nAn Equal Opportunity Institution. The University of Florida is committed to providing universal access to all of our events. For disability accommodations such as sign language interpreters and listening devices\, please contact our office at (941) 722-4524 at least 1 week in advance. Advance notice is necessary to arrange for some accessibility needs.
URL:https://baysoundings.com/event/plant-id-for-beginners/
LOCATION:Palma Sola Botanical Garden\, 9800 17th Avenue Northwest\, Bradenton\, FL\, 34209\, United States
CATEGORIES:Agriculture & Botany,Gardening & Landscaping,Native Flora & Fauna,Workshops & Classes
GEO:27.5135044;-82.6598086
X-APPLE-STRUCTURED-LOCATION;VALUE=URI;X-ADDRESS=Palma Sola Botanical Garden 9800 17th Avenue Northwest Bradenton FL 34209 United States;X-APPLE-RADIUS=500;X-TITLE=9800 17th Avenue Northwest:geo:-82.6598086,27.5135044
END:VEVENT
BEGIN:VEVENT
DTSTART;TZID=America/New_York:20230316T100000
DTEND;TZID=America/New_York:20230316T110000
DTSTAMP:20260423T171918
CREATED:20230224T213725Z
LAST-MODIFIED:20230224T213756Z
UID:10000756-1678960800-1678964400@baysoundings.com
SUMMARY:Gardening with Mushrooms
DESCRIPTION:Join UF/IFAS Extension Manatee County for a conversation about using mushrooms to enhance your gardens! \nNot always nefarious\, fungi in the garden can be used to help build soil\, process compost and support plant health. \n>>> REGISTER HERE <<< \nThe University of Florida is committed to providing universal access to all of our events. For disability accommodations such as sign language interpreters and listening devices\, please contact Katie Granberg\, katiebg@ufl.edu\, (941) 722-4524 x 1815 at least 1 week in advance. Advance notice is necessary to arrange for some accessibility needs. \n 
URL:https://baysoundings.com/event/gardening-with-mushrooms-3/2023-03-16/
LOCATION:UF/IFAS Manatee County Extension\, 1303 17th Street West\, Palmetto\, FL\, 34221\, United States
CATEGORIES:Agriculture & Botany,Gardening & Landscaping,Herbs,Workshops & Classes
GEO:27.526707;-82.580054
X-APPLE-STRUCTURED-LOCATION;VALUE=URI;X-ADDRESS=UF/IFAS Manatee County Extension 1303 17th Street West Palmetto FL 34221 United States;X-APPLE-RADIUS=500;X-TITLE=1303 17th Street West:geo:-82.580054,27.526707
END:VEVENT
BEGIN:VEVENT
DTSTART;TZID=America/New_York:20230316T140000
DTEND;TZID=America/New_York:20230316T150000
DTSTAMP:20260423T171918
CREATED:20230223T212359Z
LAST-MODIFIED:20230223T212359Z
UID:10002088-1678975200-1678978800@baysoundings.com
SUMMARY:Youth Bird Program
DESCRIPTION:Spring migration has begun\, and Florida is an important stopover site for many bird species! Learn about the challenges birds face on this great journey and how you can help. \nRegistration is required. Please register just your child (children). This is not a drop-off program. Led by Lara Milligan\, Natural Resources Agent with UF/IFAS Extension Pinellas County. \nGeared toward ages 7 – 11. \nAdditional Notes: This event will be held in our auditorium. It takes about 10 minutes to drive from the preserve entrance (Keystone Rd.) to the main parking lot\, and there is a 3-5 minute walk from the parking lot to the Auditorium. \n>>> REGISTER HERE <<<
URL:https://baysoundings.com/event/youth-bird-program/
LOCATION:Brooker Creek Environmental Education Center\, 3940 Keystone Road\, Tarpon Springs\, FL\, 34688\, United States
CATEGORIES:Birds & Birding,Kids & Families,Raptors,Workshops & Classes,Youth Programs
GEO:28.136639;-82.656421
X-APPLE-STRUCTURED-LOCATION;VALUE=URI;X-ADDRESS=Brooker Creek Environmental Education Center 3940 Keystone Road Tarpon Springs FL 34688 United States;X-APPLE-RADIUS=500;X-TITLE=3940 Keystone Road:geo:-82.656421,28.136639
END:VEVENT
BEGIN:VEVENT
DTSTART;TZID=America/New_York:20230316T183000
DTEND;TZID=America/New_York:20230316T200000
DTSTAMP:20260423T171918
CREATED:20230224T220535Z
LAST-MODIFIED:20230224T220535Z
UID:10000955-1678991400-1678996800@baysoundings.com
SUMMARY:Precious Pollinators
DESCRIPTION:Learn about pollinators\, their favorite plants\, and make your own bee box! \nThis program is offered in partnership between UF/IFAS Extension Manatee County\, Palma Sola Botanical Park and the Manatee County Agricultural Museum Inc. This event is family friendly and open to all. \nAGENDA: \n6:30PM Garden Walk and Talk: Focus on pollinator friendly plants and how to incorporate pollinator friendly practices in your home garden. Led by Master Gardener Volunteers. \n7:00PM Break \n7:10PM State of Pollinators Presentation: Learn about our native pollinators from Residential Horticulture Agent\, Alyssa Vinson. \n7:40PM Make and Take Bee Boxes: Build and take home your very own bee box to provide safe habitat to our native bees. \n8:00PM Adjourn \n>>> REGISTER HERE <<< \nThe University of Florida is committed to providing universal access to all of our events. For disability accommodations such as sign language interpreters and listening devices\, please contact Katie Granberg\, katiebg@ufl.edu\, (941) 722-4524 x 1815 at least 1 week in advance. Advance notice is necessary to arrange for some accessibility needs.
URL:https://baysoundings.com/event/precious-pollinators/
LOCATION:Palma Sola Botanical Garden\, 9800 17th Avenue Northwest\, Bradenton\, FL\, 34209\, United States
CATEGORIES:Agriculture & Botany,Conservation & Ecology,Farming,Gardening & Landscaping,Homeschool,Husbandry,Insects,Native Flora & Fauna,Workshops & Classes
GEO:27.5135044;-82.6598086
X-APPLE-STRUCTURED-LOCATION;VALUE=URI;X-ADDRESS=Palma Sola Botanical Garden 9800 17th Avenue Northwest Bradenton FL 34209 United States;X-APPLE-RADIUS=500;X-TITLE=9800 17th Avenue Northwest:geo:-82.6598086,27.5135044
END:VEVENT
BEGIN:VEVENT
DTSTART;TZID=America/New_York:20230324T100000
DTEND;TZID=America/New_York:20230324T120000
DTSTAMP:20260423T171918
CREATED:20230224T221128Z
LAST-MODIFIED:20230224T221128Z
UID:10002094-1679652000-1679659200@baysoundings.com
SUMMARY:Florida-Friendly Landscaping™ for Newcomers
DESCRIPTION:Join us for an introduction to Florida-Friendly Landscaping™! \nNew to Florida? Or just baffled by the plants and conditions here? This class aims to help you get to know us better. We’ll introduce you to the 9 Principles of Florida-Friendly Landscaping™\, why it is so important and how to get the right plant in the right place for future gardening success. There will be plenty of opportunity to ask questions and we’ll take a tour of our demonstration gardens at the end. In-person class. \n>>> REGISTER HERE <<< \nThe University of Florida is committed to providing universal access to all of our events. For disability accommodations such as sign language interpreters and listening devices\, please contact Katie Granberg\, katiebg@ufl.edu\, (941) 722-4524 x 1815 at least 1 week in advance. Advance notice is necessary to arrange for some accessibility needs.
URL:https://baysoundings.com/event/florida-friendly-landscaping-for-newcomers-2/
LOCATION:UF/IFAS Manatee County Extension\, 1303 17th Street West\, Palmetto\, FL\, 34221\, United States
CATEGORIES:Conservation & Ecology,Gardening & Landscaping,Home & Lifestyle,Local Community,Native Flora & Fauna,Workshops & Classes
GEO:27.526707;-82.580054
X-APPLE-STRUCTURED-LOCATION;VALUE=URI;X-ADDRESS=UF/IFAS Manatee County Extension 1303 17th Street West Palmetto FL 34221 United States;X-APPLE-RADIUS=500;X-TITLE=1303 17th Street West:geo:-82.580054,27.526707
END:VEVENT
END:VCALENDAR