BEGIN:VCALENDAR
VERSION:2.0
PRODID:-//Bay Soundings - ECPv6.15.11//NONSGML v1.0//EN
CALSCALE:GREGORIAN
METHOD:PUBLISH
X-ORIGINAL-URL:https://baysoundings.com
X-WR-CALDESC:Events for Bay Soundings
REFRESH-INTERVAL;VALUE=DURATION:PT1H
X-Robots-Tag:noindex
X-PUBLISHED-TTL:PT1H
BEGIN:VTIMEZONE
TZID:America/New_York
BEGIN:DAYLIGHT
TZOFFSETFROM:-0500
TZOFFSETTO:-0400
TZNAME:EDT
DTSTART:20210314T070000
END:DAYLIGHT
BEGIN:STANDARD
TZOFFSETFROM:-0400
TZOFFSETTO:-0500
TZNAME:EST
DTSTART:20211107T060000
END:STANDARD
BEGIN:DAYLIGHT
TZOFFSETFROM:-0500
TZOFFSETTO:-0400
TZNAME:EDT
DTSTART:20220313T070000
END:DAYLIGHT
BEGIN:STANDARD
TZOFFSETFROM:-0400
TZOFFSETTO:-0500
TZNAME:EST
DTSTART:20221106T060000
END:STANDARD
BEGIN:DAYLIGHT
TZOFFSETFROM:-0500
TZOFFSETTO:-0400
TZNAME:EDT
DTSTART:20230312T070000
END:DAYLIGHT
BEGIN:STANDARD
TZOFFSETFROM:-0400
TZOFFSETTO:-0500
TZNAME:EST
DTSTART:20231105T060000
END:STANDARD
END:VTIMEZONE
BEGIN:VEVENT
DTSTART;TZID=America/New_York:20221203T110000
DTEND;TZID=America/New_York:20221203T140000
DTSTAMP:20260425T152937
CREATED:20221122T192850Z
LAST-MODIFIED:20221122T192850Z
UID:10001225-1670065200-1670076000@baysoundings.com
SUMMARY:Holiday Nature Crafts!
DESCRIPTION:>>> REGISTER HERE <<<
URL:https://baysoundings.com/event/holiday-nature-crafts/
LOCATION:Moccasin Lake Environmental Education Center\, 2750 Park Trail Lane\, Clearwater\, FL\, United States
CATEGORIES:Arts, Music & Literature,Crafts & Hobbies,Holiday Events,Kids & Families,Local Community,Recycling,Workshops & Classes,Youth Programs
GEO:27.977104;-82.724462
X-APPLE-STRUCTURED-LOCATION;VALUE=URI;X-ADDRESS=Moccasin Lake Environmental Education Center 2750 Park Trail Lane Clearwater FL United States;X-APPLE-RADIUS=500;X-TITLE=2750 Park Trail Lane:geo:-82.724462,27.977104
END:VEVENT
BEGIN:VEVENT
DTSTART;TZID=America/New_York:20221211T130000
DTEND;TZID=America/New_York:20221211T140000
DTSTAMP:20260425T152937
CREATED:20221121T215326Z
LAST-MODIFIED:20221121T215326Z
UID:10001218-1670763600-1670767200@baysoundings.com
SUMMARY:Cure Your Crabbiness: Explore Weedon’s World of Crabs
DESCRIPTION:Join us to learn more about the types of crabs that we find at Weedon Island and why mangroves are important for these special animals. \n\n\nHave you ever wanted to know more about the small crabs climbing on the mangrove trees along the boardwalk? Join us to learn more about the types of crabs that we find at Weedon Island and why mangroves are important for these special animals. \nThis program will include a presentation inside the Cultural and Natural History Center\, followed by a short walk along the boardwalk to see these crabs up close. \nThis program will be led by Olivia Blondheim\, a Biological Oceanography doctoral student at the University of South Florida College of Marine Science. Her research explores the function of species at the transition zones between habitats. She is interested in the role of mangrove crabs in marine ecosystems and whether that role changes across mangrove and salt marsh habitats. \n>>> REGISTER HERE <<< \nPinellas County complies with the Americans with Disabilities Act. If you are a person with a disability who needs any accommodation in order to participate in this class you are entitled\, at no cost to you\, to the provision of certain assistance. Prior to ten (10) working days before the class\, please submit your request to accommodations@pinellascounty.org and cc weedonisland@pinellas.gov. In your request\, please be sure to include the date and title of the program you need accommodations for\, indicate that the Weedon Island Preserve Cultural and Natural History Center is the program host\, and include what specific accommodations you will need.
URL:https://baysoundings.com/event/cure-your-crabbiness-explore-weedons-world-of-crabs/
LOCATION:Weedon Island Preserve Cultural and Natural History Center\, 1800 Weedon Drive NE\, St. Petersburg\, FL\, United States
CATEGORIES:Coastal & Wetlands,Homeschool,Kids & Families,Lectures & Seminars,Marine Life,Native Flora & Fauna,Workshops & Classes
GEO:27.850451;-82.6075539
X-APPLE-STRUCTURED-LOCATION;VALUE=URI;X-ADDRESS=Weedon Island Preserve Cultural and Natural History Center 1800 Weedon Drive NE St. Petersburg FL United States;X-APPLE-RADIUS=500;X-TITLE=1800 Weedon Drive NE:geo:-82.6075539,27.850451
END:VEVENT
BEGIN:VEVENT
DTSTART;TZID=America/New_York:20221216T100000
DTEND;TZID=America/New_York:20221216T110000
DTSTAMP:20260425T152937
CREATED:20220725T221202Z
LAST-MODIFIED:20221121T201910Z
UID:10001058-1671184800-1671188400@baysoundings.com
SUMMARY:Youth Nest Box Building Workshop
DESCRIPTION:Join us for an in-person workshop to “make and take” a nest box for your yard! \n\n\n\n\n\nHelp our local cavity nesters! We will be building a nest box for a Carolina wren\, which is a year-round resident in Pinellas County. \nIn this youth workshop you will learn about the nesting habits of Carolina wrens\, and other fun facts about this species! Kids (alongside their parent) will build a wren nest box and then have the opportunity to decorate their nest box. \nThis youth program is geared toward ages 6 to 12. Registration is required. Space is limited and this program will cap at 20 participants. Please register just your child (children). This is not a drop-off program. \nRegistration is required. Presented by Lara Milligan\, Pinellas County Natural Resources Agent for UF/IFAS Extension. \n>>> REGISTER HERE <<< \nAdditional Notes: This program will be held in our auditorium. It takes about 10 minutes to drive from the preserve entrance (Keystone Rd.) to the parking lot\, and there is a 2-5 minute walk from the parking lot to the auditorium. Follow signs to the auditorium. \nRefunds will not be granted if you cannot install the nest box in your desired location. \nIf you are attending with friends or family and would like to team up and build one nest box between the group\, please only purchase ONE ticket.
URL:https://baysoundings.com/event/youth-nest-box-building-workshop/2022-12-16/
LOCATION:Brooker Creek Environmental Education Center\, 3940 Keystone Road\, Tarpon Springs\, FL\, 34688\, United States
CATEGORIES:Birds & Birding,Crafts & Hobbies,Gardening & Landscaping,Kids & Families,Workshops & Classes,Youth Programs
GEO:28.136639;-82.656421
X-APPLE-STRUCTURED-LOCATION;VALUE=URI;X-ADDRESS=Brooker Creek Environmental Education Center 3940 Keystone Road Tarpon Springs FL 34688 United States;X-APPLE-RADIUS=500;X-TITLE=3940 Keystone Road:geo:-82.656421,28.136639
END:VEVENT
END:VCALENDAR