BEGIN:VCALENDAR
VERSION:2.0
PRODID:-//Bay Soundings - ECPv6.15.11//NONSGML v1.0//EN
CALSCALE:GREGORIAN
METHOD:PUBLISH
X-ORIGINAL-URL:https://baysoundings.com
X-WR-CALDESC:Events for Bay Soundings
REFRESH-INTERVAL;VALUE=DURATION:PT1H
X-Robots-Tag:noindex
X-PUBLISHED-TTL:PT1H
BEGIN:VTIMEZONE
TZID:America/New_York
BEGIN:DAYLIGHT
TZOFFSETFROM:-0500
TZOFFSETTO:-0400
TZNAME:EDT
DTSTART:20220313T070000
END:DAYLIGHT
BEGIN:STANDARD
TZOFFSETFROM:-0400
TZOFFSETTO:-0500
TZNAME:EST
DTSTART:20221106T060000
END:STANDARD
BEGIN:DAYLIGHT
TZOFFSETFROM:-0500
TZOFFSETTO:-0400
TZNAME:EDT
DTSTART:20230312T070000
END:DAYLIGHT
BEGIN:STANDARD
TZOFFSETFROM:-0400
TZOFFSETTO:-0500
TZNAME:EST
DTSTART:20231105T060000
END:STANDARD
BEGIN:DAYLIGHT
TZOFFSETFROM:-0500
TZOFFSETTO:-0400
TZNAME:EDT
DTSTART:20240310T070000
END:DAYLIGHT
BEGIN:STANDARD
TZOFFSETFROM:-0400
TZOFFSETTO:-0500
TZNAME:EST
DTSTART:20241103T060000
END:STANDARD
END:VTIMEZONE
BEGIN:VEVENT
DTSTART;TZID=America/New_York:20230415T103000
DTEND;TZID=America/New_York:20230415T120000
DTSTAMP:20260421T221110
CREATED:20230323T214737Z
LAST-MODIFIED:20230323T214737Z
UID:10002112-1681554600-1681560000@baysoundings.com
SUMMARY:Swallow-Tailed Kites & People Who Track Them
DESCRIPTION:The Story of Swallow-Tailed Kites\nAnd the People Who Track Them \nSwallow-tailed Kites that breed in North America spend most of their lives on the wing traveling over vast distances. It is a treacherous journey at a treacherous time for this neo-tropical species that breeds primarily in the southern states\, with Florida being their primary breeding grounds. They are highly social birds with intricate lives and are among one of the most beautiful birds in the world. People have tracked them from the ground\, from the water\, from the air and with tracking devices to study their migratory patterns\, their life cycles and their social habits. \nJoin Barbara Walker of the Tampa Bay Raptor Rescue for this enlightening\, photographic enriched program and meet a live kite! \n>>> REGISTER HERE <<< \nSponsored by the Friends of Brooker Creek Preserve.
URL:https://baysoundings.com/event/swallow-tailed-kites-people-who-track-them/
LOCATION:Brooker Creek Environmental Education Center\, 3940 Keystone Road\, Tarpon Springs\, FL\, 34688\, United States
CATEGORIES:Birds & Birding,Coastal & Wetlands,Exhibits,Lectures & Seminars,Wildlife
ORGANIZER;CN="Friends of Brooker Creek Preserve":MAILTO:info@friendsofbrookercreekpreserve.org
GEO:28.136639;-82.656421
X-APPLE-STRUCTURED-LOCATION;VALUE=URI;X-ADDRESS=Brooker Creek Environmental Education Center 3940 Keystone Road Tarpon Springs FL 34688 United States;X-APPLE-RADIUS=500;X-TITLE=3940 Keystone Road:geo:-82.656421,28.136639
END:VEVENT
END:VCALENDAR