BEGIN:VCALENDAR
VERSION:2.0
PRODID:-//Bay Soundings - ECPv6.15.11//NONSGML v1.0//EN
CALSCALE:GREGORIAN
METHOD:PUBLISH
X-ORIGINAL-URL:https://baysoundings.com
X-WR-CALDESC:Events for Bay Soundings
REFRESH-INTERVAL;VALUE=DURATION:PT1H
X-Robots-Tag:noindex
X-PUBLISHED-TTL:PT1H
BEGIN:VTIMEZONE
TZID:America/New_York
BEGIN:DAYLIGHT
TZOFFSETFROM:-0500
TZOFFSETTO:-0400
TZNAME:EDT
DTSTART:20200308T070000
END:DAYLIGHT
BEGIN:STANDARD
TZOFFSETFROM:-0400
TZOFFSETTO:-0500
TZNAME:EST
DTSTART:20201101T060000
END:STANDARD
BEGIN:DAYLIGHT
TZOFFSETFROM:-0500
TZOFFSETTO:-0400
TZNAME:EDT
DTSTART:20210314T070000
END:DAYLIGHT
BEGIN:STANDARD
TZOFFSETFROM:-0400
TZOFFSETTO:-0500
TZNAME:EST
DTSTART:20211107T060000
END:STANDARD
BEGIN:DAYLIGHT
TZOFFSETFROM:-0500
TZOFFSETTO:-0400
TZNAME:EDT
DTSTART:20220313T070000
END:DAYLIGHT
BEGIN:STANDARD
TZOFFSETFROM:-0400
TZOFFSETTO:-0500
TZNAME:EST
DTSTART:20221106T060000
END:STANDARD
END:VTIMEZONE
BEGIN:VEVENT
DTSTART;TZID=America/New_York:20210704T110000
DTEND;TZID=America/New_York:20210704T120000
DTSTAMP:20260421T080205
CREATED:20210613T212206Z
LAST-MODIFIED:20210613T212206Z
UID:10000720-1625396400-1625400000@baysoundings.com
SUMMARY:Ickology!
DESCRIPTION:Click here to register for Ickology!
URL:https://baysoundings.com/event/ickology-2/2021-07-04/
LOCATION:Tampa Bay Watch Marine & Education Center\, 3000 Pinellas Bayway South\, Tierra Verde\, FL\, 33715\, United States
CATEGORIES:Coastal & Wetlands,Kids & Families,Lectures & Seminars,Marine Life,Youth Programs
GEO:27.6549456;-82.7178585
X-APPLE-STRUCTURED-LOCATION;VALUE=URI;X-ADDRESS=Tampa Bay Watch Marine & Education Center 3000 Pinellas Bayway South Tierra Verde FL 33715 United States;X-APPLE-RADIUS=500;X-TITLE=3000 Pinellas Bayway South:geo:-82.7178585,27.6549456
END:VEVENT
BEGIN:VEVENT
DTSTART;TZID=America/New_York:20210710T160000
DTEND;TZID=America/New_York:20210710T200000
DTSTAMP:20260421T080205
CREATED:20210625T223011Z
LAST-MODIFIED:20210625T223011Z
UID:10001475-1625932800-1625947200@baysoundings.com
SUMMARY:IQuest: Welcome to the Jungle
DESCRIPTION:IQuest is a monthly program for smart\, curious middle school students in grades 6 through 8. While each IQuest is different\, you can always expect challenging projects and games that inspire out-of-the-box solutions to real world problems. \nDue to limitations on attendance and staffing\, attendees must pre-register by 11am on the day of the program.  We will be adhering to social distancing measures during all activities and the class size will be limited to 10 children.  Masks will be required for all staff and students\, and all students will be temperature-screened upon arrival. \n\n 4-8 p.m. Saturday\, July 10\nWhere: At The Bishop\nAdmission is $8. Kids only — this is a drop-off program!\nPaid reservations required; includes a slice of pizza and a drink.\n\nJuly 10: “Welcome to the Jungle”\nWhat makes a jungle? How would you live there? Join us to unravel the real world and mythical stories of these mysterious habitats! \n\n\nRegister Now
URL:https://baysoundings.com/event/iquest-welcome-to-the-jungle/
LOCATION:Bishop Museum of Science ﻿and Nature\, 201 10th St. West\, Bradenton\, FL\, 34205\, United States
CATEGORIES:Geology & Geography,History & Culture,Homeschool,Lectures & Seminars,Wildlife,Workshops & Classes,Youth Programs
END:VEVENT
BEGIN:VEVENT
DTSTART;TZID=America/New_York:20210720T080000
DTEND;TZID=America/New_York:20210720T090000
DTSTAMP:20260421T080205
CREATED:20210623T222647Z
LAST-MODIFIED:20210623T222647Z
UID:10000732-1626768000-1626771600@baysoundings.com
SUMMARY:Tortoise Talk
DESCRIPTION:It’s tortoise time! Join us for this informal program on the Valentine House lawn as we take our educational tortoise out to graze! Foraging in the wild is an integral part of a gopher tortoise’s lifestyle\, so we encourage our captive tortoise to graze as much as possible. Get up close with our tortoise. Learn what tortoises need to survive\, how we care for our tortoise\, and why we have him. Finally\, discover what efforts everyone can take to protect these important members of our Florida ecosystems. \nProgram is suitable for all ages. No reservations required. For info contact coral.bass@mymanatee.org . \nRobinson Preserve North Entrance
URL:https://baysoundings.com/event/tortoise-talk/
LOCATION:ROBINSON PRESERVE\, 1704 99th Street Northwest\, Bradenton\, FL\, 34209\, United States
CATEGORIES:Kids & Families,Lectures & Seminars,Reptiles & Amphibians,Wildlife,Youth Programs
ORGANIZER;CN="Manatee County Extension":MAILTO:manatee@ifas.ufl.edu
GEO:27.5144373;-82.6610077
X-APPLE-STRUCTURED-LOCATION;VALUE=URI;X-ADDRESS=ROBINSON PRESERVE 1704 99th Street Northwest Bradenton FL 34209 United States;X-APPLE-RADIUS=500;X-TITLE=1704 99th Street Northwest:geo:-82.6610077,27.5144373
END:VEVENT
END:VCALENDAR