BEGIN:VCALENDAR
VERSION:2.0
PRODID:-//Bay Soundings - ECPv6.15.11//NONSGML v1.0//EN
CALSCALE:GREGORIAN
METHOD:PUBLISH
X-ORIGINAL-URL:https://baysoundings.com
X-WR-CALDESC:Events for Bay Soundings
REFRESH-INTERVAL;VALUE=DURATION:PT1H
X-Robots-Tag:noindex
X-PUBLISHED-TTL:PT1H
BEGIN:VTIMEZONE
TZID:America/New_York
BEGIN:DAYLIGHT
TZOFFSETFROM:-0500
TZOFFSETTO:-0400
TZNAME:EDT
DTSTART:20200308T070000
END:DAYLIGHT
BEGIN:STANDARD
TZOFFSETFROM:-0400
TZOFFSETTO:-0500
TZNAME:EST
DTSTART:20201101T060000
END:STANDARD
BEGIN:DAYLIGHT
TZOFFSETFROM:-0500
TZOFFSETTO:-0400
TZNAME:EDT
DTSTART:20210314T070000
END:DAYLIGHT
BEGIN:STANDARD
TZOFFSETFROM:-0400
TZOFFSETTO:-0500
TZNAME:EST
DTSTART:20211107T060000
END:STANDARD
BEGIN:DAYLIGHT
TZOFFSETFROM:-0500
TZOFFSETTO:-0400
TZNAME:EDT
DTSTART:20220313T070000
END:DAYLIGHT
BEGIN:STANDARD
TZOFFSETFROM:-0400
TZOFFSETTO:-0500
TZNAME:EST
DTSTART:20221106T060000
END:STANDARD
END:VTIMEZONE
BEGIN:VEVENT
DTSTART;TZID=America/New_York:20210616T140000
DTEND;TZID=America/New_York:20210616T150000
DTSTAMP:20260420T111925
CREATED:20210525T192427Z
LAST-MODIFIED:20210525T192427Z
UID:10001457-1623852000-1623855600@baysoundings.com
SUMMARY:Amazing Ospreys
DESCRIPTION:This program leads participants into discovery about the amazing lives of ospreys living in dynamic urban areas. Attendees will learn about conservation and species management techniques used by local organizations to support our local osprey populations. \nPresented by Barb Walker of Moccasin Lake Raptor Sanctuary. Sponsored by the Friends of Brooker Creek Preserve. \nREGISTER HERE
URL:https://baysoundings.com/event/amazing-ospreys/
LOCATION:Online Event
CATEGORIES:Birds & Birding,Coastal & Wetlands,Lectures & Seminars,Marine Life,Native Flora & Fauna,Raptors,WEBINARS & ONLINE CLASSES,Wildlife
ORGANIZER;CN="Friends of Brooker Creek Preserve":MAILTO:info@friendsofbrookercreekpreserve.org
END:VEVENT
BEGIN:VEVENT
DTSTART;TZID=America/New_York:20210617T140000
DTEND;TZID=America/New_York:20210617T150000
DTSTAMP:20260420T111925
CREATED:20210525T192930Z
LAST-MODIFIED:20210525T192930Z
UID:10001458-1623938400-1623942000@baysoundings.com
SUMMARY:Featured Creature: The Coyote
DESCRIPTION:During this program\, UF/IFAS Natural Resources Extension Agent\, Lara Milligan will explore the life history of the coyote and its unique abilities to adapt and survive in urban environments. This presentation will also highlight ways we can learn to coexist with coyotes. If you have seen a coyote in Pinellas County\, you are not alone. Come and learn about this featured creature and its presence in our area. \nREGISTER HERE
URL:https://baysoundings.com/event/featured-creature-the-coyote/
LOCATION:Online Event
CATEGORIES:Kids & Families,Lectures & Seminars,Native Flora & Fauna,WEBINARS & ONLINE CLASSES,Wildlife
END:VEVENT
BEGIN:VEVENT
DTSTART;TZID=America/New_York:20210620T110000
DTEND;TZID=America/New_York:20210620T120000
DTSTAMP:20260420T111925
CREATED:20210613T212206Z
LAST-MODIFIED:20210613T212206Z
UID:10000719-1624186800-1624190400@baysoundings.com
SUMMARY:Ickology!
DESCRIPTION:Click here to register for Ickology!
URL:https://baysoundings.com/event/ickology-2/2021-06-20/
LOCATION:Tampa Bay Watch Marine & Education Center\, 3000 Pinellas Bayway South\, Tierra Verde\, FL\, 33715\, United States
CATEGORIES:Coastal & Wetlands,Kids & Families,Lectures & Seminars,Marine Life,Youth Programs
GEO:27.6549456;-82.7178585
X-APPLE-STRUCTURED-LOCATION;VALUE=URI;X-ADDRESS=Tampa Bay Watch Marine & Education Center 3000 Pinellas Bayway South Tierra Verde FL 33715 United States;X-APPLE-RADIUS=500;X-TITLE=3000 Pinellas Bayway South:geo:-82.7178585,27.6549456
END:VEVENT
BEGIN:VEVENT
DTSTART;TZID=America/New_York:20210623T140000
DTEND;TZID=America/New_York:20210623T150000
DTSTAMP:20260420T111925
CREATED:20210525T193940Z
LAST-MODIFIED:20210525T193940Z
UID:10001460-1624456800-1624460400@baysoundings.com
SUMMARY:Woodpeckers 101
DESCRIPTION:Did you know we have FIVE different kinds of woodpecker in Pinellas? Have you ever even thought about it? Woodpeckers are a fascinating family of birds with some similarities and many differences! Join us to explore these amazing birds. \nPresented by James Stevenson\, UF/IFAS Pinellas County Extension Specialist. \nRecommended for adults. \nREGISTER HERE
URL:https://baysoundings.com/event/woodpeckers-101/
LOCATION:Online Event
CATEGORIES:Adult Level,Birds & Birding,Coastal & Wetlands,Gardening & Landscaping,Lectures & Seminars,Native Flora & Fauna,WEBINARS & ONLINE CLASSES,Wildlife
END:VEVENT
BEGIN:VEVENT
DTSTART;TZID=America/New_York:20210629T140000
DTEND;TZID=America/New_York:20210629T150000
DTSTAMP:20260420T111925
CREATED:20210525T200738Z
LAST-MODIFIED:20210525T211331Z
UID:10000715-1624975200-1624978800@baysoundings.com
SUMMARY:Florida Black Bears
DESCRIPTION:Florida Fish and Wildlife Conservation Commission biologist David Telesco will engage participants by sharing information on the biology\, research\, and management of Florida black bears. \nREGISTER HERE \n \n 
URL:https://baysoundings.com/event/19568/
LOCATION:Online Event
CATEGORIES:Lectures & Seminars,Native Flora & Fauna,WEBINARS & ONLINE CLASSES,Wildlife
END:VEVENT
END:VCALENDAR