BEGIN:VCALENDAR
VERSION:2.0
PRODID:-//Bay Soundings - ECPv6.15.11//NONSGML v1.0//EN
CALSCALE:GREGORIAN
METHOD:PUBLISH
X-ORIGINAL-URL:https://baysoundings.com
X-WR-CALDESC:Events for Bay Soundings
REFRESH-INTERVAL;VALUE=DURATION:PT1H
X-Robots-Tag:noindex
X-PUBLISHED-TTL:PT1H
BEGIN:VTIMEZONE
TZID:America/New_York
BEGIN:DAYLIGHT
TZOFFSETFROM:-0500
TZOFFSETTO:-0400
TZNAME:EDT
DTSTART:20210314T070000
END:DAYLIGHT
BEGIN:STANDARD
TZOFFSETFROM:-0400
TZOFFSETTO:-0500
TZNAME:EST
DTSTART:20211107T060000
END:STANDARD
BEGIN:DAYLIGHT
TZOFFSETFROM:-0500
TZOFFSETTO:-0400
TZNAME:EDT
DTSTART:20220313T070000
END:DAYLIGHT
BEGIN:STANDARD
TZOFFSETFROM:-0400
TZOFFSETTO:-0500
TZNAME:EST
DTSTART:20221106T060000
END:STANDARD
BEGIN:DAYLIGHT
TZOFFSETFROM:-0500
TZOFFSETTO:-0400
TZNAME:EDT
DTSTART:20230312T070000
END:DAYLIGHT
BEGIN:STANDARD
TZOFFSETFROM:-0400
TZOFFSETTO:-0500
TZNAME:EST
DTSTART:20231105T060000
END:STANDARD
END:VTIMEZONE
BEGIN:VEVENT
DTSTART;TZID=America/New_York:20221201T173000
DTEND;TZID=America/New_York:20221201T190000
DTSTAMP:20260425T165530
CREATED:20221122T200659Z
LAST-MODIFIED:20221122T200659Z
UID:10001229-1669915800-1669921200@baysoundings.com
SUMMARY:Holiday Solar System Neighbors Program
DESCRIPTION:Join us in front of the library with our very own NASA ambassador! See how our night sky sparkles with stars this holiday season and witness the incredible view of the Moon\, Jupiter\, and Saturn through the lens of a telescope! All ages welcome. Weather permitting. \n 
URL:https://baysoundings.com/event/holiday-solar-system-neighbors-program/
LOCATION:Clearwater Public Library\, 2741 SR 580\, Clearwater
CATEGORIES:Astronomy & Sky Watching,Kids & Families,Local Community,Science & Technology,Space Exploration
GEO:28.018848;-82.723739
X-APPLE-STRUCTURED-LOCATION;VALUE=URI;X-ADDRESS=Clearwater Public Library 2741 SR 580 Clearwater;X-APPLE-RADIUS=500;X-TITLE=2741 SR 580:geo:-82.723739,28.018848
END:VEVENT
END:VCALENDAR