BEGIN:VCALENDAR
VERSION:2.0
PRODID:-//Bay Soundings - ECPv6.15.11//NONSGML v1.0//EN
CALSCALE:GREGORIAN
METHOD:PUBLISH
X-ORIGINAL-URL:https://baysoundings.com
X-WR-CALDESC:Events for Bay Soundings
REFRESH-INTERVAL;VALUE=DURATION:PT1H
X-Robots-Tag:noindex
X-PUBLISHED-TTL:PT1H
BEGIN:VTIMEZONE
TZID:America/New_York
BEGIN:DAYLIGHT
TZOFFSETFROM:-0500
TZOFFSETTO:-0400
TZNAME:EDT
DTSTART:20180311T070000
END:DAYLIGHT
BEGIN:STANDARD
TZOFFSETFROM:-0400
TZOFFSETTO:-0500
TZNAME:EST
DTSTART:20181104T060000
END:STANDARD
BEGIN:DAYLIGHT
TZOFFSETFROM:-0500
TZOFFSETTO:-0400
TZNAME:EDT
DTSTART:20190310T070000
END:DAYLIGHT
BEGIN:STANDARD
TZOFFSETFROM:-0400
TZOFFSETTO:-0500
TZNAME:EST
DTSTART:20191103T060000
END:STANDARD
BEGIN:DAYLIGHT
TZOFFSETFROM:-0500
TZOFFSETTO:-0400
TZNAME:EDT
DTSTART:20200308T070000
END:DAYLIGHT
BEGIN:STANDARD
TZOFFSETFROM:-0400
TZOFFSETTO:-0500
TZNAME:EST
DTSTART:20201101T060000
END:STANDARD
END:VTIMEZONE
BEGIN:VEVENT
DTSTART;TZID=America/New_York:20190928T180000
DTEND;TZID=America/New_York:20190928T200000
DTSTAMP:20260419T104702
CREATED:20190823T004019Z
LAST-MODIFIED:20190823T004019Z
UID:10000444-1569693600-1569700800@baysoundings.com
SUMMARY:Suncoast Herpetological Society
DESCRIPTION:Guest speakers share their expertise on certain reptile and amphibian\nbreeds on a monthly basis; some bring live animals. Learn fascinating\nfacts on husbandry and diet\, to threats of extinction and how to protect\nthese animals. The group offers presentations with live reptiles and\namphibians to schools\, clubs\, etc.\, teaching responsible pet ownership\,\nconservation and preservation through education.\nkingsnake.com/suncoastherpsociety or call 942-6700 or 479-7676.
URL:https://baysoundings.com/event/suncoast-herpetological-society-2/
LOCATION:Moccasin Lake Environmental Education Center\, 2750 Park Trail Lane\, Clearwater\, FL\, United States
CATEGORIES:Clubs,Native Flora & Fauna,Reptiles & Amphibians,Wildlife
GEO:27.977104;-82.724462
X-APPLE-STRUCTURED-LOCATION;VALUE=URI;X-ADDRESS=Moccasin Lake Environmental Education Center 2750 Park Trail Lane Clearwater FL United States;X-APPLE-RADIUS=500;X-TITLE=2750 Park Trail Lane:geo:-82.724462,27.977104
END:VEVENT
END:VCALENDAR