BEGIN:VCALENDAR
VERSION:2.0
PRODID:-//Bay Soundings - ECPv6.15.11//NONSGML v1.0//EN
CALSCALE:GREGORIAN
METHOD:PUBLISH
X-ORIGINAL-URL:https://baysoundings.com
X-WR-CALDESC:Events for Bay Soundings
REFRESH-INTERVAL;VALUE=DURATION:PT1H
X-Robots-Tag:noindex
X-PUBLISHED-TTL:PT1H
BEGIN:VTIMEZONE
TZID:America/New_York
BEGIN:DAYLIGHT
TZOFFSETFROM:-0500
TZOFFSETTO:-0400
TZNAME:EDT
DTSTART:20180311T070000
END:DAYLIGHT
BEGIN:STANDARD
TZOFFSETFROM:-0400
TZOFFSETTO:-0500
TZNAME:EST
DTSTART:20181104T060000
END:STANDARD
BEGIN:DAYLIGHT
TZOFFSETFROM:-0500
TZOFFSETTO:-0400
TZNAME:EDT
DTSTART:20190310T070000
END:DAYLIGHT
BEGIN:STANDARD
TZOFFSETFROM:-0400
TZOFFSETTO:-0500
TZNAME:EST
DTSTART:20191103T060000
END:STANDARD
BEGIN:DAYLIGHT
TZOFFSETFROM:-0500
TZOFFSETTO:-0400
TZNAME:EDT
DTSTART:20200308T070000
END:DAYLIGHT
BEGIN:STANDARD
TZOFFSETFROM:-0400
TZOFFSETTO:-0500
TZNAME:EST
DTSTART:20201101T060000
END:STANDARD
END:VTIMEZONE
BEGIN:VEVENT
DTSTART;TZID=America/New_York:20190803T140000
DTEND;TZID=America/New_York:20190803T150000
DTSTAMP:20260419T082532
CREATED:20190713T184223Z
LAST-MODIFIED:20190713T184223Z
UID:10000120-1564840800-1564844400@baysoundings.com
SUMMARY:CREATURE FEATURE 
DESCRIPTION:Every Saturday & Sunday at 2 PM\nCost: Admission into Boyd Hill Nature Preserve\nAll ages welcome.\n\nLive animal encounter! Learn interesting facts about a program animal featured at Boyd Hill Nature Preserve.\nContact Boyd Hill Nature Preserve at 727-893-7326 for more information.
URL:https://baysoundings.com/event/creature-feature-2/2019-08-03/
LOCATION:Boyd Hill Nature Preserve Classroom\, 1101 COUNTRY CLUB WY S\, St. Petersburg\, FL\, 33705\, United States
CATEGORIES:Animals & Pets,Birds & Birding,Exhibits,Kids & Families,Lectures & Seminars,Native Flora & Fauna,Reptiles & Amphibians,Wildlife
ORGANIZER;CN="Boyd Hill Nature Preserve":MAILTO:stpeteparksrec@stpete.org 
GEO:27.724764;-82.6502749
X-APPLE-STRUCTURED-LOCATION;VALUE=URI;X-ADDRESS=Boyd Hill Nature Preserve Classroom 1101 COUNTRY CLUB WY S St. Petersburg FL 33705 United States;X-APPLE-RADIUS=500;X-TITLE=1101 COUNTRY CLUB WY S:geo:-82.6502749,27.724764
END:VEVENT
BEGIN:VEVENT
DTSTART;TZID=America/New_York:20190804T140000
DTEND;TZID=America/New_York:20190804T150000
DTSTAMP:20260419T082532
CREATED:20190713T184223Z
LAST-MODIFIED:20190713T184223Z
UID:10000121-1564927200-1564930800@baysoundings.com
SUMMARY:CREATURE FEATURE 
DESCRIPTION:Every Saturday & Sunday at 2 PM\nCost: Admission into Boyd Hill Nature Preserve\nAll ages welcome.\n\nLive animal encounter! Learn interesting facts about a program animal featured at Boyd Hill Nature Preserve.\nContact Boyd Hill Nature Preserve at 727-893-7326 for more information.
URL:https://baysoundings.com/event/creature-feature-2/2019-08-04/
LOCATION:Boyd Hill Nature Preserve Classroom\, 1101 COUNTRY CLUB WY S\, St. Petersburg\, FL\, 33705\, United States
CATEGORIES:Animals & Pets,Birds & Birding,Exhibits,Kids & Families,Lectures & Seminars,Native Flora & Fauna,Reptiles & Amphibians,Wildlife
ORGANIZER;CN="Boyd Hill Nature Preserve":MAILTO:stpeteparksrec@stpete.org 
GEO:27.724764;-82.6502749
X-APPLE-STRUCTURED-LOCATION;VALUE=URI;X-ADDRESS=Boyd Hill Nature Preserve Classroom 1101 COUNTRY CLUB WY S St. Petersburg FL 33705 United States;X-APPLE-RADIUS=500;X-TITLE=1101 COUNTRY CLUB WY S:geo:-82.6502749,27.724764
END:VEVENT
BEGIN:VEVENT
DTSTART;TZID=America/New_York:20190810T140000
DTEND;TZID=America/New_York:20190810T150000
DTSTAMP:20260419T082532
CREATED:20190713T184223Z
LAST-MODIFIED:20190713T184223Z
UID:10000122-1565445600-1565449200@baysoundings.com
SUMMARY:CREATURE FEATURE 
DESCRIPTION:Every Saturday & Sunday at 2 PM\nCost: Admission into Boyd Hill Nature Preserve\nAll ages welcome.\n\nLive animal encounter! Learn interesting facts about a program animal featured at Boyd Hill Nature Preserve.\nContact Boyd Hill Nature Preserve at 727-893-7326 for more information.
URL:https://baysoundings.com/event/creature-feature-2/2019-08-10/
LOCATION:Boyd Hill Nature Preserve Classroom\, 1101 COUNTRY CLUB WY S\, St. Petersburg\, FL\, 33705\, United States
CATEGORIES:Animals & Pets,Birds & Birding,Exhibits,Kids & Families,Lectures & Seminars,Native Flora & Fauna,Reptiles & Amphibians,Wildlife
ORGANIZER;CN="Boyd Hill Nature Preserve":MAILTO:stpeteparksrec@stpete.org 
GEO:27.724764;-82.6502749
X-APPLE-STRUCTURED-LOCATION;VALUE=URI;X-ADDRESS=Boyd Hill Nature Preserve Classroom 1101 COUNTRY CLUB WY S St. Petersburg FL 33705 United States;X-APPLE-RADIUS=500;X-TITLE=1101 COUNTRY CLUB WY S:geo:-82.6502749,27.724764
END:VEVENT
BEGIN:VEVENT
DTSTART;TZID=America/New_York:20190810T190000
DTEND;TZID=America/New_York:20190810T210000
DTSTAMP:20260419T082532
CREATED:20190726T181517Z
LAST-MODIFIED:20190726T181517Z
UID:10000142-1565463600-1565470800@baysoundings.com
SUMMARY:TAMPA BAY TURTLE & TORTOISE SOCIETY
DESCRIPTION:The Tampa Bay Turtle & Tortoise Society assists in conservation of turtles and tortoises. Each month\, a speaker discusses topics that emphasize education\, conservation and proper captive husbandry. The group also conducts at least one field trip\, sometimes two\, as a club.  Call Ralph Till at 515-7443.
URL:https://baysoundings.com/event/tampa-bay-turtle-tortoise-society-2/
LOCATION:Moccasin Lake Environmental Education Center\, 2750 Park Trail Lane\, Clearwater\, FL\, United States
CATEGORIES:Clubs,Reptiles & Amphibians
GEO:27.977104;-82.724462
X-APPLE-STRUCTURED-LOCATION;VALUE=URI;X-ADDRESS=Moccasin Lake Environmental Education Center 2750 Park Trail Lane Clearwater FL United States;X-APPLE-RADIUS=500;X-TITLE=2750 Park Trail Lane:geo:-82.724462,27.977104
END:VEVENT
BEGIN:VEVENT
DTSTART;TZID=America/New_York:20190817T140000
DTEND;TZID=America/New_York:20190817T150000
DTSTAMP:20260419T082532
CREATED:20190713T184223Z
LAST-MODIFIED:20190713T184223Z
UID:10000123-1566050400-1566054000@baysoundings.com
SUMMARY:CREATURE FEATURE 
DESCRIPTION:Every Saturday & Sunday at 2 PM\nCost: Admission into Boyd Hill Nature Preserve\nAll ages welcome.\n\nLive animal encounter! Learn interesting facts about a program animal featured at Boyd Hill Nature Preserve.\nContact Boyd Hill Nature Preserve at 727-893-7326 for more information.
URL:https://baysoundings.com/event/creature-feature-2/2019-08-17/
LOCATION:Boyd Hill Nature Preserve Classroom\, 1101 COUNTRY CLUB WY S\, St. Petersburg\, FL\, 33705\, United States
CATEGORIES:Animals & Pets,Birds & Birding,Exhibits,Kids & Families,Lectures & Seminars,Native Flora & Fauna,Reptiles & Amphibians,Wildlife
ORGANIZER;CN="Boyd Hill Nature Preserve":MAILTO:stpeteparksrec@stpete.org 
GEO:27.724764;-82.6502749
X-APPLE-STRUCTURED-LOCATION;VALUE=URI;X-ADDRESS=Boyd Hill Nature Preserve Classroom 1101 COUNTRY CLUB WY S St. Petersburg FL 33705 United States;X-APPLE-RADIUS=500;X-TITLE=1101 COUNTRY CLUB WY S:geo:-82.6502749,27.724764
END:VEVENT
BEGIN:VEVENT
DTSTART;TZID=America/New_York:20190824T140000
DTEND;TZID=America/New_York:20190824T150000
DTSTAMP:20260419T082532
CREATED:20190713T184223Z
LAST-MODIFIED:20190713T184223Z
UID:10000124-1566655200-1566658800@baysoundings.com
SUMMARY:CREATURE FEATURE 
DESCRIPTION:Every Saturday & Sunday at 2 PM\nCost: Admission into Boyd Hill Nature Preserve\nAll ages welcome.\n\nLive animal encounter! Learn interesting facts about a program animal featured at Boyd Hill Nature Preserve.\nContact Boyd Hill Nature Preserve at 727-893-7326 for more information.
URL:https://baysoundings.com/event/creature-feature-2/2019-08-24/
LOCATION:Boyd Hill Nature Preserve Classroom\, 1101 COUNTRY CLUB WY S\, St. Petersburg\, FL\, 33705\, United States
CATEGORIES:Animals & Pets,Birds & Birding,Exhibits,Kids & Families,Lectures & Seminars,Native Flora & Fauna,Reptiles & Amphibians,Wildlife
ORGANIZER;CN="Boyd Hill Nature Preserve":MAILTO:stpeteparksrec@stpete.org 
GEO:27.724764;-82.6502749
X-APPLE-STRUCTURED-LOCATION;VALUE=URI;X-ADDRESS=Boyd Hill Nature Preserve Classroom 1101 COUNTRY CLUB WY S St. Petersburg FL 33705 United States;X-APPLE-RADIUS=500;X-TITLE=1101 COUNTRY CLUB WY S:geo:-82.6502749,27.724764
END:VEVENT
BEGIN:VEVENT
DTSTART;TZID=America/New_York:20190824T180000
DTEND;TZID=America/New_York:20190824T200000
DTSTAMP:20260419T082532
CREATED:20190726T181747Z
LAST-MODIFIED:20190726T181747Z
UID:10000143-1566669600-1566676800@baysoundings.com
SUMMARY:Suncoast Herpetological Society Meeting
DESCRIPTION:Guest speakers share their expertise on certain reptile and amphibian breeds on a monthly basis; some bring live animals. Learn fascinating facts on husbandry and diet\, to threats of extinction and how to protect these animals. The group offers presentations with live reptiles and amphibians to schools\, clubs\, etc.\, teaching responsible pet ownership\, conservation and preservation through education.  kingsnake.com/suncoastherpsociety or call 942-6700 or 479-7676.
URL:https://baysoundings.com/event/suncoast-herpetological-society-meeting-6/
LOCATION:Moccasin Lake Environmental Education Center\, 2750 Park Trail Lane\, Clearwater\, FL\, United States
CATEGORIES:Clubs,Reptiles & Amphibians
GEO:27.977104;-82.724462
X-APPLE-STRUCTURED-LOCATION;VALUE=URI;X-ADDRESS=Moccasin Lake Environmental Education Center 2750 Park Trail Lane Clearwater FL United States;X-APPLE-RADIUS=500;X-TITLE=2750 Park Trail Lane:geo:-82.724462,27.977104
END:VEVENT
BEGIN:VEVENT
DTSTART;TZID=America/New_York:20190831T140000
DTEND;TZID=America/New_York:20190831T150000
DTSTAMP:20260419T082532
CREATED:20190713T184223Z
LAST-MODIFIED:20190713T184223Z
UID:10000125-1567260000-1567263600@baysoundings.com
SUMMARY:CREATURE FEATURE 
DESCRIPTION:Every Saturday & Sunday at 2 PM\nCost: Admission into Boyd Hill Nature Preserve\nAll ages welcome.\n\nLive animal encounter! Learn interesting facts about a program animal featured at Boyd Hill Nature Preserve.\nContact Boyd Hill Nature Preserve at 727-893-7326 for more information.
URL:https://baysoundings.com/event/creature-feature-2/2019-08-31/
LOCATION:Boyd Hill Nature Preserve Classroom\, 1101 COUNTRY CLUB WY S\, St. Petersburg\, FL\, 33705\, United States
CATEGORIES:Animals & Pets,Birds & Birding,Exhibits,Kids & Families,Lectures & Seminars,Native Flora & Fauna,Reptiles & Amphibians,Wildlife
ORGANIZER;CN="Boyd Hill Nature Preserve":MAILTO:stpeteparksrec@stpete.org 
GEO:27.724764;-82.6502749
X-APPLE-STRUCTURED-LOCATION;VALUE=URI;X-ADDRESS=Boyd Hill Nature Preserve Classroom 1101 COUNTRY CLUB WY S St. Petersburg FL 33705 United States;X-APPLE-RADIUS=500;X-TITLE=1101 COUNTRY CLUB WY S:geo:-82.6502749,27.724764
END:VEVENT
END:VCALENDAR