BEGIN:VCALENDAR
VERSION:2.0
PRODID:-//Bay Soundings - ECPv6.15.11//NONSGML v1.0//EN
CALSCALE:GREGORIAN
METHOD:PUBLISH
X-ORIGINAL-URL:https://baysoundings.com
X-WR-CALDESC:Events for Bay Soundings
REFRESH-INTERVAL;VALUE=DURATION:PT1H
X-Robots-Tag:noindex
X-PUBLISHED-TTL:PT1H
BEGIN:VTIMEZONE
TZID:America/New_York
BEGIN:DAYLIGHT
TZOFFSETFROM:-0500
TZOFFSETTO:-0400
TZNAME:EDT
DTSTART:20220313T070000
END:DAYLIGHT
BEGIN:STANDARD
TZOFFSETFROM:-0400
TZOFFSETTO:-0500
TZNAME:EST
DTSTART:20221106T060000
END:STANDARD
BEGIN:DAYLIGHT
TZOFFSETFROM:-0500
TZOFFSETTO:-0400
TZNAME:EDT
DTSTART:20230312T070000
END:DAYLIGHT
BEGIN:STANDARD
TZOFFSETFROM:-0400
TZOFFSETTO:-0500
TZNAME:EST
DTSTART:20231105T060000
END:STANDARD
BEGIN:DAYLIGHT
TZOFFSETFROM:-0500
TZOFFSETTO:-0400
TZNAME:EDT
DTSTART:20240310T070000
END:DAYLIGHT
BEGIN:STANDARD
TZOFFSETFROM:-0400
TZOFFSETTO:-0500
TZNAME:EST
DTSTART:20241103T060000
END:STANDARD
END:VTIMEZONE
BEGIN:VEVENT
DTSTART;TZID=America/New_York:20230620T080000
DTEND;TZID=America/New_York:20230620T160000
DTSTAMP:20260421T171018
CREATED:20230528T220719Z
LAST-MODIFIED:20230528T220719Z
UID:10002181-1687248000-1687276800@baysoundings.com
SUMMARY:American Eagle Day
DESCRIPTION:It’s American Eagle Day\, stop by and visit our Bald Eagle resident – Roosevelt! \nRoosevelt is an American Bald Eagle who came to the Seaside Seabird Sanctuary with a deformed wing due to an old gunshot wound. As a result\, Roosevelt can’t fly strong enough to be released back into the wild.
URL:https://baysoundings.com/event/american-eagle-day/
LOCATION:Seaside Seabird Sanctuary\, 18328 Gulf Blvd\, Indian Shores\, FL\, 33785\, United States
CATEGORIES:Birds & Birding,Exhibits,Holiday Events,Kids & Families,Raptors
END:VEVENT
BEGIN:VEVENT
DTSTART;TZID=America/New_York:20230620T080000
DTEND;TZID=America/New_York:20230620T170000
DTSTAMP:20260421T171018
CREATED:20230527T212700Z
LAST-MODIFIED:20230527T212700Z
UID:10002150-1687248000-1687280400@baysoundings.com
SUMMARY:Talons\, Beaks & Feathers Camp
DESCRIPTION:Natalie Lloyd will lead campers into the world of birds through an assortment of activities\, fun crafts\, and educational hikes through the park. We will explore how to identify birds\, the different environments they are found in\, and how we can protect our feathered friends. \nAges 7 – 12 \n>>> REGISTER HERE <<<
URL:https://baysoundings.com/event/talons-beaks-feathers-camp/
LOCATION:Boyd Hill Nature Preserve Classroom\, 1101 COUNTRY CLUB WY S\, St. Petersburg\, FL\, 33705\, United States
CATEGORIES:Birds & Birding,Camps & Childcare,Crafts & Hobbies,Homeschool,Native Flora & Fauna,Raptors,Wildlife,Workshops & Classes,Youth Programs
ORGANIZER;CN="Boyd Hill Nature Preserve":MAILTO:stpeteparksrec@stpete.org 
GEO:27.724764;-82.6502749
X-APPLE-STRUCTURED-LOCATION;VALUE=URI;X-ADDRESS=Boyd Hill Nature Preserve Classroom 1101 COUNTRY CLUB WY S St. Petersburg FL 33705 United States;X-APPLE-RADIUS=500;X-TITLE=1101 COUNTRY CLUB WY S:geo:-82.6502749,27.724764
END:VEVENT
END:VCALENDAR