BEGIN:VCALENDAR
VERSION:2.0
PRODID:-//Bay Soundings - ECPv6.15.11//NONSGML v1.0//EN
CALSCALE:GREGORIAN
METHOD:PUBLISH
X-ORIGINAL-URL:https://baysoundings.com
X-WR-CALDESC:Events for Bay Soundings
REFRESH-INTERVAL;VALUE=DURATION:PT1H
X-Robots-Tag:noindex
X-PUBLISHED-TTL:PT1H
BEGIN:VTIMEZONE
TZID:America/New_York
BEGIN:DAYLIGHT
TZOFFSETFROM:-0500
TZOFFSETTO:-0400
TZNAME:EDT
DTSTART:20220313T070000
END:DAYLIGHT
BEGIN:STANDARD
TZOFFSETFROM:-0400
TZOFFSETTO:-0500
TZNAME:EST
DTSTART:20221106T060000
END:STANDARD
BEGIN:DAYLIGHT
TZOFFSETFROM:-0500
TZOFFSETTO:-0400
TZNAME:EDT
DTSTART:20230312T070000
END:DAYLIGHT
BEGIN:STANDARD
TZOFFSETFROM:-0400
TZOFFSETTO:-0500
TZNAME:EST
DTSTART:20231105T060000
END:STANDARD
BEGIN:DAYLIGHT
TZOFFSETFROM:-0500
TZOFFSETTO:-0400
TZNAME:EDT
DTSTART:20240310T070000
END:DAYLIGHT
BEGIN:STANDARD
TZOFFSETFROM:-0400
TZOFFSETTO:-0500
TZNAME:EST
DTSTART:20241103T060000
END:STANDARD
END:VTIMEZONE
BEGIN:VEVENT
DTSTART;TZID=America/New_York:20230304T080000
DTEND;TZID=America/New_York:20230304T100000
DTSTAMP:20260422T121317
CREATED:20220921T223715Z
LAST-MODIFIED:20220921T223715Z
UID:10001882-1677916800-1677924000@baysoundings.com
SUMMARY:Clearwater Audubon Society Bird Walk
DESCRIPTION:Take a guided hike on Moccasin Lake’s nature trail while seeking birds by sight and sound. Bring binoculars and field guides if you have them. Meet in Moccasin Lake Parking Lot. \n>>> REGISTER HERE <<<
URL:https://baysoundings.com/event/clearwater-audubon-society-bird-walk-2/2023-03-04/
LOCATION:Moccasin Lake Environmental Education Center\, 2750 Park Trail Lane\, Clearwater\, FL\, United States
CATEGORIES:Birds & Birding,Coastal & Wetlands,Marine Life,Native Flora & Fauna,Nature Tours & Hikes,Photography,Raptors,Wildlife
GEO:27.977104;-82.724462
X-APPLE-STRUCTURED-LOCATION;VALUE=URI;X-ADDRESS=Moccasin Lake Environmental Education Center 2750 Park Trail Lane Clearwater FL United States;X-APPLE-RADIUS=500;X-TITLE=2750 Park Trail Lane:geo:-82.724462,27.977104
END:VEVENT
BEGIN:VEVENT
DTSTART;TZID=America/New_York:20230306T063000
DTEND;TZID=America/New_York:20230306T083000
DTSTAMP:20260422T121317
CREATED:20220921T225427Z
LAST-MODIFIED:20220921T225427Z
UID:10001890-1678084200-1678091400@baysoundings.com
SUMMARY:Clearwater Audubon Society Meeting
DESCRIPTION:The local chapter of the National Audubon Society conducts field trips to Florida’s natural areas\, supports local environmental education efforts and sponsors environmental educators to Audubon training centers. Everyone is welcome. clearwateraudubonsociety.org \nDETAILS HERE
URL:https://baysoundings.com/event/clearwater-audubon-society-meeting-2/2023-03-06/
LOCATION:Moccasin Lake Environmental Education Center\, 2750 Park Trail Lane\, Clearwater\, FL\, United States
CATEGORIES:Birds & Birding,Clubs,Organizational Meetings,Raptors
GEO:27.977104;-82.724462
X-APPLE-STRUCTURED-LOCATION;VALUE=URI;X-ADDRESS=Moccasin Lake Environmental Education Center 2750 Park Trail Lane Clearwater FL United States;X-APPLE-RADIUS=500;X-TITLE=2750 Park Trail Lane:geo:-82.724462,27.977104
END:VEVENT
BEGIN:VEVENT
DTSTART;TZID=America/New_York:20230316T140000
DTEND;TZID=America/New_York:20230316T150000
DTSTAMP:20260422T121317
CREATED:20230223T212359Z
LAST-MODIFIED:20230223T212359Z
UID:10002088-1678975200-1678978800@baysoundings.com
SUMMARY:Youth Bird Program
DESCRIPTION:Spring migration has begun\, and Florida is an important stopover site for many bird species! Learn about the challenges birds face on this great journey and how you can help. \nRegistration is required. Please register just your child (children). This is not a drop-off program. Led by Lara Milligan\, Natural Resources Agent with UF/IFAS Extension Pinellas County. \nGeared toward ages 7 – 11. \nAdditional Notes: This event will be held in our auditorium. It takes about 10 minutes to drive from the preserve entrance (Keystone Rd.) to the main parking lot\, and there is a 3-5 minute walk from the parking lot to the Auditorium. \n>>> REGISTER HERE <<<
URL:https://baysoundings.com/event/youth-bird-program/
LOCATION:Brooker Creek Environmental Education Center\, 3940 Keystone Road\, Tarpon Springs\, FL\, 34688\, United States
CATEGORIES:Birds & Birding,Kids & Families,Raptors,Workshops & Classes,Youth Programs
GEO:28.136639;-82.656421
X-APPLE-STRUCTURED-LOCATION;VALUE=URI;X-ADDRESS=Brooker Creek Environmental Education Center 3940 Keystone Road Tarpon Springs FL 34688 United States;X-APPLE-RADIUS=500;X-TITLE=3940 Keystone Road:geo:-82.656421,28.136639
END:VEVENT
BEGIN:VEVENT
DTSTART;TZID=America/New_York:20230325T103000
DTEND;TZID=America/New_York:20230325T120000
DTSTAMP:20260422T121317
CREATED:20230223T215555Z
LAST-MODIFIED:20230223T215555Z
UID:10002090-1679740200-1679745600@baysoundings.com
SUMMARY:Raptors Indigenous to Central Florida
DESCRIPTION:Learn about local raptors! \nJoin the Friends of Largo Nature Parks for an educational presentation on raptors. We will examine the similarities and differences between the five primary types of Birds of Prey\, with the help of a few non-releasable raptors from McGough Nature Park! \nFamily Friendly! Presented by the Friends of Largo Nature Parks. Sponsored by the Friends of Brooker Creek Preserve.
URL:https://baysoundings.com/event/raptors-indigenous-to-central-florida/
LOCATION:Brooker Creek Environmental Education Center\, 3940 Keystone Road\, Tarpon Springs\, FL\, 34688\, United States
CATEGORIES:Birds & Birding,Home & Lifestyle,Kids & Families,Lectures & Seminars,Native Flora & Fauna,Raptors,Wildlife,Youth Programs
ORGANIZER;CN="Friends of Brooker Creek Preserve":MAILTO:info@friendsofbrookercreekpreserve.org
GEO:28.136639;-82.656421
X-APPLE-STRUCTURED-LOCATION;VALUE=URI;X-ADDRESS=Brooker Creek Environmental Education Center 3940 Keystone Road Tarpon Springs FL 34688 United States;X-APPLE-RADIUS=500;X-TITLE=3940 Keystone Road:geo:-82.656421,28.136639
END:VEVENT
END:VCALENDAR