BEGIN:VCALENDAR
VERSION:2.0
PRODID:-//Bay Soundings - ECPv6.15.11//NONSGML v1.0//EN
CALSCALE:GREGORIAN
METHOD:PUBLISH
X-ORIGINAL-URL:https://baysoundings.com
X-WR-CALDESC:Events for Bay Soundings
REFRESH-INTERVAL;VALUE=DURATION:PT1H
X-Robots-Tag:noindex
X-PUBLISHED-TTL:PT1H
BEGIN:VTIMEZONE
TZID:America/New_York
BEGIN:DAYLIGHT
TZOFFSETFROM:-0500
TZOFFSETTO:-0400
TZNAME:EDT
DTSTART:20220313T070000
END:DAYLIGHT
BEGIN:STANDARD
TZOFFSETFROM:-0400
TZOFFSETTO:-0500
TZNAME:EST
DTSTART:20221106T060000
END:STANDARD
BEGIN:DAYLIGHT
TZOFFSETFROM:-0500
TZOFFSETTO:-0400
TZNAME:EDT
DTSTART:20230312T070000
END:DAYLIGHT
BEGIN:STANDARD
TZOFFSETFROM:-0400
TZOFFSETTO:-0500
TZNAME:EST
DTSTART:20231105T060000
END:STANDARD
BEGIN:DAYLIGHT
TZOFFSETFROM:-0500
TZOFFSETTO:-0400
TZNAME:EDT
DTSTART:20240310T070000
END:DAYLIGHT
BEGIN:STANDARD
TZOFFSETFROM:-0400
TZOFFSETTO:-0500
TZNAME:EST
DTSTART:20241103T060000
END:STANDARD
END:VTIMEZONE
BEGIN:VEVENT
DTSTART;TZID=America/New_York:20230102T063000
DTEND;TZID=America/New_York:20230102T083000
DTSTAMP:20260423T111537
CREATED:20220921T225427Z
LAST-MODIFIED:20220921T225427Z
UID:10001888-1672641000-1672648200@baysoundings.com
SUMMARY:Clearwater Audubon Society Meeting
DESCRIPTION:The local chapter of the National Audubon Society conducts field trips to Florida’s natural areas\, supports local environmental education efforts and sponsors environmental educators to Audubon training centers. Everyone is welcome. clearwateraudubonsociety.org \nDETAILS HERE
URL:https://baysoundings.com/event/clearwater-audubon-society-meeting-2/2023-01-02/
LOCATION:Moccasin Lake Environmental Education Center\, 2750 Park Trail Lane\, Clearwater\, FL\, United States
CATEGORIES:Birds & Birding,Clubs,Organizational Meetings,Raptors
GEO:27.977104;-82.724462
X-APPLE-STRUCTURED-LOCATION;VALUE=URI;X-ADDRESS=Moccasin Lake Environmental Education Center 2750 Park Trail Lane Clearwater FL United States;X-APPLE-RADIUS=500;X-TITLE=2750 Park Trail Lane:geo:-82.724462,27.977104
END:VEVENT
BEGIN:VEVENT
DTSTART;TZID=America/New_York:20230107T080000
DTEND;TZID=America/New_York:20230107T100000
DTSTAMP:20260423T111537
CREATED:20220921T223715Z
LAST-MODIFIED:20220921T223715Z
UID:10001880-1673078400-1673085600@baysoundings.com
SUMMARY:Clearwater Audubon Society Bird Walk
DESCRIPTION:Take a guided hike on Moccasin Lake’s nature trail while seeking birds by sight and sound. Bring binoculars and field guides if you have them. Meet in Moccasin Lake Parking Lot. \n>>> REGISTER HERE <<<
URL:https://baysoundings.com/event/clearwater-audubon-society-bird-walk-2/2023-01-07/
LOCATION:Moccasin Lake Environmental Education Center\, 2750 Park Trail Lane\, Clearwater\, FL\, United States
CATEGORIES:Birds & Birding,Coastal & Wetlands,Marine Life,Native Flora & Fauna,Nature Tours & Hikes,Photography,Raptors,Wildlife
GEO:27.977104;-82.724462
X-APPLE-STRUCTURED-LOCATION;VALUE=URI;X-ADDRESS=Moccasin Lake Environmental Education Center 2750 Park Trail Lane Clearwater FL United States;X-APPLE-RADIUS=500;X-TITLE=2750 Park Trail Lane:geo:-82.724462,27.977104
END:VEVENT
BEGIN:VEVENT
DTSTART;TZID=America/New_York:20230113T103000
DTEND;TZID=America/New_York:20230113T120000
DTSTAMP:20260423T111537
CREATED:20221230T193931Z
LAST-MODIFIED:20221230T194041Z
UID:10001261-1673605800-1673611200@baysoundings.com
SUMMARY:HEADS UP FOR HAWKS HIKE
DESCRIPTION:An introduction to the diurnal (daytime) birds of prey that soar\, swoop\, and glide through Florida’s skies. Learn about how expert watchers identify raptors by their shapes and flight behavior. As we discuss these fascinating predators\, we will also share a few success stories in the ongoing effort to conserve birds of prey. \n>>> REGISTER HERE <<<
URL:https://baysoundings.com/event/heads-up-for-hawks-hike/
LOCATION:Boyd Hill Nature Preserve Classroom\, 1101 COUNTRY CLUB WY S\, St. Petersburg\, FL\, 33705\, United States
CATEGORIES:Birds & Birding,Coastal & Wetlands,Native Flora & Fauna,Nature Tours & Hikes,Raptors,Wildlife
ORGANIZER;CN="Boyd Hill Nature Preserve":MAILTO:stpeteparksrec@stpete.org 
GEO:27.724764;-82.6502749
X-APPLE-STRUCTURED-LOCATION;VALUE=URI;X-ADDRESS=Boyd Hill Nature Preserve Classroom 1101 COUNTRY CLUB WY S St. Petersburg FL 33705 United States;X-APPLE-RADIUS=500;X-TITLE=1101 COUNTRY CLUB WY S:geo:-82.6502749,27.724764
END:VEVENT
BEGIN:VEVENT
DTSTART;TZID=America/New_York:20230122T080000
DTEND;TZID=America/New_York:20230122T100000
DTSTAMP:20260423T111537
CREATED:20221226T193606Z
LAST-MODIFIED:20221226T193606Z
UID:10000673-1674374400-1674381600@baysoundings.com
SUMMARY:Birds of Brooker Hike
DESCRIPTION:Have you wondered what bird is singing in your backyard? \nDo you see and hear birds but don’t know who they are? If so\, join us for a Beginning Bird Hike to learn how to identify the county’s common birds as we meander along a one-mile trail. Registration is required. \nThis is a free hike\, however space is limited. Please be courteous and do not register unless you plan to attend and cancel your reservation if you can no longer attend. \n>>> REGISTER HERE <<< \nGuided Hike Information \nVolunteer Hike Guides will meet participants outside the Exhibit Hall 10 minutes before the scheduled start time. We strongly suggest all hikers visit the restroom (located in the Classroom Building) before we begin as there are no facilities along the trail. \n\nGuided hikes are under a mile in length\, much of which is on unimproved\, uneven sandy trails.\n\n\nHikes take about two (2) hours to complete.\n\n\nPlease wear sturdy\, closed-toe shoes\, sneakers or boots.\n\n\nInsect repellent (bug spray) is strongly recommended in summer months.\n\n\nBring plenty of drinking water and a snack.\n\n\nA hat\, sunglasses\, and sunscreen are also recommended.\n\n\nPets are not permitted.\n\n\nNo smoking is allowed.\n\n\nTrained volunteers will guide the hike.\n\n 
URL:https://baysoundings.com/event/birds-of-brooker-hike-9/
LOCATION:Brooker Creek Environmental Education Center\, 3940 Keystone Road\, Tarpon Springs\, FL\, 34688\, United States
CATEGORIES:Birds & Birding,Coastal & Wetlands,Native Flora & Fauna,Nature Tours & Hikes,Photography,Raptors
GEO:28.136639;-82.656421
X-APPLE-STRUCTURED-LOCATION;VALUE=URI;X-ADDRESS=Brooker Creek Environmental Education Center 3940 Keystone Road Tarpon Springs FL 34688 United States;X-APPLE-RADIUS=500;X-TITLE=3940 Keystone Road:geo:-82.656421,28.136639
END:VEVENT
END:VCALENDAR