BEGIN:VCALENDAR
VERSION:2.0
PRODID:-//Bay Soundings - ECPv6.15.11//NONSGML v1.0//EN
CALSCALE:GREGORIAN
METHOD:PUBLISH
X-ORIGINAL-URL:https://baysoundings.com
X-WR-CALDESC:Events for Bay Soundings
REFRESH-INTERVAL;VALUE=DURATION:PT1H
X-Robots-Tag:noindex
X-PUBLISHED-TTL:PT1H
BEGIN:VTIMEZONE
TZID:America/New_York
BEGIN:DAYLIGHT
TZOFFSETFROM:-0500
TZOFFSETTO:-0400
TZNAME:EDT
DTSTART:20220313T070000
END:DAYLIGHT
BEGIN:STANDARD
TZOFFSETFROM:-0400
TZOFFSETTO:-0500
TZNAME:EST
DTSTART:20221106T060000
END:STANDARD
BEGIN:DAYLIGHT
TZOFFSETFROM:-0500
TZOFFSETTO:-0400
TZNAME:EDT
DTSTART:20230312T070000
END:DAYLIGHT
BEGIN:STANDARD
TZOFFSETFROM:-0400
TZOFFSETTO:-0500
TZNAME:EST
DTSTART:20231105T060000
END:STANDARD
BEGIN:DAYLIGHT
TZOFFSETFROM:-0500
TZOFFSETTO:-0400
TZNAME:EDT
DTSTART:20240310T070000
END:DAYLIGHT
BEGIN:STANDARD
TZOFFSETFROM:-0400
TZOFFSETTO:-0500
TZNAME:EST
DTSTART:20241103T060000
END:STANDARD
END:VTIMEZONE
BEGIN:VEVENT
DTSTART;TZID=America/New_York:20230520T080000
DTEND;TZID=America/New_York:20230520T110000
DTSTAMP:20260423T095305
CREATED:20230426T192100Z
LAST-MODIFIED:20230426T192100Z
UID:10000807-1684569600-1684580400@baysoundings.com
SUMMARY:Great American Cleanup
DESCRIPTION:Tampa Bay Watch is recruiting volunteers to participate in the Great American Cleanup at Grandview Park and Maximo Park in St. Pete in partnership with Keep Pinellas Beautiful on Saturday\, May 20 from 9 AM – 12 PM. Keep America Beautiful’s Great American Cleanup is the nation’s largest community improvement program which takes place annually during spring in an estimated 15\,000 communities nationwide. A big thank you to the SeaWorld Conservation Fund and Surfing’s Evolution & Preservation Foundation for supporting us in our marine debris efforts and our partnerships with the City of St. Petersburg and Keep Pinellas Beautiful! \nClick your preferred site to register:\nGrandview Park\nMaximo Park
URL:https://baysoundings.com/event/great-american-cleanup-4/
CATEGORIES:Cleanups & Restorations,Coastal & Wetlands,Local Community,Marine Life,Pollution,Volunteering
END:VEVENT
END:VCALENDAR