BEGIN:VCALENDAR
VERSION:2.0
PRODID:-//Bay Soundings - ECPv6.15.11//NONSGML v1.0//EN
CALSCALE:GREGORIAN
METHOD:PUBLISH
X-ORIGINAL-URL:https://baysoundings.com
X-WR-CALDESC:Events for Bay Soundings
REFRESH-INTERVAL;VALUE=DURATION:PT1H
X-Robots-Tag:noindex
X-PUBLISHED-TTL:PT1H
BEGIN:VTIMEZONE
TZID:America/New_York
BEGIN:DAYLIGHT
TZOFFSETFROM:-0500
TZOFFSETTO:-0400
TZNAME:EDT
DTSTART:20230312T070000
END:DAYLIGHT
BEGIN:STANDARD
TZOFFSETFROM:-0400
TZOFFSETTO:-0500
TZNAME:EST
DTSTART:20231105T060000
END:STANDARD
BEGIN:DAYLIGHT
TZOFFSETFROM:-0500
TZOFFSETTO:-0400
TZNAME:EDT
DTSTART:20240310T070000
END:DAYLIGHT
BEGIN:STANDARD
TZOFFSETFROM:-0400
TZOFFSETTO:-0500
TZNAME:EST
DTSTART:20241103T060000
END:STANDARD
BEGIN:DAYLIGHT
TZOFFSETFROM:-0500
TZOFFSETTO:-0400
TZNAME:EDT
DTSTART:20250309T070000
END:DAYLIGHT
BEGIN:STANDARD
TZOFFSETFROM:-0400
TZOFFSETTO:-0500
TZNAME:EST
DTSTART:20251102T060000
END:STANDARD
END:VTIMEZONE
BEGIN:VEVENT
DTSTART;VALUE=DATE:20240203
DTEND;VALUE=DATE:20240204
DTSTAMP:20260421T112634
CREATED:20240106T202123Z
LAST-MODIFIED:20240110T180932Z
UID:10004378-1706950800-1706954400@baysoundings.com
SUMMARY:Circle B Bar Preserve
DESCRIPTION:Circle B Bar Preserve – Polk County\n(One of our most popular field trips) \nBarred Owl\, White Pelicans\, Snail Kite\, Painted Bunting and Bobcats have been seen at this restored preserve.\nNatural wetland and berm trails around retention ponds.\nVisitor Center has facilities but no food. Bring lunch if you want to spend the afternoon here. \nFor info Contact Christine Rowland president@pascoaudubon.com
URL:https://baysoundings.com/event/circle-b-bar-preserve/2024-02-03/
LOCATION:Circle-B-Bar Reserve
CATEGORIES:Birds & Birding,Coastal & Wetlands,Native Flora & Fauna,Nature Tours & Hikes,Photography
END:VEVENT
END:VCALENDAR