BEGIN:VCALENDAR
VERSION:2.0
PRODID:-//Bay Soundings - ECPv6.15.11//NONSGML v1.0//EN
CALSCALE:GREGORIAN
METHOD:PUBLISH
X-ORIGINAL-URL:https://baysoundings.com
X-WR-CALDESC:Events for Bay Soundings
REFRESH-INTERVAL;VALUE=DURATION:PT1H
X-Robots-Tag:noindex
X-PUBLISHED-TTL:PT1H
BEGIN:VTIMEZONE
TZID:America/New_York
BEGIN:DAYLIGHT
TZOFFSETFROM:-0500
TZOFFSETTO:-0400
TZNAME:EDT
DTSTART:20230312T070000
END:DAYLIGHT
BEGIN:STANDARD
TZOFFSETFROM:-0400
TZOFFSETTO:-0500
TZNAME:EST
DTSTART:20231105T060000
END:STANDARD
BEGIN:DAYLIGHT
TZOFFSETFROM:-0500
TZOFFSETTO:-0400
TZNAME:EDT
DTSTART:20240310T070000
END:DAYLIGHT
BEGIN:STANDARD
TZOFFSETFROM:-0400
TZOFFSETTO:-0500
TZNAME:EST
DTSTART:20241103T060000
END:STANDARD
BEGIN:DAYLIGHT
TZOFFSETFROM:-0500
TZOFFSETTO:-0400
TZNAME:EDT
DTSTART:20250309T070000
END:DAYLIGHT
BEGIN:STANDARD
TZOFFSETFROM:-0400
TZOFFSETTO:-0500
TZNAME:EST
DTSTART:20251102T060000
END:STANDARD
END:VTIMEZONE
BEGIN:VEVENT
DTSTART;TZID=America/New_York:20240107T080000
DTEND;TZID=America/New_York:20240107T093000
DTSTAMP:20260421T082126
CREATED:20231220T211939Z
LAST-MODIFIED:20240222T215912Z
UID:10004213-1704614400-1704619800@baysoundings.com
SUMMARY:Sunday Bird Hike
DESCRIPTION:Come out for this “early morning” walk in the woods. \nCome out for this “early morning” walk in the woods with Alexa\, our awesome volunteer\, to seek out the resident and visiting birds of Brooker. Beginners and all levels of birders welcome. Meet in the parking lot at 8:00 a.m. \nThis is a free hike\, however space is limited. Please be courteous and do not register unless you plan to attend and cancel your reservation if you can no longer attend. \n>>> RESERVE A SPOT <<< \nGuided Hike Information \nVolunteer Hike Guides will meet participants in the parking lot 10 minutes before the scheduled start time. We strongly suggest all hikers visit the restroom (located in the Classroom Building) before we begin as there are no facilities along the trail. \n\nGuided hikes are under a mile in length\, much of which is on unimproved\, uneven sandy trails.\n\n\nHikes take about two (2) hours to complete.\n\n\nPlease wear sturdy\, closed-toe shoes\, sneakers or boots.\n\n\nInsect repellent (bug spray) is strongly recommended in summer months.\n\n\nBring plenty of drinking water and a snack.\n\n\nA hat\, sunglasses\, and sunscreen are also recommended.\n\n\nPets are not permitted.\n\n\nNo smoking is allowed.\n\n\nTrained volunteers will guide the hike.\n\nAdditional Notes: It takes about 10 minutes to drive from the preserve entrance (Keystone Rd.) to the parking lot.
URL:https://baysoundings.com/event/sunday-bird-hike-2-4/2024-01-07/
LOCATION:Brooker Creek Environmental Education Center\, 3940 Keystone Road\, Tarpon Springs\, FL\, 34688\, United States
CATEGORIES:Birds & Birding,Coastal & Wetlands,Crafts & Hobbies,Native Flora & Fauna,Nature Tours & Hikes,Photography,Wildlife
GEO:28.136639;-82.656421
X-APPLE-STRUCTURED-LOCATION;VALUE=URI;X-ADDRESS=Brooker Creek Environmental Education Center 3940 Keystone Road Tarpon Springs FL 34688 United States;X-APPLE-RADIUS=500;X-TITLE=3940 Keystone Road:geo:-82.656421,28.136639
END:VEVENT
BEGIN:VEVENT
DTSTART;TZID=America/New_York:20240107T090000
DTEND;TZID=America/New_York:20240107T130000
DTSTAMP:20260421T082126
CREATED:20231219T203230Z
LAST-MODIFIED:20231219T203230Z
UID:10003834-1704618000-1704632400@baysoundings.com
SUMMARY:Birding at Lake Apopka Wildlife Drive
DESCRIPTION:Join us for this one-way\, eleven mile drive through the restored wetlands along Lake Apopka’s North Shore. We will caravan and will make many stops along the way to observe the many birds and other wildlife that use this area.  With a speed limit of 10 mph\, you can expect the trip to last between three and four hours. There are portable toilets located near the half-way point\, but no other facilities.\n\nDuring winter months more than 150 species of birds regularly use this property. There is always the potential for a rare bird sighting here. We can expect to see   most of the long-legged waders\, many different birds of prey\, ducks\, warblers and flycatchers. This property is considered one of the top three birding areas in the State of Florida.\nWe’ll meet at 9:00am at the Wildlife Drive entrance located at 2850 Lust Road Apopka\, FL 32703. Drive time from Tampa is approximately two hours via I-4 and SR-429 (toll). For those wishing to avoid an early morning drive a variety of lodging is available in nearby Mt. Dora which is about 30 minutes away.\n\nImportant! Pre-registration is required and participation is limited. Please do not attend this or any Tampa Audubon Society events if you have flu\, cold\, or covid symptoms. Tampa Audubon is committed to reducing the spread of illnesses. The health and safety of our members is of the highest priority.\n\nContact trip leader Ann Paul at president@tampaaudubon.org. or Jim Smith at earthtraveler53@gmail.com to join.
URL:https://baysoundings.com/event/birding-at-lake-apopka-wildlife-drive/
LOCATION:FL
CATEGORIES:Birds & Birding,Coastal & Wetlands,Local Community,Native Flora & Fauna,Nature Tours & Hikes,Photography,Raptors,Wildlife
END:VEVENT
BEGIN:VEVENT
DTSTART;TZID=America/New_York:20240112T093000
DTEND;TZID=America/New_York:20240112T110000
DTSTAMP:20260421T082126
CREATED:20231220T212319Z
LAST-MODIFIED:20240222T220213Z
UID:10004214-1705051800-1705057200@baysoundings.com
SUMMARY:Botany Walk
DESCRIPTION:Join James Stevenson to explore the fascinating plants found at Brooker Creek Preserve! \nWe will identify wildflowers\, ferns\, epiphytes\, trees and more. The ecology of various plant communities will also be examined. Best suited for adult participants. Registration is required. \n>>> RESERVE A SPOT <<< \nThis is a free hike\, however space is limited. Please be courteous and do not register unless you plan to attend and cancel your reservation if you can no longer attend. \nGuided Hike Information \n\nGuided hikes are under a mile in length\, much of which is on unimproved\, uneven sandy trails.\nHikes take about two (2) hours to complete.\nPlease wear sturdy\, closed-toe shoes\, sneakers or boots.\nInsect repellent (bug spray) is strongly recommended in summer months.\nBring plenty of drinking water.\nA hat\, sunglasses\, and sunscreen are also recommended.\nPets are not permitted.\nNo smoking is allowed.\nAn Equal Opportunity Institution.
URL:https://baysoundings.com/event/botany-walk-2-2/2024-01-12/
LOCATION:Brooker Creek Environmental Education Center\, 3940 Keystone Road\, Tarpon Springs\, FL\, 34688\, United States
CATEGORIES:Adult Level,Agriculture & Botany,Coastal & Wetlands,Gardening & Landscaping,Native Flora & Fauna,Nature Tours & Hikes,Photography
ORGANIZER;CN="Friends of Brooker Creek Preserve":MAILTO:info@friendsofbrookercreekpreserve.org
GEO:28.136639;-82.656421
X-APPLE-STRUCTURED-LOCATION;VALUE=URI;X-ADDRESS=Brooker Creek Environmental Education Center 3940 Keystone Road Tarpon Springs FL 34688 United States;X-APPLE-RADIUS=500;X-TITLE=3940 Keystone Road:geo:-82.656421,28.136639
END:VEVENT
BEGIN:VEVENT
DTSTART;VALUE=DATE:20240120
DTEND;VALUE=DATE:20240121
DTSTAMP:20260421T082126
CREATED:20240106T202123Z
LAST-MODIFIED:20240110T180932Z
UID:10004371-1705708800-1705795199@baysoundings.com
SUMMARY:Circle B Bar Preserve
DESCRIPTION:Circle B Bar Preserve – Polk County\n(One of our most popular field trips) \nBarred Owl\, White Pelicans\, Snail Kite\, Painted Bunting and Bobcats have been seen at this restored preserve.\nNatural wetland and berm trails around retention ponds.\nVisitor Center has facilities but no food. Bring lunch if you want to spend the afternoon here. \nFor info Contact Christine Rowland president@pascoaudubon.com
URL:https://baysoundings.com/event/circle-b-bar-preserve/2024-01-20/
LOCATION:Circle-B-Bar Reserve
CATEGORIES:Birds & Birding,Coastal & Wetlands,Native Flora & Fauna,Nature Tours & Hikes,Photography
END:VEVENT
BEGIN:VEVENT
DTSTART;TZID=America/New_York:20240130T090000
DTEND;TZID=America/New_York:20240130T110000
DTSTAMP:20260421T082126
CREATED:20231222T204702Z
LAST-MODIFIED:20240116T213935Z
UID:10004284-1706605200-1706612400@baysoundings.com
SUMMARY:Wading Bird Walk
DESCRIPTION:Meet the wading birds of the Weedon Island Preserve on a guided walk of the trails. \n\n\nLearn the identifying marks and key behaviors of our most common wading birds at the Weedon Island Preserve during a guided hike of the trails.\nA brief classroom session before the hike will give visitors an overview of the birds found on the Preserve\, including tips on when and where these species are most likely to be seen. This guided tour may be up to 2 miles in total length and will traverse uneven\, natural paths or boardwalks so please prepare accordingly. This tour is recommended for adults.\n>>> RESERVE A SPOT <<< \nProceeds will support the Friends of Weedon Island\, a non-profit organization that works to promote education and conservation of the Weedon Island Preserve. Learn about our Friends!
URL:https://baysoundings.com/event/wading-bird-walk-3/2024-01-30/
LOCATION:Weedon Island Preserve Cultural and Natural History Center\, 1800 Weedon Drive NE\, St. Petersburg\, FL\, United States
CATEGORIES:Adult Level,Birds & Birding,Coastal & Wetlands,Marine Life,Native Flora & Fauna,Nature Tours & Hikes,Photography,Raptors,Wildlife
GEO:27.850451;-82.6075539
X-APPLE-STRUCTURED-LOCATION;VALUE=URI;X-ADDRESS=Weedon Island Preserve Cultural and Natural History Center 1800 Weedon Drive NE St. Petersburg FL United States;X-APPLE-RADIUS=500;X-TITLE=1800 Weedon Drive NE:geo:-82.6075539,27.850451
END:VEVENT
END:VCALENDAR