BEGIN:VCALENDAR
VERSION:2.0
PRODID:-//Bay Soundings - ECPv6.15.11//NONSGML v1.0//EN
CALSCALE:GREGORIAN
METHOD:PUBLISH
X-ORIGINAL-URL:https://baysoundings.com
X-WR-CALDESC:Events for Bay Soundings
REFRESH-INTERVAL;VALUE=DURATION:PT1H
X-Robots-Tag:noindex
X-PUBLISHED-TTL:PT1H
BEGIN:VTIMEZONE
TZID:America/New_York
BEGIN:DAYLIGHT
TZOFFSETFROM:-0500
TZOFFSETTO:-0400
TZNAME:EDT
DTSTART:20220313T070000
END:DAYLIGHT
BEGIN:STANDARD
TZOFFSETFROM:-0400
TZOFFSETTO:-0500
TZNAME:EST
DTSTART:20221106T060000
END:STANDARD
BEGIN:DAYLIGHT
TZOFFSETFROM:-0500
TZOFFSETTO:-0400
TZNAME:EDT
DTSTART:20230312T070000
END:DAYLIGHT
BEGIN:STANDARD
TZOFFSETFROM:-0400
TZOFFSETTO:-0500
TZNAME:EST
DTSTART:20231105T060000
END:STANDARD
BEGIN:DAYLIGHT
TZOFFSETFROM:-0500
TZOFFSETTO:-0400
TZNAME:EDT
DTSTART:20240310T070000
END:DAYLIGHT
BEGIN:STANDARD
TZOFFSETFROM:-0400
TZOFFSETTO:-0500
TZNAME:EST
DTSTART:20241103T060000
END:STANDARD
END:VTIMEZONE
BEGIN:VEVENT
DTSTART;TZID=America/New_York:20231103T150000
DTEND;TZID=America/New_York:20231103T170000
DTSTAMP:20260422T231719
CREATED:20231028T200052Z
LAST-MODIFIED:20231028T200052Z
UID:10003691-1699023600-1699030800@baysoundings.com
SUMMARY:Backyard Wildlife: Online Workshop
DESCRIPTION:Join us for an exciting online workshop dedicated to exploring the wonders of backyard wildlife! Whether you’re a nature enthusiast or just curious about the creatures that inhabit your own backyard\, this workshop is perfect for you. \nOn Fri Nov 03 2023 starting at 3 to 5pm\, our knowledgeable experts from FWC will present first on Common Backyard Wildlife\, to gain better understanding of the species you may find in your backyard and community\, followed by UF IFAS presenting on Landscaping for Backyard Wildlife\, with insights on how best to support and protect them. \nDiscover the diverse range of wildlife species that call your backyard home. Learn about their habits\, and how to create a welcoming environment for them. From birds and butterflies to squirrels and larger creatures\, you’ll gain a deeper understanding of the interconnectedness of nature. \nThrough engaging presentations and interactive Q&A sessions at the end\, you’ll get a chance to ask questions\, expand your knowledge\, connect with fellow nature lovers\, and become a backyard wildlife expert! \nDon’t miss out on this incredible opportunity to explore the wonders of backyard wildlife from the comfort of your own home. Register now and get ready for an enriching and educational experience like no other! \n>>> RESERVE A SPOT <<<
URL:https://baysoundings.com/event/backyard-wildlife-online-workshop/
LOCATION:Online Event
CATEGORIES:Birds & Birding,Gardening & Landscaping,Home & Lifestyle,Lectures & Seminars,Local Community,Native Flora & Fauna,Photography,WEBINARS & ONLINE CLASSES,Wildlife
END:VEVENT
BEGIN:VEVENT
DTSTART;TZID=America/New_York:20231116T090000
DTEND;TZID=America/New_York:20231116T110000
DTSTAMP:20260422T231719
CREATED:20221220T223747Z
LAST-MODIFIED:20231027T195730Z
UID:10003623-1700125200-1700132400@baysoundings.com
SUMMARY:Photography Hike
DESCRIPTION:Walk the boardwalks and natural paths of Weedon Island\, capturing photographs of native flora and fauna along the way. \n\n\nGrab your camera of choice and enjoy a guided tour of the trails at the Weedon Island Preserve! This hike has been timed to coincide with a low tide at the Preserve so participants will have the best chance for viewing wading birds and other wildlife that come to forage on the tidal flats at this time. \nAttendees will meet inside the Cultural and Natural History Center for a brief introduction to highlight the seasonal features of the Preserve\, as well as specific wildlife behaviors\, that will help participants capture the natural beauty of the area. This hike is roughly 1.5 miles in total length on a combination of boardwalks and unimproved\, natural paths. This program is is best suited for adults. \n>>> REGISTER HERE <<< \nProceeds will support the Friends of Weedon Island\, a non-profit organization that works to promote education and conservation of the Weedon Island Preserve. Learn about our Friends!
URL:https://baysoundings.com/event/photography-hike-8/2023-11-16/
LOCATION:Weedon Island Preserve Cultural and Natural History Center\, 1800 Weedon Drive NE\, St. Petersburg\, FL\, United States
CATEGORIES:Coastal & Wetlands,Crafts & Hobbies,Native Flora & Fauna,Nature Tours & Hikes,Photography,Wildlife
GEO:27.850451;-82.6075539
X-APPLE-STRUCTURED-LOCATION;VALUE=URI;X-ADDRESS=Weedon Island Preserve Cultural and Natural History Center 1800 Weedon Drive NE St. Petersburg FL United States;X-APPLE-RADIUS=500;X-TITLE=1800 Weedon Drive NE:geo:-82.6075539,27.850451
END:VEVENT
BEGIN:VEVENT
DTSTART;TZID=America/New_York:20231130T090000
DTEND;TZID=America/New_York:20231130T110000
DTSTAMP:20260422T231719
CREATED:20230224T192913Z
LAST-MODIFIED:20231027T200145Z
UID:10003624-1701334800-1701342000@baysoundings.com
SUMMARY:Wading Bird Walk
DESCRIPTION:Meet the wading birds of the Weedon Island Preserve on a guided walk of the trails. \n\n\nLearn the identifying marks and behaviors of the most common wading birds at Weedon Island Preserve during a guided walk of the trails. This walk will take place during a low tide so participants will have the best chance for viewing wildlife that forage on the exposed tidal flats! \nThis tour is for adults and youth ages 10 and up. Youth must be supervised by an adult for the full duration of the program. \nAttendees will meet inside the Cultural and Natural History Center for a short introduction before departing for the trails. The total hike length may be up to two miles. This hike may traverse uneven\, natural paths or boardwalks so please prepare accordingly. Afterwards\, attendees will return to the Center to complete an evaluation of the hike and explore the museum exhibits. \n>>> REGISTER HERE <<< \nProceeds from this program go to the Friends of Weedon Island. The Friends support the Weedon Island Preserve through education\, preservation and protection of its habitats\, ecology\, and cultural history. Become a Friend today!
URL:https://baysoundings.com/event/wading-bird-walk-8/2023-11-30/
LOCATION:Weedon Island Preserve Cultural and Natural History Center\, 1800 Weedon Drive NE\, St. Petersburg\, FL\, United States
CATEGORIES:Birds & Birding,Coastal & Wetlands,Marine Life,Native Flora & Fauna,Nature Tours & Hikes,Photography
GEO:27.850451;-82.6075539
X-APPLE-STRUCTURED-LOCATION;VALUE=URI;X-ADDRESS=Weedon Island Preserve Cultural and Natural History Center 1800 Weedon Drive NE St. Petersburg FL United States;X-APPLE-RADIUS=500;X-TITLE=1800 Weedon Drive NE:geo:-82.6075539,27.850451
END:VEVENT
END:VCALENDAR