BEGIN:VCALENDAR
VERSION:2.0
PRODID:-//Bay Soundings - ECPv6.15.11//NONSGML v1.0//EN
CALSCALE:GREGORIAN
METHOD:PUBLISH
X-ORIGINAL-URL:https://baysoundings.com
X-WR-CALDESC:Events for Bay Soundings
REFRESH-INTERVAL;VALUE=DURATION:PT1H
X-Robots-Tag:noindex
X-PUBLISHED-TTL:PT1H
BEGIN:VTIMEZONE
TZID:America/New_York
BEGIN:DAYLIGHT
TZOFFSETFROM:-0500
TZOFFSETTO:-0400
TZNAME:EDT
DTSTART:20200308T070000
END:DAYLIGHT
BEGIN:STANDARD
TZOFFSETFROM:-0400
TZOFFSETTO:-0500
TZNAME:EST
DTSTART:20201101T060000
END:STANDARD
BEGIN:DAYLIGHT
TZOFFSETFROM:-0500
TZOFFSETTO:-0400
TZNAME:EDT
DTSTART:20210314T070000
END:DAYLIGHT
BEGIN:STANDARD
TZOFFSETFROM:-0400
TZOFFSETTO:-0500
TZNAME:EST
DTSTART:20211107T060000
END:STANDARD
BEGIN:DAYLIGHT
TZOFFSETFROM:-0500
TZOFFSETTO:-0400
TZNAME:EDT
DTSTART:20220313T070000
END:DAYLIGHT
BEGIN:STANDARD
TZOFFSETFROM:-0400
TZOFFSETTO:-0500
TZNAME:EST
DTSTART:20221106T060000
END:STANDARD
END:VTIMEZONE
BEGIN:VEVENT
DTSTART;TZID=America/New_York:20210203T100000
DTEND;TZID=America/New_York:20210203T110000
DTSTAMP:20260421T101549
CREATED:20210115T223956Z
LAST-MODIFIED:20210115T223956Z
UID:10000493-1612346400-1612350000@baysoundings.com
SUMMARY:Wonderful Woodpeckers!
DESCRIPTION:Woodpeckers\, the under-appreciated architects of the forest. Woodpeckers have an amazing role in our forests. Sure they knock on trees\, eat a few insects\, and even excavate a small home in the woody confines of our trees\, but without them many other birds and wildlife would be severely impacted if not eliminated. \nJoin Sensing Nature Wildlife Biologist\, Jeanne Murphy as she chips away and reveals the woodpeckers’ critical role in our forests. Be sure to ask Jeanne why woodpeckers do not get a headache after knocking around on all those trees. \nWebinar Registration
URL:https://baysoundings.com/event/wonderful-woodpeckers/
LOCATION:ZOOM\, United States
CATEGORIES:Birds & Birding,Native Flora & Fauna,WEBINARS & ONLINE CLASSES,Wildlife
ORGANIZER;CN="Sensing Nature":MAILTO:info@sensingnature.com
END:VEVENT
END:VCALENDAR