BEGIN:VCALENDAR
VERSION:2.0
PRODID:-//Bay Soundings - ECPv6.15.11//NONSGML v1.0//EN
CALSCALE:GREGORIAN
METHOD:PUBLISH
X-ORIGINAL-URL:https://baysoundings.com
X-WR-CALDESC:Events for Bay Soundings
REFRESH-INTERVAL;VALUE=DURATION:PT1H
X-Robots-Tag:noindex
X-PUBLISHED-TTL:PT1H
BEGIN:VTIMEZONE
TZID:America/New_York
BEGIN:DAYLIGHT
TZOFFSETFROM:-0500
TZOFFSETTO:-0400
TZNAME:EDT
DTSTART:20190310T070000
END:DAYLIGHT
BEGIN:STANDARD
TZOFFSETFROM:-0400
TZOFFSETTO:-0500
TZNAME:EST
DTSTART:20191103T060000
END:STANDARD
BEGIN:DAYLIGHT
TZOFFSETFROM:-0500
TZOFFSETTO:-0400
TZNAME:EDT
DTSTART:20200308T070000
END:DAYLIGHT
BEGIN:STANDARD
TZOFFSETFROM:-0400
TZOFFSETTO:-0500
TZNAME:EST
DTSTART:20201101T060000
END:STANDARD
BEGIN:DAYLIGHT
TZOFFSETFROM:-0500
TZOFFSETTO:-0400
TZNAME:EDT
DTSTART:20210314T070000
END:DAYLIGHT
BEGIN:STANDARD
TZOFFSETFROM:-0400
TZOFFSETTO:-0500
TZNAME:EST
DTSTART:20211107T060000
END:STANDARD
END:VTIMEZONE
BEGIN:VEVENT
DTSTART;TZID=America/New_York:20200829T100000
DTEND;TZID=America/New_York:20200829T230000
DTSTAMP:20260423T132336
CREATED:20200826T222806Z
LAST-MODIFIED:20200826T223232Z
UID:10001262-1598695200-1598742000@baysoundings.com
SUMMARY:WEBINAR- Florida's Deserts!
DESCRIPTION:Florida’s Deserts! \nFlorida may be known for its aquatic habitats\, but the dry upland “desert” communities are well worth it for your next adventure. Sensing Nature biologist\, Brian Lane will take you on an a trek through our sandy habitats. Although it is very hot in the uplands\, no water is required for this exploration. \nWebinar Registration \n 
URL:https://baysoundings.com/event/webinar-floridas-deserts/
LOCATION:FL
CATEGORIES:Climate,Geology & Geography,Local Community,Native Flora & Fauna,WEBINARS & ONLINE CLASSES,Wildlife
ORGANIZER;CN="Sensing Nature":MAILTO:info@sensingnature.com
END:VEVENT
END:VCALENDAR