BEGIN:VCALENDAR
VERSION:2.0
PRODID:-//Bay Soundings - ECPv6.15.11//NONSGML v1.0//EN
CALSCALE:GREGORIAN
METHOD:PUBLISH
X-ORIGINAL-URL:https://baysoundings.com
X-WR-CALDESC:Events for Bay Soundings
REFRESH-INTERVAL;VALUE=DURATION:PT1H
X-Robots-Tag:noindex
X-PUBLISHED-TTL:PT1H
BEGIN:VTIMEZONE
TZID:America/New_York
BEGIN:DAYLIGHT
TZOFFSETFROM:-0500
TZOFFSETTO:-0400
TZNAME:EDT
DTSTART:20190310T070000
END:DAYLIGHT
BEGIN:STANDARD
TZOFFSETFROM:-0400
TZOFFSETTO:-0500
TZNAME:EST
DTSTART:20191103T060000
END:STANDARD
BEGIN:DAYLIGHT
TZOFFSETFROM:-0500
TZOFFSETTO:-0400
TZNAME:EDT
DTSTART:20200308T070000
END:DAYLIGHT
BEGIN:STANDARD
TZOFFSETFROM:-0400
TZOFFSETTO:-0500
TZNAME:EST
DTSTART:20201101T060000
END:STANDARD
BEGIN:DAYLIGHT
TZOFFSETFROM:-0500
TZOFFSETTO:-0400
TZNAME:EDT
DTSTART:20210314T070000
END:DAYLIGHT
BEGIN:STANDARD
TZOFFSETFROM:-0400
TZOFFSETTO:-0500
TZNAME:EST
DTSTART:20211107T060000
END:STANDARD
END:VTIMEZONE
BEGIN:VEVENT
DTSTART;TZID=America/New_York:20200402T070000
DTEND;TZID=America/New_York:20200402T090000
DTSTAMP:20260425T105556
CREATED:20200303T225433Z
LAST-MODIFIED:20200320T215623Z
UID:10000795-1585810800-1585818000@baysoundings.com
SUMMARY:Exploring Florida’s Rich Turtle Diversity
DESCRIPTION:Due to the ongoing COVID-19 public health situation\, all programs have been suspended until further notice.\nFor COVID-19 updates from the City of St. Petersburg\, visit stpete.org/emergency.
URL:https://baysoundings.com/event/exploring-floridas-rich-turtle-diversity/2020-04-02/
LOCATION:Boyd Hill Nature Preserve Classroom\, 1101 COUNTRY CLUB WY S\, St. Petersburg\, FL\, 33705\, United States
CATEGORIES:Lectures & Seminars,Native Flora & Fauna,Reptiles & Amphibians,Threatened & Endangered Species,Wildlife
ORGANIZER;CN="Boyd Hill Nature Preserve":MAILTO:stpeteparksrec@stpete.org 
GEO:27.724764;-82.6502749
X-APPLE-STRUCTURED-LOCATION;VALUE=URI;X-ADDRESS=Boyd Hill Nature Preserve Classroom 1101 COUNTRY CLUB WY S St. Petersburg FL 33705 United States;X-APPLE-RADIUS=500;X-TITLE=1101 COUNTRY CLUB WY S:geo:-82.6502749,27.724764
END:VEVENT
BEGIN:VEVENT
DTSTART;TZID=America/New_York:20200404T080000
DTEND;TZID=America/New_York:20200404T120000
DTSTAMP:20260425T105556
CREATED:20200313T010827Z
LAST-MODIFIED:20200320T220124Z
UID:10001140-1585987200-1586001600@baysoundings.com
SUMMARY:Terra Ceia Bioblitz
DESCRIPTION:Effective Wed.\, March 18\, 2020 at 1:00 pm EST\, all District pavilions and camping reservations are cancelled for the next 30 days to help our communities recover from the coronavirus pandemic. \n  \n \nContact: Tracy.muzyczka@FloridaDEP.gov
URL:https://baysoundings.com/event/terra-ceia-bioblitz/
LOCATION:Terra Ceia Preserve State Park\, 130 Terra Ceia Rd\, Terra Ceia\, 34250	
CATEGORIES:Local Community,Native Flora & Fauna
GEO:27.5981062;-82.5605124
X-APPLE-STRUCTURED-LOCATION;VALUE=URI;X-ADDRESS=Terra Ceia Preserve State Park 130 Terra Ceia Rd Terra Ceia 34250;X-APPLE-RADIUS=500;X-TITLE=130 Terra Ceia Rd:geo:-82.5605124,27.5981062
END:VEVENT
BEGIN:VEVENT
DTSTART;TZID=America/New_York:20200404T100000
DTEND;TZID=America/New_York:20200404T113000
DTSTAMP:20260425T105556
CREATED:20200303T212826Z
LAST-MODIFIED:20200320T205137Z
UID:10000515-1585994400-1585999800@baysoundings.com
SUMMARY:This or That?
DESCRIPTION:Due to coronavirus (COVID 19)\, the Weedon Island Preserve Cultural and Natural History Center will be CLOSED TO THE PUBLIC until further notice in accordance with the latest CDC suggested guidelines. All indoor public and private events are cancelled at least through April 22. Please check back for updates\, close/open\, and event information at http://www.weedonislandpreserve.org/\n\nIs it a Turkey Vulture or a Black Vulture? Is it a venomous or non-venomous snake? Is it an invasive exotic species or a native treasure? This class\, for the whole family\, will introduce you to some of Florida’s easily mistaken species. Learn how to quickly tell two similar plants or animals apart! A field guide by the same name\, prepared by the presenters\, will be available for purchase.\nPresented by Lara Milligan\, Natural Resources Agent and James Stevenson\, Extension Specialist for UF/IFAS Extension Pinellas County.\nQuestions or Concerns? Please contact Weedon Island Preserve at 727-453-6500 or weedonisland@pinellascounty.org.\nRegistration:  https://www.eventbrite.com/e/this-or-that-tickets-96243708523
URL:https://baysoundings.com/event/this-or-that-2/
LOCATION:Weedon Island Preserve Cultural and Natural History Center\, 1800 Weedon Drive NE\, St. Petersburg\, FL\, United States
CATEGORIES:Lectures & Seminars,Native Flora & Fauna,Workshops & Classes
GEO:27.850451;-82.6075539
X-APPLE-STRUCTURED-LOCATION;VALUE=URI;X-ADDRESS=Weedon Island Preserve Cultural and Natural History Center 1800 Weedon Drive NE St. Petersburg FL United States;X-APPLE-RADIUS=500;X-TITLE=1800 Weedon Drive NE:geo:-82.6075539,27.850451
END:VEVENT
BEGIN:VEVENT
DTSTART;TZID=America/New_York:20200409T070000
DTEND;TZID=America/New_York:20200409T090000
DTSTAMP:20260425T105556
CREATED:20200303T225433Z
LAST-MODIFIED:20200320T215623Z
UID:10000796-1586415600-1586422800@baysoundings.com
SUMMARY:Exploring Florida’s Rich Turtle Diversity
DESCRIPTION:Due to the ongoing COVID-19 public health situation\, all programs have been suspended until further notice.\nFor COVID-19 updates from the City of St. Petersburg\, visit stpete.org/emergency.
URL:https://baysoundings.com/event/exploring-floridas-rich-turtle-diversity/2020-04-09/
LOCATION:Boyd Hill Nature Preserve Classroom\, 1101 COUNTRY CLUB WY S\, St. Petersburg\, FL\, 33705\, United States
CATEGORIES:Lectures & Seminars,Native Flora & Fauna,Reptiles & Amphibians,Threatened & Endangered Species,Wildlife
ORGANIZER;CN="Boyd Hill Nature Preserve":MAILTO:stpeteparksrec@stpete.org 
GEO:27.724764;-82.6502749
X-APPLE-STRUCTURED-LOCATION;VALUE=URI;X-ADDRESS=Boyd Hill Nature Preserve Classroom 1101 COUNTRY CLUB WY S St. Petersburg FL 33705 United States;X-APPLE-RADIUS=500;X-TITLE=1101 COUNTRY CLUB WY S:geo:-82.6502749,27.724764
END:VEVENT
BEGIN:VEVENT
DTSTART;TZID=America/New_York:20200411T080000
DTEND;TZID=America/New_York:20200411T093000
DTSTAMP:20260425T105556
CREATED:20191229T200249Z
LAST-MODIFIED:20191229T200249Z
UID:10000962-1586592000-1586597400@baysoundings.com
SUMMARY:Wild Wings Bird Hike
DESCRIPTION:Wild Wings – \nBirds of Brooker Hike \nHave you wondered what bird is singing in your backyard? Do you see and hear birds but don’t know who they are? If so\, join us for a Beginning Bird Hike to learn how to identify the county’s common birds as we meander along a one-mile trail. \nAll ages are welcome. Children under the ages of 16 must be accompanied by an adult and those younger than 6 may find this hike challenging. \nGuided Hike Information \nVolunteer Hike Guides will meet participants outside the Exhibit Hall 10 minutes before the scheduled start time. We strongly suggest all hikers visit the restroom (located in the Classroom Building) before we begin as there are no facilities along the trail. \n\n\n\nGuided hikes are under a mile in length\, much of which is on unimproved\, uneven sandy trails.\nHikes take about two (2) hours to complete.\nPlease wear sturdy\, closed-toe shoes\, sneakers or boots.\nInsect repellent (bug spray) is strongly recommended in summer months.\nBring plenty of drinking water and a snack.\nA hat\, sunglasses\, and sunscreen are also recommended.\nPets are not permitted.\nNo smoking is allowed.\nTrained volunteers will guide the hike.\n\n\n\nRegistration: https://www.eventbrite.com/e/wild-wings-birds-of-brooker-hike-tickets-53439990450?mc_cid=a4dbfdde6b&mc_eid=1cbba2e07b \n 
URL:https://baysoundings.com/event/wild-wings-bird-hike/2020-04-11/
LOCATION:Brooker Creek Preserve\, 3940 Keystone Road\, Tarpon Springs\, FL\, United States
CATEGORIES:Birds & Birding,Native Flora & Fauna,Nature Tours & Hikes
GEO:28.136639;-82.656421
X-APPLE-STRUCTURED-LOCATION;VALUE=URI;X-ADDRESS=Brooker Creek Preserve 3940 Keystone Road Tarpon Springs FL United States;X-APPLE-RADIUS=500;X-TITLE=3940 Keystone Road:geo:-82.656421,28.136639
END:VEVENT
BEGIN:VEVENT
DTSTART;TZID=America/New_York:20200411T100000
DTEND;TZID=America/New_York:20200411T120000
DTSTAMP:20260425T105556
CREATED:20200220T213600Z
LAST-MODIFIED:20200320T205508Z
UID:10001027-1586599200-1586606400@baysoundings.com
SUMMARY:Saltwater Seining
DESCRIPTION:Due to coronavirus (COVID 19)\, the Weedon Island Preserve Cultural and Natural History Center will be CLOSED TO THE PUBLIC until further notice in accordance with the latest CDC suggested guidelines. All indoor public and private events are cancelled at least through April 22. Please check back for updates\, close/open\, and event information at http://www.weedonislandpreserve.org/ \n  \nGoing Coastal:\nSaltwater Seining \nCome to Weedon Island and get your feet wet learning about what lives in our local marine environment! \nParticipants will learn in the classroom and out in the field about invertebrates and fish that make the waters of Weedon Island Preserve their home.  We will use dip nets and seine nets to collect and categorize local critters. \nParticipants must be able to walk on paved and natural paths for 20 minutes to get to the field sampling site\, and for the return hike. You must bring closed toed wading shoes (keens\, scuba botties\, old tennis shoes)\, and wear clothes that you don’t mind getting wet as we will get wet up to our waists while out in the water. It is also suggested to bring a water bottle\, hat\, sun protection\, and insect repellent. \nThis program is for adults and youth ages 12+. Children must be accompanied by an adult. \nQuestions or concerns? Please contact the Weedon Island Preserve Cultural and Natural History Center at weedonisland@pinellascounty.org. \nRegistration:  https://www.eventbrite.com/e/going-coastal-saltwater-seining-tickets-89659131877 \n 
URL:https://baysoundings.com/event/saltwater-seining/
LOCATION:Weedon Island Preserve Cultural and Natural History Center\, 1800 Weedon Drive NE\, St. Petersburg\, FL\, United States
CATEGORIES:Beach Activities,Coastal & Wetlands,Marine Life,Native Flora & Fauna,Workshops & Classes
GEO:27.850451;-82.6075539
X-APPLE-STRUCTURED-LOCATION;VALUE=URI;X-ADDRESS=Weedon Island Preserve Cultural and Natural History Center 1800 Weedon Drive NE St. Petersburg FL United States;X-APPLE-RADIUS=500;X-TITLE=1800 Weedon Drive NE:geo:-82.6075539,27.850451
END:VEVENT
BEGIN:VEVENT
DTSTART;TZID=America/New_York:20200416T070000
DTEND;TZID=America/New_York:20200416T090000
DTSTAMP:20260425T105556
CREATED:20200303T225433Z
LAST-MODIFIED:20200320T215623Z
UID:10000797-1587020400-1587027600@baysoundings.com
SUMMARY:Exploring Florida’s Rich Turtle Diversity
DESCRIPTION:Due to the ongoing COVID-19 public health situation\, all programs have been suspended until further notice.\nFor COVID-19 updates from the City of St. Petersburg\, visit stpete.org/emergency.
URL:https://baysoundings.com/event/exploring-floridas-rich-turtle-diversity/2020-04-16/
LOCATION:Boyd Hill Nature Preserve Classroom\, 1101 COUNTRY CLUB WY S\, St. Petersburg\, FL\, 33705\, United States
CATEGORIES:Lectures & Seminars,Native Flora & Fauna,Reptiles & Amphibians,Threatened & Endangered Species,Wildlife
ORGANIZER;CN="Boyd Hill Nature Preserve":MAILTO:stpeteparksrec@stpete.org 
GEO:27.724764;-82.6502749
X-APPLE-STRUCTURED-LOCATION;VALUE=URI;X-ADDRESS=Boyd Hill Nature Preserve Classroom 1101 COUNTRY CLUB WY S St. Petersburg FL 33705 United States;X-APPLE-RADIUS=500;X-TITLE=1101 COUNTRY CLUB WY S:geo:-82.6502749,27.724764
END:VEVENT
BEGIN:VEVENT
DTSTART;TZID=America/New_York:20200423T070000
DTEND;TZID=America/New_York:20200423T090000
DTSTAMP:20260425T105556
CREATED:20200303T225433Z
LAST-MODIFIED:20200320T215623Z
UID:10000798-1587625200-1587632400@baysoundings.com
SUMMARY:Exploring Florida’s Rich Turtle Diversity
DESCRIPTION:Due to the ongoing COVID-19 public health situation\, all programs have been suspended until further notice.\nFor COVID-19 updates from the City of St. Petersburg\, visit stpete.org/emergency.
URL:https://baysoundings.com/event/exploring-floridas-rich-turtle-diversity/2020-04-23/
LOCATION:Boyd Hill Nature Preserve Classroom\, 1101 COUNTRY CLUB WY S\, St. Petersburg\, FL\, 33705\, United States
CATEGORIES:Lectures & Seminars,Native Flora & Fauna,Reptiles & Amphibians,Threatened & Endangered Species,Wildlife
ORGANIZER;CN="Boyd Hill Nature Preserve":MAILTO:stpeteparksrec@stpete.org 
GEO:27.724764;-82.6502749
X-APPLE-STRUCTURED-LOCATION;VALUE=URI;X-ADDRESS=Boyd Hill Nature Preserve Classroom 1101 COUNTRY CLUB WY S St. Petersburg FL 33705 United States;X-APPLE-RADIUS=500;X-TITLE=1101 COUNTRY CLUB WY S:geo:-82.6502749,27.724764
END:VEVENT
BEGIN:VEVENT
DTSTART;TZID=America/New_York:20200430T070000
DTEND;TZID=America/New_York:20200430T090000
DTSTAMP:20260425T105556
CREATED:20200303T225433Z
LAST-MODIFIED:20200320T215623Z
UID:10000799-1588230000-1588237200@baysoundings.com
SUMMARY:Exploring Florida’s Rich Turtle Diversity
DESCRIPTION:Due to the ongoing COVID-19 public health situation\, all programs have been suspended until further notice.\nFor COVID-19 updates from the City of St. Petersburg\, visit stpete.org/emergency.
URL:https://baysoundings.com/event/exploring-floridas-rich-turtle-diversity/2020-04-30/
LOCATION:Boyd Hill Nature Preserve Classroom\, 1101 COUNTRY CLUB WY S\, St. Petersburg\, FL\, 33705\, United States
CATEGORIES:Lectures & Seminars,Native Flora & Fauna,Reptiles & Amphibians,Threatened & Endangered Species,Wildlife
ORGANIZER;CN="Boyd Hill Nature Preserve":MAILTO:stpeteparksrec@stpete.org 
GEO:27.724764;-82.6502749
X-APPLE-STRUCTURED-LOCATION;VALUE=URI;X-ADDRESS=Boyd Hill Nature Preserve Classroom 1101 COUNTRY CLUB WY S St. Petersburg FL 33705 United States;X-APPLE-RADIUS=500;X-TITLE=1101 COUNTRY CLUB WY S:geo:-82.6502749,27.724764
END:VEVENT
END:VCALENDAR