BEGIN:VCALENDAR
VERSION:2.0
PRODID:-//Bay Soundings - ECPv6.15.11//NONSGML v1.0//EN
CALSCALE:GREGORIAN
METHOD:PUBLISH
X-ORIGINAL-URL:https://baysoundings.com
X-WR-CALDESC:Events for Bay Soundings
REFRESH-INTERVAL;VALUE=DURATION:PT1H
X-Robots-Tag:noindex
X-PUBLISHED-TTL:PT1H
BEGIN:VTIMEZONE
TZID:America/New_York
BEGIN:DAYLIGHT
TZOFFSETFROM:-0500
TZOFFSETTO:-0400
TZNAME:EDT
DTSTART:20210314T070000
END:DAYLIGHT
BEGIN:STANDARD
TZOFFSETFROM:-0400
TZOFFSETTO:-0500
TZNAME:EST
DTSTART:20211107T060000
END:STANDARD
BEGIN:DAYLIGHT
TZOFFSETFROM:-0500
TZOFFSETTO:-0400
TZNAME:EDT
DTSTART:20220313T070000
END:DAYLIGHT
BEGIN:STANDARD
TZOFFSETFROM:-0400
TZOFFSETTO:-0500
TZNAME:EST
DTSTART:20221106T060000
END:STANDARD
BEGIN:DAYLIGHT
TZOFFSETFROM:-0500
TZOFFSETTO:-0400
TZNAME:EDT
DTSTART:20230312T070000
END:DAYLIGHT
BEGIN:STANDARD
TZOFFSETFROM:-0400
TZOFFSETTO:-0500
TZNAME:EST
DTSTART:20231105T060000
END:STANDARD
END:VTIMEZONE
BEGIN:VEVENT
DTSTART;TZID=America/New_York:20221110T090000
DTEND;TZID=America/New_York:20221110T120000
DTSTAMP:20260422T060619
CREATED:20221016T203816Z
LAST-MODIFIED:20221016T205801Z
UID:10001102-1668070800-1668081600@baysoundings.com
SUMMARY:Oyster Shell Project at Lassing Park
DESCRIPTION:We will be installing an oyster shell bar which involves shoveling fossilized shell into mesh bags and transporting the bags to lay on the shoreline. This effort will help restore lost habitat by promoting new oyster growth\, ultimately improving water quality and providing food sources and habitat for many species.  \nTo learn more and watch a video of the process\, visit https://tampabaywatch.org/restoration/oyster-communities/oyster-shell-bags/.  \nClick here to register to volunteer for this project date.
URL:https://baysoundings.com/event/oyster-shell-project-at-lassing-park/2022-11-10/
LOCATION:Lassing Park\, 2042 Beach Dr SE\, St. Petersburg\, FL\, 33705\, United States
CATEGORIES:Cleanups & Restorations,Local Community,Marine Life,Volunteering
END:VEVENT
BEGIN:VEVENT
DTSTART;TZID=America/New_York:20221110T113000
DTEND;TZID=America/New_York:20221110T130000
DTSTAMP:20260422T060619
CREATED:20220728T213551Z
LAST-MODIFIED:20220728T213551Z
UID:10001774-1668079800-1668085200@baysoundings.com
SUMMARY:Talk Plants with Me
DESCRIPTION:Ask a Horticulture Agent Webinar! \n\n\n\n\n\nSubmit your questions to our Horticulture Agent for live Q&A. We will talk about hot topics in the plant world and may have a few guests join us along the way. \nPlease submit special accommodation requests to katiebg@ufl.ued at least 10 days prior to event. \n>>> WEBINAR REGISTRATION <<<
URL:https://baysoundings.com/event/talk-plants-with-me/2022-11-10/
LOCATION:Online Event
CATEGORIES:Agriculture & Botany,Gardening & Landscaping,Herbs,Local Community,Native Flora & Fauna,WEBINARS & ONLINE CLASSES
END:VEVENT
END:VCALENDAR