BEGIN:VCALENDAR
VERSION:2.0
PRODID:-//Bay Soundings - ECPv6.15.11//NONSGML v1.0//EN
CALSCALE:GREGORIAN
METHOD:PUBLISH
X-ORIGINAL-URL:https://baysoundings.com
X-WR-CALDESC:Events for Bay Soundings
REFRESH-INTERVAL;VALUE=DURATION:PT1H
X-Robots-Tag:noindex
X-PUBLISHED-TTL:PT1H
BEGIN:VTIMEZONE
TZID:America/New_York
BEGIN:DAYLIGHT
TZOFFSETFROM:-0500
TZOFFSETTO:-0400
TZNAME:EDT
DTSTART:20210314T070000
END:DAYLIGHT
BEGIN:STANDARD
TZOFFSETFROM:-0400
TZOFFSETTO:-0500
TZNAME:EST
DTSTART:20211107T060000
END:STANDARD
BEGIN:DAYLIGHT
TZOFFSETFROM:-0500
TZOFFSETTO:-0400
TZNAME:EDT
DTSTART:20220313T070000
END:DAYLIGHT
BEGIN:STANDARD
TZOFFSETFROM:-0400
TZOFFSETTO:-0500
TZNAME:EST
DTSTART:20221106T060000
END:STANDARD
BEGIN:DAYLIGHT
TZOFFSETFROM:-0500
TZOFFSETTO:-0400
TZNAME:EDT
DTSTART:20230312T070000
END:DAYLIGHT
BEGIN:STANDARD
TZOFFSETFROM:-0400
TZOFFSETTO:-0500
TZNAME:EST
DTSTART:20231105T060000
END:STANDARD
END:VTIMEZONE
BEGIN:VEVENT
DTSTART;VALUE=DATE:20221022
DTEND;VALUE=DATE:20221023
DTSTAMP:20260421T211404
CREATED:20220908T151500Z
LAST-MODIFIED:20220908T151500Z
UID:10001121-1666396800-1666483199@baysoundings.com
SUMMARY:HISTORIC HOME TOURS & DEMONSTRATIONS
DESCRIPTION:The Pinellas Pioneer Settlement\, located at 3010 31st Street South\, features several historic and replica buildings that showcase life in West Central Florida circa 1880 -1920. \nAll Ages Welcome\nCost: $5 for adults\, $3 for children\n\nHistoric Homes Tour – Every Saturday at 10 a.m.\nDemonstrations – Every Saturday between 1 & 3 p.m.\n\n\nDemonstration Schedule:\n\nSeptember 3: Rope making\nSeptember 10: Candle making\nSeptember 17: Print making\nSeptember 24: Laundry Day
URL:https://baysoundings.com/event/historic-home-tours-demonstrations/2022-10-22/
LOCATION:Boyd Hill – 31st Street S\, 3130 31st Street S\, St. Petersburg\, FL\, United States
CATEGORIES:Crafts & Hobbies,Exhibits,History & Culture,Homeschool,Kids & Families,Local Community,Youth Programs
ORGANIZER;CN="Boyd Hill Nature Preserve":MAILTO:stpeteparksrec@stpete.org 
GEO:27.739533;-82.674732
X-APPLE-STRUCTURED-LOCATION;VALUE=URI;X-ADDRESS=Boyd Hill – 31st Street S 3130 31st Street S St. Petersburg FL United States;X-APPLE-RADIUS=500;X-TITLE=3130 31st Street S:geo:-82.674732,27.739533
END:VEVENT
BEGIN:VEVENT
DTSTART;TZID=America/New_York:20221022T070000
DTEND;TZID=America/New_York:20221022T190000
DTSTAMP:20260421T211404
CREATED:20220923T182237Z
LAST-MODIFIED:20220923T182237Z
UID:10000681-1666422000-1666465200@baysoundings.com
SUMMARY:29th Annual Fishing Line Island Cleanup
DESCRIPTION:Join Tampa Bay Watch and Audubon Florida for the 29th Annual Fishing Line Island Cleanup. \nThe goal is to remove hazardous monofilament line from mangrove shorelines. Monofilament or “mono\,” is a fancy word for the commonly used plastic fishing line. It has great fishing utility\, but can take over 600 years to break down and poses serious threats to birds and other wildlife. Improperly discarded mono and fishing gear leads to wildlife entanglement\, accidental hooks\, and ingestion. \nThis will be a self-led event\, where participants will travel out to their designated location by personal boat/other watercraft any day between October 15-23 to target shorelines where cast line has been caught in the tree line. Volunteers will compile the recovered monofilament\, to be collected\, cleaned\, and recycled. \nThere are a variety of sites in which to participate—all critical bird nesting habitat—throughout Pinellas\, Hillsborough\, and Manatee. \n\nClick here to register to volunteer for this event.
URL:https://baysoundings.com/event/29th-annual-fishing-line-island-cleanup/2022-10-22/
LOCATION:FL
CATEGORIES:Adult Level,Cleanups & Restorations,Coastal & Wetlands,Conservation & Ecology,Fishing & Hunting,Local Community,Marine Life,Maritime Topics,Volunteering,Water Sports
END:VEVENT
BEGIN:VEVENT
DTSTART;TZID=America/New_York:20221022T120000
DTEND;TZID=America/New_York:20221022T160000
DTSTAMP:20260421T211404
CREATED:20220923T190135Z
LAST-MODIFIED:20220923T190241Z
UID:10001345-1666440000-1666454400@baysoundings.com
SUMMARY:Pumpkin Fest
DESCRIPTION:Join us for our 7th Annual Pumpkin Fest!\n\nPurchase pumpkins on site\, $10 each. Florida Botanical Gardens Foundation Members receive their first pumpkin free! \n\n\n\nJoin us for a pumpkin patch\, pumpkin carving\, and spooky activities from our returning sponsors Florida Nursery\, Growers and Landscaping Association and County Farm Bureau.\nAdditional vendors will be on site with information and activities\, and our Botanical Bounty Gift Shop will have seasonal items for sale.
URL:https://baysoundings.com/event/pumpkin-fest-2/2022-10-22/
LOCATION:Florida Botanical Gardens\, 12520 Ulmerton Road\, Largo\, FL\, 33778\, United States
CATEGORIES:Agriculture & Botany,Arts, Music & Literature,Crafts & Hobbies,Festivals & Fairs,Fundraisers & Sales,Gardening & Landscaping,Holiday Events,Kids & Families,Local Community
GEO:27.8830543;-82.8105436
X-APPLE-STRUCTURED-LOCATION;VALUE=URI;X-ADDRESS=Florida Botanical Gardens 12520 Ulmerton Road Largo FL 33778 United States;X-APPLE-RADIUS=500;X-TITLE=12520 Ulmerton Road:geo:-82.8105436,27.8830543
END:VEVENT
END:VCALENDAR