BEGIN:VCALENDAR
VERSION:2.0
PRODID:-//Bay Soundings - ECPv6.15.11//NONSGML v1.0//EN
CALSCALE:GREGORIAN
METHOD:PUBLISH
X-ORIGINAL-URL:https://baysoundings.com
X-WR-CALDESC:Events for Bay Soundings
REFRESH-INTERVAL;VALUE=DURATION:PT1H
X-Robots-Tag:noindex
X-PUBLISHED-TTL:PT1H
BEGIN:VTIMEZONE
TZID:America/New_York
BEGIN:DAYLIGHT
TZOFFSETFROM:-0500
TZOFFSETTO:-0400
TZNAME:EDT
DTSTART:20210314T070000
END:DAYLIGHT
BEGIN:STANDARD
TZOFFSETFROM:-0400
TZOFFSETTO:-0500
TZNAME:EST
DTSTART:20211107T060000
END:STANDARD
BEGIN:DAYLIGHT
TZOFFSETFROM:-0500
TZOFFSETTO:-0400
TZNAME:EDT
DTSTART:20220313T070000
END:DAYLIGHT
BEGIN:STANDARD
TZOFFSETFROM:-0400
TZOFFSETTO:-0500
TZNAME:EST
DTSTART:20221106T060000
END:STANDARD
BEGIN:DAYLIGHT
TZOFFSETFROM:-0500
TZOFFSETTO:-0400
TZNAME:EDT
DTSTART:20230312T070000
END:DAYLIGHT
BEGIN:STANDARD
TZOFFSETFROM:-0400
TZOFFSETTO:-0500
TZNAME:EST
DTSTART:20231105T060000
END:STANDARD
END:VTIMEZONE
BEGIN:VEVENT
DTSTART;TZID=America/New_York:20221004T083000
DTEND;TZID=America/New_York:20221004T113000
DTSTAMP:20260422T001344
CREATED:20220920T220520Z
LAST-MODIFIED:20220920T220520Z
UID:10001849-1664872200-1664883000@baysoundings.com
SUMMARY:Landscape Best Management Practices
DESCRIPTION:Learn about Landscape Best Management Practices to protect our environment with a healthy landscape! \nBoth English & Spanish classes are offered on the same day at the same time at the same location. This is the required class for those doing work in the lawn and landscape maintenance industry such as mowing\, pruning\, and landscape debris management. \n>>> BUY TICKETS <<<
URL:https://baysoundings.com/event/landscape-best-management-practices/
LOCATION:Pinellas County Public Works Clearwater\, 22211 US Highway 19 North Bldg #1 (ERB)\, Clearwater\, FL\, 33765\, United States
CATEGORIES:Adult Level,Career Paths & Enhancement,Certification & Training Programs,Gardening & Landscaping,Invasive & Intrusive Species,Local Community,Safety,Workshops & Classes
END:VEVENT
BEGIN:VEVENT
DTSTART;TZID=America/New_York:20221004T090000
DTEND;TZID=America/New_York:20221004T120000
DTSTAMP:20260422T001344
CREATED:20220923T174152Z
LAST-MODIFIED:20220923T174152Z
UID:10001901-1664874000-1664884800@baysoundings.com
SUMMARY:Oyster Reef Ball Construction
DESCRIPTION:Join us at the Tampa Bay Watch Marine Education Center\, 3000 Pinellas Bayway South in Tierra Verde to help build oyster reef balls! \nThis task involves pouring marine-friendly concrete into a fiberglass mold to create oyster reef balls\, then taking apart the molds when dry. The reef balls will be installed at a future date to stabilize shorelines and prevent erosion while creating habitat similar to natural oyster communities found along shoreline areas throughout Tampa Bay.  \nClick here to visit our webpage to learn more about reef balls. \nClick here to register to volunteer!
URL:https://baysoundings.com/event/oyster-reef-ball-construction/2022-10-04/
LOCATION:Tampa Bay Watch Marine & Education Center\, 3000 Pinellas Bayway South\, Tierra Verde\, FL\, 33715\, United States
CATEGORIES:Cleanups & Restorations,Conservation & Ecology,Local Community,Marine Life,Volunteering
GEO:27.6549456;-82.7178585
X-APPLE-STRUCTURED-LOCATION;VALUE=URI;X-ADDRESS=Tampa Bay Watch Marine & Education Center 3000 Pinellas Bayway South Tierra Verde FL 33715 United States;X-APPLE-RADIUS=500;X-TITLE=3000 Pinellas Bayway South:geo:-82.7178585,27.6549456
END:VEVENT
END:VCALENDAR