BEGIN:VCALENDAR
VERSION:2.0
PRODID:-//Bay Soundings - ECPv6.15.11//NONSGML v1.0//EN
CALSCALE:GREGORIAN
METHOD:PUBLISH
X-ORIGINAL-URL:https://baysoundings.com
X-WR-CALDESC:Events for Bay Soundings
REFRESH-INTERVAL;VALUE=DURATION:PT1H
X-Robots-Tag:noindex
X-PUBLISHED-TTL:PT1H
BEGIN:VTIMEZONE
TZID:America/New_York
BEGIN:DAYLIGHT
TZOFFSETFROM:-0500
TZOFFSETTO:-0400
TZNAME:EDT
DTSTART:20210314T070000
END:DAYLIGHT
BEGIN:STANDARD
TZOFFSETFROM:-0400
TZOFFSETTO:-0500
TZNAME:EST
DTSTART:20211107T060000
END:STANDARD
BEGIN:DAYLIGHT
TZOFFSETFROM:-0500
TZOFFSETTO:-0400
TZNAME:EDT
DTSTART:20220313T070000
END:DAYLIGHT
BEGIN:STANDARD
TZOFFSETFROM:-0400
TZOFFSETTO:-0500
TZNAME:EST
DTSTART:20221106T060000
END:STANDARD
BEGIN:DAYLIGHT
TZOFFSETFROM:-0500
TZOFFSETTO:-0400
TZNAME:EDT
DTSTART:20230312T070000
END:DAYLIGHT
BEGIN:STANDARD
TZOFFSETFROM:-0400
TZOFFSETTO:-0500
TZNAME:EST
DTSTART:20231105T060000
END:STANDARD
END:VTIMEZONE
BEGIN:VEVENT
DTSTART;VALUE=DATE:20220924
DTEND;VALUE=DATE:20220925
DTSTAMP:20260421T211343
CREATED:20220908T151500Z
LAST-MODIFIED:20220908T151500Z
UID:10001117-1663977600-1664063999@baysoundings.com
SUMMARY:HISTORIC HOME TOURS & DEMONSTRATIONS
DESCRIPTION:The Pinellas Pioneer Settlement\, located at 3010 31st Street South\, features several historic and replica buildings that showcase life in West Central Florida circa 1880 -1920. \nAll Ages Welcome\nCost: $5 for adults\, $3 for children\n\nHistoric Homes Tour – Every Saturday at 10 a.m.\nDemonstrations – Every Saturday between 1 & 3 p.m.\n\n\nDemonstration Schedule:\n\nSeptember 3: Rope making\nSeptember 10: Candle making\nSeptember 17: Print making\nSeptember 24: Laundry Day
URL:https://baysoundings.com/event/historic-home-tours-demonstrations/2022-09-24/
LOCATION:Boyd Hill – 31st Street S\, 3130 31st Street S\, St. Petersburg\, FL\, United States
CATEGORIES:Crafts & Hobbies,Exhibits,History & Culture,Homeschool,Kids & Families,Local Community,Youth Programs
ORGANIZER;CN="Boyd Hill Nature Preserve":MAILTO:stpeteparksrec@stpete.org 
GEO:27.739533;-82.674732
X-APPLE-STRUCTURED-LOCATION;VALUE=URI;X-ADDRESS=Boyd Hill – 31st Street S 3130 31st Street S St. Petersburg FL United States;X-APPLE-RADIUS=500;X-TITLE=3130 31st Street S:geo:-82.674732,27.739533
END:VEVENT
END:VCALENDAR