BEGIN:VCALENDAR
VERSION:2.0
PRODID:-//Bay Soundings - ECPv6.15.11//NONSGML v1.0//EN
CALSCALE:GREGORIAN
METHOD:PUBLISH
X-ORIGINAL-URL:https://baysoundings.com
X-WR-CALDESC:Events for Bay Soundings
REFRESH-INTERVAL;VALUE=DURATION:PT1H
X-Robots-Tag:noindex
X-PUBLISHED-TTL:PT1H
BEGIN:VTIMEZONE
TZID:America/New_York
BEGIN:DAYLIGHT
TZOFFSETFROM:-0500
TZOFFSETTO:-0400
TZNAME:EDT
DTSTART:20210314T070000
END:DAYLIGHT
BEGIN:STANDARD
TZOFFSETFROM:-0400
TZOFFSETTO:-0500
TZNAME:EST
DTSTART:20211107T060000
END:STANDARD
BEGIN:DAYLIGHT
TZOFFSETFROM:-0500
TZOFFSETTO:-0400
TZNAME:EDT
DTSTART:20220313T070000
END:DAYLIGHT
BEGIN:STANDARD
TZOFFSETFROM:-0400
TZOFFSETTO:-0500
TZNAME:EST
DTSTART:20221106T060000
END:STANDARD
BEGIN:DAYLIGHT
TZOFFSETFROM:-0500
TZOFFSETTO:-0400
TZNAME:EDT
DTSTART:20230312T070000
END:DAYLIGHT
BEGIN:STANDARD
TZOFFSETFROM:-0400
TZOFFSETTO:-0500
TZNAME:EST
DTSTART:20231105T060000
END:STANDARD
END:VTIMEZONE
BEGIN:VEVENT
DTSTART;TZID=America/New_York:20220811T113000
DTEND;TZID=America/New_York:20220811T130000
DTSTAMP:20260422T225258
CREATED:20220728T213551Z
LAST-MODIFIED:20220728T213551Z
UID:10001771-1660217400-1660222800@baysoundings.com
SUMMARY:Talk Plants with Me
DESCRIPTION:Ask a Horticulture Agent Webinar! \n\n\n\n\n\nSubmit your questions to our Horticulture Agent for live Q&A. We will talk about hot topics in the plant world and may have a few guests join us along the way. \nPlease submit special accommodation requests to katiebg@ufl.ued at least 10 days prior to event. \n>>> WEBINAR REGISTRATION <<<
URL:https://baysoundings.com/event/talk-plants-with-me/2022-08-11/
LOCATION:Online Event
CATEGORIES:Agriculture & Botany,Gardening & Landscaping,Herbs,Local Community,Native Flora & Fauna,WEBINARS & ONLINE CLASSES
END:VEVENT
BEGIN:VEVENT
DTSTART;TZID=America/New_York:20220820T093000
DTEND;TZID=America/New_York:20220820T110000
DTSTAMP:20260422T225258
CREATED:20220727T183212Z
LAST-MODIFIED:20220727T183212Z
UID:10001766-1660987800-1660993200@baysoundings.com
SUMMARY:Forest Bathing Guided Walk
DESCRIPTION:Forest bathing is a guided walk designed to relax and rejuvenate. We’ll bathe our senses in the healing qualities of nature and share our experiences through conversation. We’ll leave refreshed by this contemplative practice that we can carry into our everyday routines. Please wear closed-toe shoes and comfortable clothing and bring a water bottle. \n>>> REGISTER HERE <<<
URL:https://baysoundings.com/event/forest-bathing-guided-walk/
LOCATION:Boyd Hill Nature Preserve Classroom\, 1101 COUNTRY CLUB WY S\, St. Petersburg\, FL\, 33705\, United States
CATEGORIES:Coastal & Wetlands,Health & Fitness,Home & Lifestyle,Local Community,Native Flora & Fauna,Nature Tours & Hikes
ORGANIZER;CN="Boyd Hill Nature Preserve":MAILTO:stpeteparksrec@stpete.org 
GEO:27.724764;-82.6502749
X-APPLE-STRUCTURED-LOCATION;VALUE=URI;X-ADDRESS=Boyd Hill Nature Preserve Classroom 1101 COUNTRY CLUB WY S St. Petersburg FL 33705 United States;X-APPLE-RADIUS=500;X-TITLE=1101 COUNTRY CLUB WY S:geo:-82.6502749,27.724764
END:VEVENT
BEGIN:VEVENT
DTSTART;TZID=America/New_York:20220823T090000
DTEND;TZID=America/New_York:20220823T120000
DTSTAMP:20260422T225258
CREATED:20220731T172431Z
LAST-MODIFIED:20220731T172431Z
UID:10001802-1661245200-1661256000@baysoundings.com
SUMMARY:Beekeeping Basics Workshop
DESCRIPTION:Learn about honeybee biology\, caring for your colonies\, types of hives & more! \n\n\n\n\n\nWhat’s all the buzz about? \nUF/IFAS Extension Hillsborough County is hosting the Beekeeping Basics Workshop! This workshop is for aspiring and beginning beekeepers. Join us to learn about honeybee biology\, caring for your colonies\, types of hives\, and more! \nThis workshop will be held in person in the Conference Center at our office\, UF/IFAS Extension Hillsborough County\, 5339 County Road 579\, Seffner\, FL 33584. Masks are recommended but not required. \nThe $15 registration fee includes morning refreshments and educational materials. \n>>> REGISTER HERE <<< \nQuestions? Contact: Allie Williams\, 813-744-5519 Ext. 54119\, allisonwilliams@ufl.edu. \nPersons requiring special accommodations\, per the Americans with Disabilities Act\, must contact Allie Williams at least (10) ten days prior to the event. \nThe University of Florida is an Equal Opportunity Institution.
URL:https://baysoundings.com/event/beekeeping-basics-workshop/
LOCATION:UF/IFAS Extension\, Hillsborough County\, 5339 County Road 579\, Seffner\, FL\, 33584\, United States
CATEGORIES:Agriculture & Botany,Clubs,Conservation & Ecology,Husbandry,Insects,Local Community,Native Flora & Fauna,Threatened & Endangered Species,Workshops & Classes
GEO:27.9914092;-82.3022317
X-APPLE-STRUCTURED-LOCATION;VALUE=URI;X-ADDRESS=UF/IFAS Extension Hillsborough County 5339 County Road 579 Seffner FL 33584 United States;X-APPLE-RADIUS=500;X-TITLE=5339 County Road 579:geo:-82.3022317,27.9914092
END:VEVENT
END:VCALENDAR