BEGIN:VCALENDAR
VERSION:2.0
PRODID:-//Bay Soundings - ECPv6.15.11//NONSGML v1.0//EN
CALSCALE:GREGORIAN
METHOD:PUBLISH
X-ORIGINAL-URL:https://baysoundings.com
X-WR-CALDESC:Events for Bay Soundings
REFRESH-INTERVAL;VALUE=DURATION:PT1H
X-Robots-Tag:noindex
X-PUBLISHED-TTL:PT1H
BEGIN:VTIMEZONE
TZID:America/New_York
BEGIN:DAYLIGHT
TZOFFSETFROM:-0500
TZOFFSETTO:-0400
TZNAME:EDT
DTSTART:20210314T070000
END:DAYLIGHT
BEGIN:STANDARD
TZOFFSETFROM:-0400
TZOFFSETTO:-0500
TZNAME:EST
DTSTART:20211107T060000
END:STANDARD
BEGIN:DAYLIGHT
TZOFFSETFROM:-0500
TZOFFSETTO:-0400
TZNAME:EDT
DTSTART:20220313T070000
END:DAYLIGHT
BEGIN:STANDARD
TZOFFSETFROM:-0400
TZOFFSETTO:-0500
TZNAME:EST
DTSTART:20221106T060000
END:STANDARD
BEGIN:DAYLIGHT
TZOFFSETFROM:-0500
TZOFFSETTO:-0400
TZNAME:EDT
DTSTART:20230312T070000
END:DAYLIGHT
BEGIN:STANDARD
TZOFFSETFROM:-0400
TZOFFSETTO:-0500
TZNAME:EST
DTSTART:20231105T060000
END:STANDARD
END:VTIMEZONE
BEGIN:VEVENT
DTSTART;TZID=America/New_York:20220704T100000
DTEND;TZID=America/New_York:20220704T170000
DTSTAMP:20260423T064949
CREATED:20220626T204537Z
LAST-MODIFIED:20220626T204537Z
UID:10000803-1656928800-1656954000@baysoundings.com
SUMMARY:Celebrate July 4th with us!
DESCRIPTION:Weather permitting\, our enthusiastic educators will be out on the pier\, July 4th\, with their teaching table at 11am\, 1pm\, and 3pm. To celebrate the day\, we are adding extra events throughout the day in addition to the teaching tabling times! \nThe Discovery Center will also be open for regular 10am – 5pm hours. Stop by the St. Pete Pier to enjoy learning about some of our favorite Tampa Bay estuary topics! From peering through our microscope to observe plankton pulled from under the Pier\, touch artifacts collected from the ocean\, or creating a craft; there’s a multitude of fun to celebrate the holiday\, with fireworks to end the day sponsored by the City of St. Petersburg.
URL:https://baysoundings.com/event/celebrate-july-4th-with-us/
LOCATION:Tampa Bay Watch Marine & Education Center\, 3000 Pinellas Bayway South\, Tierra Verde\, FL\, 33715\, United States
CATEGORIES:Coastal & Wetlands,Exhibits,Festivals & Fairs,Holiday Events,Kids & Families,Lectures & Seminars,Local Community,Marine Life,Maritime Topics,Native Flora & Fauna
GEO:27.6549456;-82.7178585
X-APPLE-STRUCTURED-LOCATION;VALUE=URI;X-ADDRESS=Tampa Bay Watch Marine & Education Center 3000 Pinellas Bayway South Tierra Verde FL 33715 United States;X-APPLE-RADIUS=500;X-TITLE=3000 Pinellas Bayway South:geo:-82.7178585,27.6549456
END:VEVENT
BEGIN:VEVENT
DTSTART;TZID=America/New_York:20220709T090000
DTEND;TZID=America/New_York:20220709T120000
DTSTAMP:20260423T064949
CREATED:20220626T184419Z
LAST-MODIFIED:20220626T184419Z
UID:10001053-1657357200-1657368000@baysoundings.com
SUMMARY:Summer Cleanup
DESCRIPTION:Join us for our mid-summer community cleanups on Saturday\, July 9 from 9 am till Noon at Grandview Park\, Bartlett Park\, and Coquina Key Park in St. Petersburg.\n\nThis event is an effort to clean up after the Fourth of July celebrations.  A big thank-you to SeaWorld Conservation Fund for supporting us in our marine debris efforts and our partners with the City of St. Petersburg!\n\nOur cleanup efforts will focus along the shorelines\, so please wear shoes that you don’t mind getting dirty. Long sleeves and long pants are recommended. Bring a refillable water bottle to stay hydrated. Wear a hat\, sunscreen\, bug spray\, and bring garden gloves.\n\nRegister for your preferred site:\nGrandview Park  |  Bartlett Park  |  Coquina Key Park
URL:https://baysoundings.com/event/summer-cleanup/
LOCATION:FL
CATEGORIES:Cleanups & Restorations,Coastal & Wetlands,Local Community,Marine Life,Volunteering
END:VEVENT
BEGIN:VEVENT
DTSTART;TZID=America/New_York:20220712T130000
DTEND;TZID=America/New_York:20220712T160000
DTSTAMP:20260423T064949
CREATED:20220624T183527Z
LAST-MODIFIED:20220624T184907Z
UID:10001049-1657630800-1657641600@baysoundings.com
SUMMARY:Cogon Grass Workshop
DESCRIPTION:Join UF/IFAS Extension and Suncoast CISMA for an afternoon on Cogon Grass! \nHear from local land managers and UF/IFAS Faculty about Cogon Grass Identification\, Current Status\, Management Techniques and participate in a hands-on demonstration. \nContact Alyssa Vinson\, alyvinson@ufl.edu with any questions or special accommodations. \n>>> REGISTER HERE <<<
URL:https://baysoundings.com/event/cogon-grass-workshop/
LOCATION:UF/IFAS Extension Sarasota County Office\, 6700 Clark Road\, Sarasota\, FL\, 34241\, United States
CATEGORIES:Gardening & Landscaping,Local Community,Workshops & Classes
ORGANIZER;CN="UF | IFAS OCI":MAILTO:tamar@ufl.edu
END:VEVENT
BEGIN:VEVENT
DTSTART;TZID=America/New_York:20220714T190000
DTEND;TZID=America/New_York:20220714T220000
DTSTAMP:20260423T064949
CREATED:20220626T185415Z
LAST-MODIFIED:20220626T190025Z
UID:10000804-1657825200-1657836000@baysoundings.com
SUMMARY:Rays Up for Tampa Bay Watch!
DESCRIPTION:Go to a Rays game and support Tampa Bay Watch at the same time!\n\nWe’re partnering with the Rays for the Thursday\, July 14\, 7:10pm game vs. the Boston Red Sox.\nTickets are in the Lower Level (Located in sections 129-150) at $30 per ticket with a portion of the sales coming back to Tampa Bay Watch.\n\nOne person who buys tickets will win a 4-pack of tickets for an Eco-Tour at the Tampa Bay Watch Discovery Center!\n>>> BUY TICKETS <<<
URL:https://baysoundings.com/event/rays-up-for-tampa-bay-watch/
LOCATION:Tropicana Field\, 1 Tropicana Drive\, St. Petersburg\, FL\, 33705\, United States
CATEGORIES:Fundraisers & Sales,Local Community,Various Sports
END:VEVENT
BEGIN:VEVENT
DTSTART;TZID=America/New_York:20220722T100000
DTEND;TZID=America/New_York:20220722T110000
DTSTAMP:20260423T064949
CREATED:20220622T204500Z
LAST-MODIFIED:20220622T204500Z
UID:10001758-1658484000-1658487600@baysoundings.com
SUMMARY:Saving Water- Youth Program
DESCRIPTION:Why and How Can I Make a Difference?\n\nLiving in Florida you are never too young to learn about water conservation! \n\n\n\n\n\nDid you know that not only we are surrounded by water in Florida\, but we live on top of it too? Join Florida-Friendly Landscaping™ Educator\, Melissa West as we explore the water cycle\, how to reduce pollution\, and what you can do to protect our most precious resource\, WATER! \nThis youth program is geared toward ages 7 to 12. Registration is required. Space is limited and this program will cap at 20 participants. Please register just your child (children). \nAdditional Notes: This program will be held in our auditorium. It takes about 10 minutes to drive from the preserve entrance (Keystone Rd.) to the parking lot. We will start promptly at 10am. \n>>> REGISTER HERE <<<
URL:https://baysoundings.com/event/saving-water-youth-program/
LOCATION:Brooker Creek Environmental Education Center\, 3940 Keystone Road\, Tarpon Springs\, FL\, 34688\, United States
CATEGORIES:Clean Water,Conservation & Ecology,Home & Lifestyle,Kids & Families,Lectures & Seminars,Local Community,Youth Programs
GEO:28.136639;-82.656421
X-APPLE-STRUCTURED-LOCATION;VALUE=URI;X-ADDRESS=Brooker Creek Environmental Education Center 3940 Keystone Road Tarpon Springs FL 34688 United States;X-APPLE-RADIUS=500;X-TITLE=3940 Keystone Road:geo:-82.656421,28.136639
END:VEVENT
BEGIN:VEVENT
DTSTART;TZID=America/New_York:20220730T100000
DTEND;TZID=America/New_York:20220730T130000
DTSTAMP:20260423T064949
CREATED:20220623T213203Z
LAST-MODIFIED:20220623T213203Z
UID:10000921-1659175200-1659186000@baysoundings.com
SUMMARY:Moccasin Lake is celebrating 40 years!
DESCRIPTION:Join us for a few hours\, 10am to 1pm\, for fun\, face-painting\, live music\, Cal’s Soul Food Express and crafts and animal presentations through the Clubs & Societies that meet at the park! \nGFWC Clearwater Community Woman’s Club\nSuncoast Herpetological Society\nFriends of Moccasin Lake\nSafety Harbor Garden Club\nFlorida Native Plant Society\nHukyu Bonsai Society\nFriends in Focus Photography Club of Clearwater\nThe Florida Herb Society\nCal’s Soul Food Express\nG.E. Sassani Band
URL:https://baysoundings.com/event/moccasin-lake-is-celebrating-40-years/
LOCATION:Moccasin Lake Environmental Education Center\, 2750 Park Trail Lane\, Clearwater\, FL\, United States
CATEGORIES:Clubs,Concerts,Crafts & Hobbies,Exhibits,Festivals & Fairs,Kids & Families,Local Community
GEO:27.977104;-82.724462
X-APPLE-STRUCTURED-LOCATION;VALUE=URI;X-ADDRESS=Moccasin Lake Environmental Education Center 2750 Park Trail Lane Clearwater FL United States;X-APPLE-RADIUS=500;X-TITLE=2750 Park Trail Lane:geo:-82.724462,27.977104
END:VEVENT
END:VCALENDAR