BEGIN:VCALENDAR
VERSION:2.0
PRODID:-//Bay Soundings - ECPv6.15.11//NONSGML v1.0//EN
CALSCALE:GREGORIAN
METHOD:PUBLISH
X-ORIGINAL-URL:https://baysoundings.com
X-WR-CALDESC:Events for Bay Soundings
REFRESH-INTERVAL;VALUE=DURATION:PT1H
X-Robots-Tag:noindex
X-PUBLISHED-TTL:PT1H
BEGIN:VTIMEZONE
TZID:America/New_York
BEGIN:DAYLIGHT
TZOFFSETFROM:-0500
TZOFFSETTO:-0400
TZNAME:EDT
DTSTART:20210314T070000
END:DAYLIGHT
BEGIN:STANDARD
TZOFFSETFROM:-0400
TZOFFSETTO:-0500
TZNAME:EST
DTSTART:20211107T060000
END:STANDARD
BEGIN:DAYLIGHT
TZOFFSETFROM:-0500
TZOFFSETTO:-0400
TZNAME:EDT
DTSTART:20220313T070000
END:DAYLIGHT
BEGIN:STANDARD
TZOFFSETFROM:-0400
TZOFFSETTO:-0500
TZNAME:EST
DTSTART:20221106T060000
END:STANDARD
BEGIN:DAYLIGHT
TZOFFSETFROM:-0500
TZOFFSETTO:-0400
TZNAME:EDT
DTSTART:20230312T070000
END:DAYLIGHT
BEGIN:STANDARD
TZOFFSETFROM:-0400
TZOFFSETTO:-0500
TZNAME:EST
DTSTART:20231105T060000
END:STANDARD
END:VTIMEZONE
BEGIN:VEVENT
DTSTART;TZID=America/New_York:20220601T090000
DTEND;TZID=America/New_York:20220601T110000
DTSTAMP:20260424T045342
CREATED:20220525T212224Z
LAST-MODIFIED:20220525T212224Z
UID:10000403-1654074000-1654081200@baysoundings.com
SUMMARY:Be Prepared: Trees & Tropical Weather
DESCRIPTION:Learn about how best to plan\, maintain and prepare your trees for tropical weather! \nAs we start off this year’s hurricane season\, join UF/IFAS Extension to learn about how best to plan\, maintain and prepare your trees for the tropical weather. Hybrid virtual and in person (1303 17th St W\, Palmetto – Kendrick Auditorium) \nRegister HERE. 
URL:https://baysoundings.com/event/be-prepared-trees-tropical-weather/
LOCATION:UF/IFAS Manatee County Extension\, 1303 17th Street West\, Palmetto\, FL\, 34221\, United States
CATEGORIES:Climate,Coastal & Wetlands,Gardening & Landscaping,Local Community,Native Flora & Fauna,Safety,WEBINARS & ONLINE CLASSES,Workshops & Classes
GEO:27.526707;-82.580054
X-APPLE-STRUCTURED-LOCATION;VALUE=URI;X-ADDRESS=UF/IFAS Manatee County Extension 1303 17th Street West Palmetto FL 34221 United States;X-APPLE-RADIUS=500;X-TITLE=1303 17th Street West:geo:-82.580054,27.526707
END:VEVENT
BEGIN:VEVENT
DTSTART;VALUE=DATE:20220604
DTEND;VALUE=DATE:20220605
DTSTAMP:20260424T045342
CREATED:20220423T211705Z
LAST-MODIFIED:20220423T211705Z
UID:10001715-1654300800-1654387199@baysoundings.com
SUMMARY:Cross Bayou - Joe's Creek Clean Up
DESCRIPTION:GET TICKETS
URL:https://baysoundings.com/event/cross-bayou-joes-creek-clean-up/
LOCATION:FL
CATEGORIES:Cleanups & Restorations,Local Community,Volunteering
END:VEVENT
BEGIN:VEVENT
DTSTART;TZID=America/New_York:20220611T083000
DTEND;TZID=America/New_York:20220611T103000
DTSTAMP:20260424T045342
CREATED:20220525T203024Z
LAST-MODIFIED:20220525T203024Z
UID:10001745-1654936200-1654943400@baysoundings.com
SUMMARY:Photography Hike
DESCRIPTION:Walk the boardwalks and natural paths of Weedon Island\, capturing photographs of native flora and fauna along the way.\n\n\n\n\n\n\n\nGrab your camera of choice and enjoy a guided tour of the trails at the Weedon Island Preserve! This program will begin with a brief classroom session to highlight the seasonal features of the Preserve\, as well as specific wildlife behaviors\, that will help participants capture the natural beauty of the area. Photographers of all skill levels are welcome. \nThis hike is roughly 2 miles in total length on a combination of boardwalks and unimproved\, natural paths. This program is is best suited for adults. \nProceeds will support the Friends of Weedon Island\, a non-profit organization that works to promote education and conservation of the Weedon Island Preserve. Learn about our Friends! \n>>> REGISTER HERE <<<
URL:https://baysoundings.com/event/photography-hike-5/
LOCATION:Weedon Island Preserve Cultural and Natural History Center\, 1800 Weedon Drive NE\, St. Petersburg\, FL\, United States
CATEGORIES:Coastal & Wetlands,Crafts & Hobbies,Lectures & Seminars,Local Community,Native Flora & Fauna,Nature Tours & Hikes,Photography,Wildlife
GEO:27.850451;-82.6075539
X-APPLE-STRUCTURED-LOCATION;VALUE=URI;X-ADDRESS=Weedon Island Preserve Cultural and Natural History Center 1800 Weedon Drive NE St. Petersburg FL United States;X-APPLE-RADIUS=500;X-TITLE=1800 Weedon Drive NE:geo:-82.6075539,27.850451
END:VEVENT
BEGIN:VEVENT
DTSTART;TZID=America/New_York:20220616T103000
DTEND;TZID=America/New_York:20220616T123000
DTSTAMP:20260424T045342
CREATED:20220525T215603Z
LAST-MODIFIED:20220525T215603Z
UID:10000541-1655375400-1655382600@baysoundings.com
SUMMARY:Rain Barrels for the Rainy Days of Summer
DESCRIPTION:Learn the proper way to use rain barrels!\n\n\n\n\n\n\n\n\nLearn the safe and proper ways to use rain barrels to collect water from your roof gutters to help mitigate stormwater runoff and reduce potable water usage in your landscape by watering your plants with it! \nAfter the Zoom webinar you will have an opportunity to make an appointment to purchase your own rain barrel and bag of some of the parts you’ll need to install it for $30 plus tax. \n>>> WEBINAR REGISTRATION <<< \nPlease submit special accommodation requests to katiebg@ufl.edu at least 10 day prior to event.
URL:https://baysoundings.com/event/rain-barrels-for-the-rainy-days-of-summer-2/
LOCATION:Online Event
CATEGORIES:Clean Water,Conservation & Ecology,Farming,Gardening & Landscaping,Home & Lifestyle,Local Community,WEBINARS & ONLINE CLASSES,Workshops & Classes
END:VEVENT
END:VCALENDAR