BEGIN:VCALENDAR
VERSION:2.0
PRODID:-//Bay Soundings - ECPv6.15.11//NONSGML v1.0//EN
CALSCALE:GREGORIAN
METHOD:PUBLISH
X-ORIGINAL-URL:https://baysoundings.com
X-WR-CALDESC:Events for Bay Soundings
REFRESH-INTERVAL;VALUE=DURATION:PT1H
X-Robots-Tag:noindex
X-PUBLISHED-TTL:PT1H
BEGIN:VTIMEZONE
TZID:America/New_York
BEGIN:DAYLIGHT
TZOFFSETFROM:-0500
TZOFFSETTO:-0400
TZNAME:EDT
DTSTART:20230312T070000
END:DAYLIGHT
BEGIN:STANDARD
TZOFFSETFROM:-0400
TZOFFSETTO:-0500
TZNAME:EST
DTSTART:20231105T060000
END:STANDARD
BEGIN:DAYLIGHT
TZOFFSETFROM:-0500
TZOFFSETTO:-0400
TZNAME:EDT
DTSTART:20240310T070000
END:DAYLIGHT
BEGIN:STANDARD
TZOFFSETFROM:-0400
TZOFFSETTO:-0500
TZNAME:EST
DTSTART:20241103T060000
END:STANDARD
BEGIN:DAYLIGHT
TZOFFSETFROM:-0500
TZOFFSETTO:-0400
TZNAME:EDT
DTSTART:20250309T070000
END:DAYLIGHT
BEGIN:STANDARD
TZOFFSETFROM:-0400
TZOFFSETTO:-0500
TZNAME:EST
DTSTART:20251102T060000
END:STANDARD
END:VTIMEZONE
BEGIN:VEVENT
DTSTART;TZID=America/New_York:20240412T100000
DTEND;TZID=America/New_York:20240412T110000
DTSTAMP:20260421T170407
CREATED:20240403T182752Z
LAST-MODIFIED:20240403T182918Z
UID:10005743-1712916000-1712919600@baysoundings.com
SUMMARY:Story Time in the Majeed Discovery Garden
DESCRIPTION:Listen to a couple of fun stories while playing with musical instruments and bubbles in our Majeed Discovery Garden. Story Time is recommended for kids 5 and under. \nContact our Children’s Garden Educator\, Jessie Wingar\, at jessieflbgfoundation@gmail.com if you have any questions. \n>>> REGISTER HERE <<<
URL:https://baysoundings.com/event/story-time-in-the-majeed-discovery-garden/2024-04-12/
LOCATION:Florida Botanical Gardens\, 12520 Ulmerton Road\, Largo\, FL\, 33778\, United States
CATEGORIES:Arts, Music & Literature,Kids & Families,Story Time,Youth Programs
GEO:27.8830543;-82.8105436
X-APPLE-STRUCTURED-LOCATION;VALUE=URI;X-ADDRESS=Florida Botanical Gardens 12520 Ulmerton Road Largo FL 33778 United States;X-APPLE-RADIUS=500;X-TITLE=12520 Ulmerton Road:geo:-82.8105436,27.8830543
END:VEVENT
BEGIN:VEVENT
DTSTART;TZID=America/New_York:20240412T140000
DTEND;TZID=America/New_York:20240412T160000
DTSTAMP:20260421T170407
CREATED:20240330T204625Z
LAST-MODIFIED:20240330T204625Z
UID:10005740-1712930400-1712937600@baysoundings.com
SUMMARY:Meatball's Birthday Party
DESCRIPTION:Meatball is a Roseate Spoonbill and one of our newest residents at the Sanctuary after arriving as a patient in April of 2023. Meatball had an already healing fracture of the left wing\, rendering him unable to fly. He is currently an Avian Ambassador in training!  \nJoin us as we celebrate our beloved resident\, Meatball the Roseate Spoonbill’s\, birthday! Meet Meatball and some of his Avian Ambassador friends while they celebrate.
URL:https://baysoundings.com/event/meatballs-birthday-party/
LOCATION:Seaside Seabird Sanctuary\, 18328 Gulf Blvd\, Indian Shores\, FL\, 33785\, United States
CATEGORIES:Birds & Birding,Exhibits,Kids & Families,Local Community,Native Flora & Fauna,Wildlife,Youth Programs
END:VEVENT
END:VCALENDAR