BEGIN:VCALENDAR
VERSION:2.0
PRODID:-//Bay Soundings - ECPv6.15.11//NONSGML v1.0//EN
CALSCALE:GREGORIAN
METHOD:PUBLISH
X-ORIGINAL-URL:https://baysoundings.com
X-WR-CALDESC:Events for Bay Soundings
REFRESH-INTERVAL;VALUE=DURATION:PT1H
X-Robots-Tag:noindex
X-PUBLISHED-TTL:PT1H
BEGIN:VTIMEZONE
TZID:America/New_York
BEGIN:DAYLIGHT
TZOFFSETFROM:-0500
TZOFFSETTO:-0400
TZNAME:EDT
DTSTART:20230312T070000
END:DAYLIGHT
BEGIN:STANDARD
TZOFFSETFROM:-0400
TZOFFSETTO:-0500
TZNAME:EST
DTSTART:20231105T060000
END:STANDARD
BEGIN:DAYLIGHT
TZOFFSETFROM:-0500
TZOFFSETTO:-0400
TZNAME:EDT
DTSTART:20240310T070000
END:DAYLIGHT
BEGIN:STANDARD
TZOFFSETFROM:-0400
TZOFFSETTO:-0500
TZNAME:EST
DTSTART:20241103T060000
END:STANDARD
BEGIN:DAYLIGHT
TZOFFSETFROM:-0500
TZOFFSETTO:-0400
TZNAME:EDT
DTSTART:20250309T070000
END:DAYLIGHT
BEGIN:STANDARD
TZOFFSETFROM:-0400
TZOFFSETTO:-0500
TZNAME:EST
DTSTART:20251102T060000
END:STANDARD
END:VTIMEZONE
BEGIN:VEVENT
DTSTART;TZID=America/New_York:20240113T100000
DTEND;TZID=America/New_York:20240113T113000
DTSTAMP:20260421T043850
CREATED:20231219T210708Z
LAST-MODIFIED:20231219T210708Z
UID:10003838-1705140000-1705145400@baysoundings.com
SUMMARY:Wildlife & Plant Identification
DESCRIPTION:This program invites adults and children to develop various camping skills together. Some of the topics covered include: wildlife and plant identification\, foil wrapped foods\, backpacking basics\, and much more! All ages welcome with a registered adult. Please select the correct number of participants or seats needed at the time of enrollment. \n>>> REGISTER HERE <<<
URL:https://baysoundings.com/event/wildlife-plant-identification/
LOCATION:Boyd Hill Nature Preserve Classroom\, 1101 COUNTRY CLUB WY S\, St. Petersburg\, FL\, 33705\, United States
CATEGORIES:Agriculture & Botany,Backpacking & Camping,Kids & Families,Lectures & Seminars,Native Flora & Fauna,Nature Tours & Hikes,Wildlife,Youth Programs
ORGANIZER;CN="Boyd Hill Nature Preserve":MAILTO:stpeteparksrec@stpete.org 
GEO:27.724764;-82.6502749
X-APPLE-STRUCTURED-LOCATION;VALUE=URI;X-ADDRESS=Boyd Hill Nature Preserve Classroom 1101 COUNTRY CLUB WY S St. Petersburg FL 33705 United States;X-APPLE-RADIUS=500;X-TITLE=1101 COUNTRY CLUB WY S:geo:-82.6502749,27.724764
END:VEVENT
BEGIN:VEVENT
DTSTART;TZID=America/New_York:20240113T140000
DTEND;TZID=America/New_York:20240113T160000
DTSTAMP:20260421T043850
CREATED:20231219T210217Z
LAST-MODIFIED:20231219T210217Z
UID:10003837-1705154400-1705161600@baysoundings.com
SUMMARY:Build a Bird House
DESCRIPTION:Join us for a family nature program\, immerse yourself in the beauty of winter as we explore the fascinating world of Florida’s winter birds and get creative by building bird houses together! \nAges 10 yrs + \n>>> REGISTER HERE <<< \n 
URL:https://baysoundings.com/event/build-a-bird-house/
LOCATION:Boyd Hill Nature Preserve Classroom\, 1101 COUNTRY CLUB WY S\, St. Petersburg\, FL\, 33705\, United States
CATEGORIES:Birds & Birding,Conservation & Ecology,Crafts & Hobbies,Gardening & Landscaping,Kids & Families,Local Community,Native Flora & Fauna,Wildlife,Workshops & Classes,Youth Programs
ORGANIZER;CN="Boyd Hill Nature Preserve":MAILTO:stpeteparksrec@stpete.org 
GEO:27.724764;-82.6502749
X-APPLE-STRUCTURED-LOCATION;VALUE=URI;X-ADDRESS=Boyd Hill Nature Preserve Classroom 1101 COUNTRY CLUB WY S St. Petersburg FL 33705 United States;X-APPLE-RADIUS=500;X-TITLE=1101 COUNTRY CLUB WY S:geo:-82.6502749,27.724764
END:VEVENT
END:VCALENDAR