BEGIN:VCALENDAR
VERSION:2.0
PRODID:-//Bay Soundings - ECPv6.15.11//NONSGML v1.0//EN
CALSCALE:GREGORIAN
METHOD:PUBLISH
X-ORIGINAL-URL:https://baysoundings.com
X-WR-CALDESC:Events for Bay Soundings
REFRESH-INTERVAL;VALUE=DURATION:PT1H
X-Robots-Tag:noindex
X-PUBLISHED-TTL:PT1H
BEGIN:VTIMEZONE
TZID:America/New_York
BEGIN:DAYLIGHT
TZOFFSETFROM:-0500
TZOFFSETTO:-0400
TZNAME:EDT
DTSTART:20220313T070000
END:DAYLIGHT
BEGIN:STANDARD
TZOFFSETFROM:-0400
TZOFFSETTO:-0500
TZNAME:EST
DTSTART:20221106T060000
END:STANDARD
BEGIN:DAYLIGHT
TZOFFSETFROM:-0500
TZOFFSETTO:-0400
TZNAME:EDT
DTSTART:20230312T070000
END:DAYLIGHT
BEGIN:STANDARD
TZOFFSETFROM:-0400
TZOFFSETTO:-0500
TZNAME:EST
DTSTART:20231105T060000
END:STANDARD
BEGIN:DAYLIGHT
TZOFFSETFROM:-0500
TZOFFSETTO:-0400
TZNAME:EDT
DTSTART:20240310T070000
END:DAYLIGHT
BEGIN:STANDARD
TZOFFSETFROM:-0400
TZOFFSETTO:-0500
TZNAME:EST
DTSTART:20241103T060000
END:STANDARD
END:VTIMEZONE
BEGIN:VEVENT
DTSTART;TZID=America/New_York:20231118T103000
DTEND;TZID=America/New_York:20231118T120000
DTSTAMP:20260420T120942
CREATED:20231026T205753Z
LAST-MODIFIED:20231026T205902Z
UID:10003618-1700303400-1700308800@baysoundings.com
SUMMARY:Bugs & Butterflies for Beginners
DESCRIPTION:This class is an introduction wonderful world of insects! \n\n\nWhat is that bug? Does it bite? Is it REALLY a bug? This class will introduce participants to the wonderful world of insects\, including butterflies\, found throughout Pinellas County. Learn how to identify major groups of insects and their ecological importance. Recommended for adults and families. \nPresented by James Stevenson\, Education and Outreach Supervisor \n>>> REGISTER HERE <<<
URL:https://baysoundings.com/event/bugs-butterflies-for-beginners/
LOCATION:Brooker Creek Environmental Education Center\, 3940 Keystone Road\, Tarpon Springs\, FL\, 34688\, United States
CATEGORIES:Agriculture & Botany,Coastal & Wetlands,Gardening & Landscaping,Insects,Kids & Families,Lectures & Seminars,Local Community,Native Flora & Fauna,Threatened & Endangered Species,Workshops & Classes,Youth Programs
ORGANIZER;CN="Friends of Brooker Creek Preserve":MAILTO:info@friendsofbrookercreekpreserve.org
GEO:28.136639;-82.656421
X-APPLE-STRUCTURED-LOCATION;VALUE=URI;X-ADDRESS=Brooker Creek Environmental Education Center 3940 Keystone Road Tarpon Springs FL 34688 United States;X-APPLE-RADIUS=500;X-TITLE=3940 Keystone Road:geo:-82.656421,28.136639
END:VEVENT
BEGIN:VEVENT
DTSTART;TZID=America/New_York:20231118T190000
DTEND;TZID=America/New_York:20231118T210000
DTSTAMP:20260420T120942
CREATED:20230923T183726Z
LAST-MODIFIED:20230923T183726Z
UID:10003099-1700334000-1700341200@baysoundings.com
SUMMARY:Astronomy Night
DESCRIPTION:Explore the night sky with volunteers from the St. Petersburg Astronomy Club! During this month’s program\, participants will be able to see Saturn\, Jupiter and the Andromeda Galaxy and see a waxing crescent moon in the west\, too! \nAll ages welcome with a registered adult. Please select the correct number of participants or seats needed at the time of enrollment. \n>>> REGISTER HERE <<<
URL:https://baysoundings.com/event/astronomy-night-4/
LOCATION:Boyd Hill Nature Preserve Classroom\, 1101 COUNTRY CLUB WY S\, St. Petersburg\, FL\, 33705\, United States
CATEGORIES:Astronomy & Sky Watching,Clubs,Kids & Families,Space Exploration
ORGANIZER;CN="Boyd Hill Nature Preserve":MAILTO:stpeteparksrec@stpete.org 
GEO:27.724764;-82.6502749
X-APPLE-STRUCTURED-LOCATION;VALUE=URI;X-ADDRESS=Boyd Hill Nature Preserve Classroom 1101 COUNTRY CLUB WY S St. Petersburg FL 33705 United States;X-APPLE-RADIUS=500;X-TITLE=1101 COUNTRY CLUB WY S:geo:-82.6502749,27.724764
END:VEVENT
END:VCALENDAR