BEGIN:VCALENDAR
VERSION:2.0
PRODID:-//Bay Soundings - ECPv6.15.11//NONSGML v1.0//EN
CALSCALE:GREGORIAN
METHOD:PUBLISH
X-ORIGINAL-URL:https://baysoundings.com
X-WR-CALDESC:Events for Bay Soundings
REFRESH-INTERVAL;VALUE=DURATION:PT1H
X-Robots-Tag:noindex
X-PUBLISHED-TTL:PT1H
BEGIN:VTIMEZONE
TZID:America/New_York
BEGIN:DAYLIGHT
TZOFFSETFROM:-0500
TZOFFSETTO:-0400
TZNAME:EDT
DTSTART:20220313T070000
END:DAYLIGHT
BEGIN:STANDARD
TZOFFSETFROM:-0400
TZOFFSETTO:-0500
TZNAME:EST
DTSTART:20221106T060000
END:STANDARD
BEGIN:DAYLIGHT
TZOFFSETFROM:-0500
TZOFFSETTO:-0400
TZNAME:EDT
DTSTART:20230312T070000
END:DAYLIGHT
BEGIN:STANDARD
TZOFFSETFROM:-0400
TZOFFSETTO:-0500
TZNAME:EST
DTSTART:20231105T060000
END:STANDARD
BEGIN:DAYLIGHT
TZOFFSETFROM:-0500
TZOFFSETTO:-0400
TZNAME:EDT
DTSTART:20240310T070000
END:DAYLIGHT
BEGIN:STANDARD
TZOFFSETFROM:-0400
TZOFFSETTO:-0500
TZNAME:EST
DTSTART:20241103T060000
END:STANDARD
END:VTIMEZONE
BEGIN:VEVENT
DTSTART;VALUE=DATE:20231012
DTEND;VALUE=DATE:20231116
DTSTAMP:20260421T002554
CREATED:20230930T213954Z
LAST-MODIFIED:20230930T213954Z
UID:10003223-1697068800-1700092799@baysoundings.com
SUMMARY:Florida Birding & Nature Festival
DESCRIPTION:Four days of field and boat trips\, expert seminars\, keynote speakers\, and a great free nature expo! \nFestival Schedule Details for 2023
URL:https://baysoundings.com/event/florida-birding-nature-festival-4-2/
LOCATION:Suncoast Youth Conservation Center\, 6650 Dickman Road\, Apollo Beach\, FL\, 33572\, United States
CATEGORIES:Birds & Birding,Crafts & Hobbies,Exhibits,Festivals & Fairs,Kids & Families,Local Community,Native Flora & Fauna
END:VEVENT
BEGIN:VEVENT
DTSTART;TZID=America/New_York:20231021T093000
DTEND;TZID=America/New_York:20231021T103000
DTSTAMP:20260421T002554
CREATED:20230925T202802Z
LAST-MODIFIED:20230925T202802Z
UID:10003183-1697880600-1697884200@baysoundings.com
SUMMARY:Youth Workshop: Ancient Pottery
DESCRIPTION:Learn to make pottery like the ancient people who once lived at Weedon Island. Over 1\,000 years ago\, early potters were making coiled pots out of clay and sand for cooking vessels and ceremonial functions. This workshop will teach youth how to form a small-coiled pot and add distinctive decorations using early techniques. \nThis workshop is recommended for youth ages 6 and up. All youth must be accompanied by an adult for the full duration of the class. The workshop is limited to 30 participants total. \nThis workshop will be led by Phyllis Kolianos\, an archaeologist with the Alliance for Weedon Island Archaeological Research and Education\, Inc. (AWIARE). Kolianos was an employee of Pinellas County and the past manager of the Weedon Island Preserve Cultural and Natural History Center for over a decade. \n>>> REGISTER HERE <<<
URL:https://baysoundings.com/event/youth-workshop-ancient-pottery/
LOCATION:Weedon Island Preserve Cultural and Natural History Center\, 1800 Weedon Drive NE\, St. Petersburg\, FL\, United States
CATEGORIES:Archaeology,Crafts & Hobbies,History & Culture,Homeschool,Kids & Families,Workshops & Classes,Youth Programs
GEO:27.850451;-82.6075539
X-APPLE-STRUCTURED-LOCATION;VALUE=URI;X-ADDRESS=Weedon Island Preserve Cultural and Natural History Center 1800 Weedon Drive NE St. Petersburg FL United States;X-APPLE-RADIUS=500;X-TITLE=1800 Weedon Drive NE:geo:-82.6075539,27.850451
END:VEVENT
BEGIN:VEVENT
DTSTART;TZID=America/New_York:20231021T103000
DTEND;TZID=America/New_York:20231021T120000
DTSTAMP:20260421T002554
CREATED:20230924T213045Z
LAST-MODIFIED:20230924T213045Z
UID:10003172-1697884200-1697889600@baysoundings.com
SUMMARY:Why Turtles are Cool
DESCRIPTION:This program will introduce the fascinating world of turtles. Did you know that the sex of some species is determined at a pivotal point during egg incubation\, or that turtles are among the most endangered group of animals on earth? How about the fact that turtles can ‘talk’ and are more social than we realized? Learn about their diversity and conservation\, as well as the latest research findings. \n>>> REGISTER HERE <<< \nSponsored by the Friends of Brooker Creek Preserve \nPresented by George L. Heinrich (Heinrich Ecological Services; Florida Turtle Conservation Trust) \nGeorge L. Heinrich is a field biologist and environmental educator specializing in Florida reptiles. His company\, Heinrich Ecological Services (www.heinrichecologicalservices.com)\, is based in St. Petersburg\, Florida and conducts wildlife surveys and research\, natural history programming\, and nature-based tours. George is currently the Executive Director of the Florida Turtle Conservation Trust (www.ftct.org).
URL:https://baysoundings.com/event/why-turtles-are-cool/
LOCATION:Brooker Creek Environmental Education Center\, 3940 Keystone Road\, Tarpon Springs\, FL\, 34688\, United States
CATEGORIES:Coastal & Wetlands,Kids & Families,Lectures & Seminars,Native Flora & Fauna,Reptiles & Amphibians,Wildlife
ORGANIZER;CN="Friends of Brooker Creek Preserve":MAILTO:info@friendsofbrookercreekpreserve.org
GEO:28.136639;-82.656421
X-APPLE-STRUCTURED-LOCATION;VALUE=URI;X-ADDRESS=Brooker Creek Environmental Education Center 3940 Keystone Road Tarpon Springs FL 34688 United States;X-APPLE-RADIUS=500;X-TITLE=3940 Keystone Road:geo:-82.656421,28.136639
END:VEVENT
BEGIN:VEVENT
DTSTART;TZID=America/New_York:20231021T120000
DTEND;TZID=America/New_York:20231021T160000
DTSTAMP:20260421T002554
CREATED:20231001T214402Z
LAST-MODIFIED:20231001T214402Z
UID:10003228-1697889600-1697904000@baysoundings.com
SUMMARY:Pumpkin Fest at Florida Botanical Gardens
DESCRIPTION:Join us for a pumpkin patch\, pumpkin carving\, and spooky activities led by our Children’s Garden Educator and community sponsors Florida Nursery\, Growers and Landscaping Association and County Farm Bureau. This event is part of Third Saturdays at Pinewood\, so make sure to check out Creative Pinellas and Heritage Village for more activities on the day of the event.  \nParticipate in the Scarecrow Contest! To register a scarecrow\, visit https://forms.gle/HEcxPTDRpQdhry5FA.  \nFree Parking (2 Locations) \n12520 Ulmerton Road\, Largo FL\, 33774\n12211 Walsingham Road\, Largo\, FL 33778
URL:https://baysoundings.com/event/pumpkin-fest-at-florida-botanical-gardens/
LOCATION:Florida Botanical Gardens\, 12520 Ulmerton Road\, Largo\, FL\, 33778\, United States
CATEGORIES:Contests & Competitions,Gardening & Landscaping,Holiday Events,Kids & Families,Local Community,Youth Programs
GEO:27.8830543;-82.8105436
X-APPLE-STRUCTURED-LOCATION;VALUE=URI;X-ADDRESS=Florida Botanical Gardens 12520 Ulmerton Road Largo FL 33778 United States;X-APPLE-RADIUS=500;X-TITLE=12520 Ulmerton Road:geo:-82.8105436,27.8830543
END:VEVENT
END:VCALENDAR