BEGIN:VCALENDAR
VERSION:2.0
PRODID:-//Bay Soundings - ECPv6.15.11//NONSGML v1.0//EN
CALSCALE:GREGORIAN
METHOD:PUBLISH
X-ORIGINAL-URL:https://baysoundings.com
X-WR-CALDESC:Events for Bay Soundings
REFRESH-INTERVAL;VALUE=DURATION:PT1H
X-Robots-Tag:noindex
X-PUBLISHED-TTL:PT1H
BEGIN:VTIMEZONE
TZID:America/New_York
BEGIN:DAYLIGHT
TZOFFSETFROM:-0500
TZOFFSETTO:-0400
TZNAME:EDT
DTSTART:20220313T070000
END:DAYLIGHT
BEGIN:STANDARD
TZOFFSETFROM:-0400
TZOFFSETTO:-0500
TZNAME:EST
DTSTART:20221106T060000
END:STANDARD
BEGIN:DAYLIGHT
TZOFFSETFROM:-0500
TZOFFSETTO:-0400
TZNAME:EDT
DTSTART:20230312T070000
END:DAYLIGHT
BEGIN:STANDARD
TZOFFSETFROM:-0400
TZOFFSETTO:-0500
TZNAME:EST
DTSTART:20231105T060000
END:STANDARD
BEGIN:DAYLIGHT
TZOFFSETFROM:-0500
TZOFFSETTO:-0400
TZNAME:EDT
DTSTART:20240310T070000
END:DAYLIGHT
BEGIN:STANDARD
TZOFFSETFROM:-0400
TZOFFSETTO:-0500
TZNAME:EST
DTSTART:20241103T060000
END:STANDARD
END:VTIMEZONE
BEGIN:VEVENT
DTSTART;TZID=America/New_York:20231007T083000
DTEND;TZID=America/New_York:20231007T113000
DTSTAMP:20260420T045712
CREATED:20230923T190804Z
LAST-MODIFIED:20230923T190804Z
UID:10003104-1696667400-1696678200@baysoundings.com
SUMMARY:Navigating Nature: Brilliant Bird Adaptations
DESCRIPTION:Did you know that some birds have combs on their toes? Join St. Petersburg Audubon Society for a free half-day program exploring wild and brilliant bird adaptations that allow birds to survive! \nPreregistration required.\nAges 8 yrs – 12 yrs \n>>> REGISTER HERE <<<
URL:https://baysoundings.com/event/navigating-nature-brilliant-bird-adaptations/
LOCATION:Boyd Hill Nature Preserve Classroom\, 1101 COUNTRY CLUB WY S\, St. Petersburg\, FL\, 33705\, United States
CATEGORIES:Birds & Birding,Homeschool,Kids & Families,Lectures & Seminars,Local Community,Native Flora & Fauna,Raptors,Wildlife,Workshops & Classes,Youth Programs
GEO:27.724764;-82.6502749
X-APPLE-STRUCTURED-LOCATION;VALUE=URI;X-ADDRESS=Boyd Hill Nature Preserve Classroom 1101 COUNTRY CLUB WY S St. Petersburg FL 33705 United States;X-APPLE-RADIUS=500;X-TITLE=1101 COUNTRY CLUB WY S:geo:-82.6502749,27.724764
END:VEVENT
BEGIN:VEVENT
DTSTART;TZID=America/New_York:20231007T090000
DTEND;TZID=America/New_York:20231007T160000
DTSTAMP:20260420T045712
CREATED:20230924T205234Z
LAST-MODIFIED:20230924T205234Z
UID:10003116-1696669200-1696694400@baysoundings.com
SUMMARY:Wildflower & Pollinator Festival
DESCRIPTION:The Fall Wildflower and Pollinator Festival returns this year with a day of fun for the whole family! This free event is brought to you by Pinellas County Parks and Conservation Resources Department and sponsored by the Friends of Brooker Creek Preserve! \nCelebrate Florida Wildflowers and the Pollinators that support us all. A native plant sale will feature vendors from our area with plants that are beautiful\, pollinator-friendly\, and best suited for our climate. Kid’s crafts will focus on make-and-take projects to support pollinators in our own yards and neighborhoods. There will be a Pollinator Encounter tent to experience these helpful\, harmless insects close-up. Various organizations will be available to answer questions about growing wildflowers\, attracting pollinators\, and being a good friend to Nature in Pinellas County! Refreshments\, face-art and more await you at this free event. \nOngoing Activities Outside: \n\nWildflower Quest- Take the challenge along the Ed Center Trail (last hunt at 3pm)\nButterfly Encounter- Enjoy a walkthrough tent where you are surrounded by live butterflies!\nNative Plant Sale- Near the parking lot\, starts at 8am (while supplies last).\n\nIn the Classroom Building: \n\nBeeswax candle-making\nBuild a pollinator house (donation requested\, while supplies last)\n\nIn the Auditorium: \n\nNature crafts for kids\nEducational information tables\n\nExhibit Hall \n\nGet a temporary tattoo featuring a wildflower or pollinator\, thanks to Kate Dolamore Art\n\nThe Exhibit Hall and Nature Store are open all day from 9am to 4pm! Refreshments available for purchase. Naturalists on trails to answer questions. Come rain or shine! \nQuestions? Email brookercreek@pinellas.gov
URL:https://baysoundings.com/event/wildflower-pollinator-festival/
LOCATION:FL
CATEGORIES:Agriculture & Botany,Crafts & Hobbies,Exhibits,Festivals & Fairs,Kids & Families,Local Community,Native Flora & Fauna
END:VEVENT
BEGIN:VEVENT
DTSTART;TZID=America/New_York:20231007T100000
DTEND;TZID=America/New_York:20231007T113000
DTSTAMP:20260420T045712
CREATED:20230925T201101Z
LAST-MODIFIED:20230925T201101Z
UID:10003181-1696672800-1696678200@baysoundings.com
SUMMARY:Diamondback Terrapins: Conservation of an Imperiled Coastal Turtle
DESCRIPTION:Herpetologist George Heinrich will discuss Diamondback Terrapins in Florida. \nLearn about the natural history and conservation of an imperiled estuarine turtle\, the diamondback terrapin. Although terrapins occur in 16 states along the Atlantic and Gulf coasts\, the coastline of Florida represents approximately 20% of their entire range. Five of the seven recognized subspecies occur in the state’s extensive salt marsh and mangrove habitats\, including three endemics. \nThis program will take place inside the auditorium of the Weedon Island Preserve Cultural and Natural History Center. This program is recommended for adults and youth ages 10+. Youth should be accompanied by an adult for the duration of the program. \nThis program will feature George L. Heinrich\, a field biologist and environmental educator specializing in Florida reptiles. His company\, Heinrich Ecological Services is based in St. Petersburg\, Florida\, and conducts wildlife surveys and research\, natural history programming\, and nature-based tours. George is currently the Executive Director of the Florida Turtle Conservation Trust. \n>>> REGISTER HERE <<<
URL:https://baysoundings.com/event/diamondback-terrapins-conservation-of-an-imperiled-coastal-turtle/
LOCATION:Weedon Island Preserve Cultural and Natural History Center\, 1800 Weedon Drive NE\, St. Petersburg\, FL\, United States
CATEGORIES:Coastal & Wetlands,Conservation & Ecology,Kids & Families,Lectures & Seminars,Marine Life,Native Flora & Fauna,Reptiles & Amphibians,Threatened & Endangered Species
GEO:27.850451;-82.6075539
X-APPLE-STRUCTURED-LOCATION;VALUE=URI;X-ADDRESS=Weedon Island Preserve Cultural and Natural History Center 1800 Weedon Drive NE St. Petersburg FL United States;X-APPLE-RADIUS=500;X-TITLE=1800 Weedon Drive NE:geo:-82.6075539,27.850451
END:VEVENT
BEGIN:VEVENT
DTSTART;TZID=America/New_York:20231007T193000
DTEND;TZID=America/New_York:20231007T203000
DTSTAMP:20260420T045712
CREATED:20230827T201152Z
LAST-MODIFIED:20230827T201152Z
UID:10002897-1696707000-1696710600@baysoundings.com
SUMMARY:Owl Prowl Family Night Hike
DESCRIPTION:Bring your family and join our park rangers for our monthly night hikes! All ages welcome with a registered adult. Please select the correct number of participants or seats needed at the time of enrollment. \n>>> REGISTER HERE <<<
URL:https://baysoundings.com/event/owl-prowl-family-night-hike/
LOCATION:Boyd Hill Nature Preserve Classroom\, 1101 COUNTRY CLUB WY S\, St. Petersburg\, FL\, 33705\, United States
CATEGORIES:Kids & Families,Native Flora & Fauna,Nature Tours & Hikes,Raptors,Wildlife
ORGANIZER;CN="Boyd Hill Nature Preserve":MAILTO:stpeteparksrec@stpete.org 
GEO:27.724764;-82.6502749
X-APPLE-STRUCTURED-LOCATION;VALUE=URI;X-ADDRESS=Boyd Hill Nature Preserve Classroom 1101 COUNTRY CLUB WY S St. Petersburg FL 33705 United States;X-APPLE-RADIUS=500;X-TITLE=1101 COUNTRY CLUB WY S:geo:-82.6502749,27.724764
END:VEVENT
END:VCALENDAR