BEGIN:VCALENDAR
VERSION:2.0
PRODID:-//Bay Soundings - ECPv6.15.11//NONSGML v1.0//EN
CALSCALE:GREGORIAN
METHOD:PUBLISH
X-ORIGINAL-URL:https://baysoundings.com
X-WR-CALDESC:Events for Bay Soundings
REFRESH-INTERVAL;VALUE=DURATION:PT1H
X-Robots-Tag:noindex
X-PUBLISHED-TTL:PT1H
BEGIN:VTIMEZONE
TZID:America/New_York
BEGIN:DAYLIGHT
TZOFFSETFROM:-0500
TZOFFSETTO:-0400
TZNAME:EDT
DTSTART:20230312T070000
END:DAYLIGHT
BEGIN:STANDARD
TZOFFSETFROM:-0400
TZOFFSETTO:-0500
TZNAME:EST
DTSTART:20231105T060000
END:STANDARD
BEGIN:DAYLIGHT
TZOFFSETFROM:-0500
TZOFFSETTO:-0400
TZNAME:EDT
DTSTART:20240310T070000
END:DAYLIGHT
BEGIN:STANDARD
TZOFFSETFROM:-0400
TZOFFSETTO:-0500
TZNAME:EST
DTSTART:20241103T060000
END:STANDARD
BEGIN:DAYLIGHT
TZOFFSETFROM:-0500
TZOFFSETTO:-0400
TZNAME:EDT
DTSTART:20250309T070000
END:DAYLIGHT
BEGIN:STANDARD
TZOFFSETFROM:-0400
TZOFFSETTO:-0500
TZNAME:EST
DTSTART:20251102T060000
END:STANDARD
END:VTIMEZONE
BEGIN:VEVENT
DTSTART;TZID=America/New_York:20240201T103000
DTEND;TZID=America/New_York:20240201T113000
DTSTAMP:20260421T014705
CREATED:20210625T215518Z
LAST-MODIFIED:20231121T193041Z
UID:10003723-1706783400-1706787000@baysoundings.com
SUMMARY:Book Time at Brooker
DESCRIPTION:Bring your pre-schooler to Book Time at Brooker.\n\n\n\n\n\n\n\nBring your Preschooler to this program designed to connect them to the wonders of the natural world. In addition to hearing a great story\, your child will participate in a craft related to the story that is read. This activity is recommended for ages 3 to 5. \nRegistration is not required for Book Time\, just show up with your kiddo! This program is led by Brooker Creek Volunteers. \nAdditional Notes: It takes about 10 minutes to drive from the preserve entrance (Keystone Rd.) to the parking lot\, and there is a 2-5 minute walk from the parking lot to the Education Center building. We will start promptly at 10:30am. Follow signs to the Exhibit Hall. \nREGISTER HERE
URL:https://baysoundings.com/event/book-time-at-brooker-2/2024-02-01/
LOCATION:Brooker Creek Environmental Education Center\, 3940 Keystone Road\, Tarpon Springs\, FL\, 34688\, United States
CATEGORIES:Crafts & Hobbies,Kids & Families,Story Time,Youth Programs
GEO:28.136639;-82.656421
X-APPLE-STRUCTURED-LOCATION;VALUE=URI;X-ADDRESS=Brooker Creek Environmental Education Center 3940 Keystone Road Tarpon Springs FL 34688 United States;X-APPLE-RADIUS=500;X-TITLE=3940 Keystone Road:geo:-82.656421,28.136639
END:VEVENT
BEGIN:VEVENT
DTSTART;TZID=America/New_York:20240201T103000
DTEND;TZID=America/New_York:20240201T113000
DTSTAMP:20260421T014705
CREATED:20230829T184844Z
LAST-MODIFIED:20230829T184844Z
UID:10003065-1706783400-1706787000@baysoundings.com
SUMMARY:Science Rocks!
DESCRIPTION:This free event at Moccasin Lake Nature Park is hosted by the Clearwater Community Women’s Club\, and it covers a range of science topics through hands-on activities\, discussion and crafts. Registration is required by emailing ScienceRocksMoccasin@gmail.com. \nSept. 7: 5 Senses \nOct.5: Water \nNov. 2. Bees \nJan. 4: Push/Pull \nFeb. 1: Flight \nMar. 7: Frogs and Toads \nApril 4: The Sun \nMay 2: 3 States of Matter
URL:https://baysoundings.com/event/science-rocks/2024-02-01/
LOCATION:Moccasin Lake Environmental Education Center\, 2750 Park Trail Lane\, Clearwater\, FL\, United States
CATEGORIES:Birds & Birding,Coastal & Wetlands,Crafts & Hobbies,Homeschool,Insects,Kids & Families,Lectures & Seminars,Local Community,Native Flora & Fauna,Reptiles & Amphibians,Science & Technology,Wildlife,Workshops & Classes,Youth Programs
GEO:27.977104;-82.724462
X-APPLE-STRUCTURED-LOCATION;VALUE=URI;X-ADDRESS=Moccasin Lake Environmental Education Center 2750 Park Trail Lane Clearwater FL United States;X-APPLE-RADIUS=500;X-TITLE=2750 Park Trail Lane:geo:-82.724462,27.977104
END:VEVENT
BEGIN:VEVENT
DTSTART;TZID=America/New_York:20240202T103000
DTEND;TZID=America/New_York:20240202T113000
DTSTAMP:20260421T014705
CREATED:20231222T202828Z
LAST-MODIFIED:20240919T200908Z
UID:10004385-1706869800-1706873400@baysoundings.com
SUMMARY:Tot Time
DESCRIPTION:Families with little ones can enjoy nature-themed stories and crafts at the Weedon Island Preserve. \n\n\nFamilies of pre-school aged children are invited to explore the wonders of the natural world at the Weedon Island Preserve. Families will be treated to rhymes\, stories\, songs\, crafts\, and other activities that connect them to our environment. Activities are intended for youth aged 3-5.\nParents or guardians only need to register the youth(s) attending\, but must accompany them for the duration of the program. This program will take place inside the Cultural and Natural History Center unless otherwise specified.\n>>> RESERVE A SPOT <<< \nProceeds will support the Friends of Weedon Island\, a non-profit organization that work to promotes education and conservation of the Weedon Island Preserve.
URL:https://baysoundings.com/event/tot-time-4-5/2024-02-02/
LOCATION:Weedon Island Preserve Cultural and Natural History Center\, 1800 Weedon Drive NE\, St. Petersburg\, FL\, United States
CATEGORIES:Arts, Music & Literature,Crafts & Hobbies,Kids & Families,Local Community,Native Flora & Fauna,Story Time,Youth Programs
GEO:27.850451;-82.6075539
X-APPLE-STRUCTURED-LOCATION;VALUE=URI;X-ADDRESS=Weedon Island Preserve Cultural and Natural History Center 1800 Weedon Drive NE St. Petersburg FL United States;X-APPLE-RADIUS=500;X-TITLE=1800 Weedon Drive NE:geo:-82.6075539,27.850451
END:VEVENT
BEGIN:VEVENT
DTSTART;TZID=America/New_York:20240203T090000
DTEND;TZID=America/New_York:20240203T110000
DTSTAMP:20260421T014705
CREATED:20231222T215416Z
LAST-MODIFIED:20241227T200222Z
UID:10004349-1706950800-1706958000@baysoundings.com
SUMMARY:Emerson Point Preserve Tour
DESCRIPTION:First Saturday of the month (December – April)\, at 9:00am \nCasually stroll through the beautiful Emerson Point Preserve and learn about Florida’s native plants and inhabitants of a coastal environment. Suitable for all ages. \n>>> RESERVE A SPOT <<< \nMeet at the first parking area on the RIGHT at the Observation Tower (not at the classroom). \nThe University of Florida is committed to providing universal access to all of our events. For disability accommodations such as sign language interpreters and listening devices\, please contact our office at (941) 722-4524 at least 1 week in advance. Advance notice is necessary to arrange for some accessibility needs.
URL:https://baysoundings.com/event/emerson-point-preserve-tour-3-2/2024-02-03/
LOCATION:Emerson Point Preserve\, 5801 17th St W\, Palmetto\, FL\, 34221\, United States
CATEGORIES:Coastal & Wetlands,Geology & Geography,Kids & Families,Local Community,Native Flora & Fauna,Nature Tours & Hikes
GEO:27.532876;-82.625834
X-APPLE-STRUCTURED-LOCATION;VALUE=URI;X-ADDRESS=Emerson Point Preserve 5801 17th St W Palmetto FL 34221 United States;X-APPLE-RADIUS=500;X-TITLE=5801 17th St W:geo:-82.625834,27.532876
END:VEVENT
BEGIN:VEVENT
DTSTART;TZID=America/New_York:20240203T100000
DTEND;TZID=America/New_York:20240203T160000
DTSTAMP:20260421T014705
CREATED:20240110T172840Z
LAST-MODIFIED:20240110T172840Z
UID:10004373-1706954400-1706976000@baysoundings.com
SUMMARY:RAPTOR FEST
DESCRIPTION:Join us for the Tenth Annual Raptor Fest at Boyd Hill Nature Preserve! Watch trained raptors in free flight\, learn about Florida’s native raptor species\, take a photo with live birds of prey\, learn from local environmental exhibitors\, enjoy activities for children and families\, take a bird walk and much more! \nFlight shows will begin at 10:30 a.m.\, 12:30 p.m.\, and 2:30 p.m. \nFree parking and shuttle services will be provided at Lakewood High School and Lake Vista Recreation Center.
URL:https://baysoundings.com/event/raptor-fest-5/
LOCATION:Boyd Hill Nature Preserve Classroom\, 1101 COUNTRY CLUB WY S\, St. Petersburg\, FL\, 33705\, United States
CATEGORIES:Birds & Birding,Exhibits,Festivals & Fairs,Kids & Families,Native Flora & Fauna,Raptors,Wildlife
ORGANIZER;CN="Boyd Hill Nature Preserve":MAILTO:stpeteparksrec@stpete.org 
GEO:27.724764;-82.6502749
X-APPLE-STRUCTURED-LOCATION;VALUE=URI;X-ADDRESS=Boyd Hill Nature Preserve Classroom 1101 COUNTRY CLUB WY S St. Petersburg FL 33705 United States;X-APPLE-RADIUS=500;X-TITLE=1101 COUNTRY CLUB WY S:geo:-82.6502749,27.724764
END:VEVENT
BEGIN:VEVENT
DTSTART;TZID=America/New_York:20240207T100000
DTEND;TZID=America/New_York:20240207T110000
DTSTAMP:20260421T014705
CREATED:20240110T184710Z
LAST-MODIFIED:20240130T183348Z
UID:10004406-1707300000-1707303600@baysoundings.com
SUMMARY:Story Time
DESCRIPTION:Listen to a couple of fun stories while playing with musical instruments and bubbles in our Majeed Discovery Garden.\nStory Time is recommended for kids 5 and under. \nContact our Children’s Garden Educator\, Jessie Wingar\, at jessieflbgfoundation@gmail.com if you have any questions.
URL:https://baysoundings.com/event/story-time/2024-02-07/
LOCATION:Florida Botanical Gardens\, 12520 Ulmerton Road\, Largo\, FL\, 33778\, United States
CATEGORIES:Gardening & Landscaping,Kids & Families,Local Community,Native Flora & Fauna,Story Time,Youth Programs
GEO:27.8830543;-82.8105436
X-APPLE-STRUCTURED-LOCATION;VALUE=URI;X-ADDRESS=Florida Botanical Gardens 12520 Ulmerton Road Largo FL 33778 United States;X-APPLE-RADIUS=500;X-TITLE=12520 Ulmerton Road:geo:-82.8105436,27.8830543
END:VEVENT
BEGIN:VEVENT
DTSTART;TZID=America/New_York:20240208T103000
DTEND;TZID=America/New_York:20240208T113000
DTSTAMP:20260421T014705
CREATED:20210625T215518Z
LAST-MODIFIED:20231121T193041Z
UID:10003724-1707388200-1707391800@baysoundings.com
SUMMARY:Book Time at Brooker
DESCRIPTION:Bring your pre-schooler to Book Time at Brooker.\n\n\n\n\n\n\n\nBring your Preschooler to this program designed to connect them to the wonders of the natural world. In addition to hearing a great story\, your child will participate in a craft related to the story that is read. This activity is recommended for ages 3 to 5. \nRegistration is not required for Book Time\, just show up with your kiddo! This program is led by Brooker Creek Volunteers. \nAdditional Notes: It takes about 10 minutes to drive from the preserve entrance (Keystone Rd.) to the parking lot\, and there is a 2-5 minute walk from the parking lot to the Education Center building. We will start promptly at 10:30am. Follow signs to the Exhibit Hall. \nREGISTER HERE
URL:https://baysoundings.com/event/book-time-at-brooker-2/2024-02-08/
LOCATION:Brooker Creek Environmental Education Center\, 3940 Keystone Road\, Tarpon Springs\, FL\, 34688\, United States
CATEGORIES:Crafts & Hobbies,Kids & Families,Story Time,Youth Programs
GEO:28.136639;-82.656421
X-APPLE-STRUCTURED-LOCATION;VALUE=URI;X-ADDRESS=Brooker Creek Environmental Education Center 3940 Keystone Road Tarpon Springs FL 34688 United States;X-APPLE-RADIUS=500;X-TITLE=3940 Keystone Road:geo:-82.656421,28.136639
END:VEVENT
BEGIN:VEVENT
DTSTART;TZID=America/New_York:20240215T103000
DTEND;TZID=America/New_York:20240215T113000
DTSTAMP:20260421T014705
CREATED:20210625T215518Z
LAST-MODIFIED:20231121T193041Z
UID:10003725-1707993000-1707996600@baysoundings.com
SUMMARY:Book Time at Brooker
DESCRIPTION:Bring your pre-schooler to Book Time at Brooker.\n\n\n\n\n\n\n\nBring your Preschooler to this program designed to connect them to the wonders of the natural world. In addition to hearing a great story\, your child will participate in a craft related to the story that is read. This activity is recommended for ages 3 to 5. \nRegistration is not required for Book Time\, just show up with your kiddo! This program is led by Brooker Creek Volunteers. \nAdditional Notes: It takes about 10 minutes to drive from the preserve entrance (Keystone Rd.) to the parking lot\, and there is a 2-5 minute walk from the parking lot to the Education Center building. We will start promptly at 10:30am. Follow signs to the Exhibit Hall. \nREGISTER HERE
URL:https://baysoundings.com/event/book-time-at-brooker-2/2024-02-15/
LOCATION:Brooker Creek Environmental Education Center\, 3940 Keystone Road\, Tarpon Springs\, FL\, 34688\, United States
CATEGORIES:Crafts & Hobbies,Kids & Families,Story Time,Youth Programs
GEO:28.136639;-82.656421
X-APPLE-STRUCTURED-LOCATION;VALUE=URI;X-ADDRESS=Brooker Creek Environmental Education Center 3940 Keystone Road Tarpon Springs FL 34688 United States;X-APPLE-RADIUS=500;X-TITLE=3940 Keystone Road:geo:-82.656421,28.136639
END:VEVENT
BEGIN:VEVENT
DTSTART;TZID=America/New_York:20240216T103000
DTEND;TZID=America/New_York:20240216T113000
DTSTAMP:20260421T014705
CREATED:20231222T202828Z
LAST-MODIFIED:20240919T200908Z
UID:10004386-1708079400-1708083000@baysoundings.com
SUMMARY:Tot Time
DESCRIPTION:Families with little ones can enjoy nature-themed stories and crafts at the Weedon Island Preserve. \n\n\nFamilies of pre-school aged children are invited to explore the wonders of the natural world at the Weedon Island Preserve. Families will be treated to rhymes\, stories\, songs\, crafts\, and other activities that connect them to our environment. Activities are intended for youth aged 3-5.\nParents or guardians only need to register the youth(s) attending\, but must accompany them for the duration of the program. This program will take place inside the Cultural and Natural History Center unless otherwise specified.\n>>> RESERVE A SPOT <<< \nProceeds will support the Friends of Weedon Island\, a non-profit organization that work to promotes education and conservation of the Weedon Island Preserve.
URL:https://baysoundings.com/event/tot-time-4-5/2024-02-16/
LOCATION:Weedon Island Preserve Cultural and Natural History Center\, 1800 Weedon Drive NE\, St. Petersburg\, FL\, United States
CATEGORIES:Arts, Music & Literature,Crafts & Hobbies,Kids & Families,Local Community,Native Flora & Fauna,Story Time,Youth Programs
GEO:27.850451;-82.6075539
X-APPLE-STRUCTURED-LOCATION;VALUE=URI;X-ADDRESS=Weedon Island Preserve Cultural and Natural History Center 1800 Weedon Drive NE St. Petersburg FL United States;X-APPLE-RADIUS=500;X-TITLE=1800 Weedon Drive NE:geo:-82.6075539,27.850451
END:VEVENT
BEGIN:VEVENT
DTSTART;TZID=America/New_York:20240222T103000
DTEND;TZID=America/New_York:20240222T113000
DTSTAMP:20260421T014705
CREATED:20210625T215518Z
LAST-MODIFIED:20231121T193041Z
UID:10003726-1708597800-1708601400@baysoundings.com
SUMMARY:Book Time at Brooker
DESCRIPTION:Bring your pre-schooler to Book Time at Brooker.\n\n\n\n\n\n\n\nBring your Preschooler to this program designed to connect them to the wonders of the natural world. In addition to hearing a great story\, your child will participate in a craft related to the story that is read. This activity is recommended for ages 3 to 5. \nRegistration is not required for Book Time\, just show up with your kiddo! This program is led by Brooker Creek Volunteers. \nAdditional Notes: It takes about 10 minutes to drive from the preserve entrance (Keystone Rd.) to the parking lot\, and there is a 2-5 minute walk from the parking lot to the Education Center building. We will start promptly at 10:30am. Follow signs to the Exhibit Hall. \nREGISTER HERE
URL:https://baysoundings.com/event/book-time-at-brooker-2/2024-02-22/
LOCATION:Brooker Creek Environmental Education Center\, 3940 Keystone Road\, Tarpon Springs\, FL\, 34688\, United States
CATEGORIES:Crafts & Hobbies,Kids & Families,Story Time,Youth Programs
GEO:28.136639;-82.656421
X-APPLE-STRUCTURED-LOCATION;VALUE=URI;X-ADDRESS=Brooker Creek Environmental Education Center 3940 Keystone Road Tarpon Springs FL 34688 United States;X-APPLE-RADIUS=500;X-TITLE=3940 Keystone Road:geo:-82.656421,28.136639
END:VEVENT
BEGIN:VEVENT
DTSTART;TZID=America/New_York:20240224T110000
DTEND;TZID=America/New_York:20240224T160000
DTSTAMP:20260421T014705
CREATED:20240220T194005Z
LAST-MODIFIED:20240220T194005Z
UID:10004408-1708772400-1708790400@baysoundings.com
SUMMARY:Seaside Visits Clearwater Marine Aquarium
DESCRIPTION:Meet some of our wonderful Avian Ambassadors and learn their stories while enjoying a visit at Clearwater Marine Aquarium!
URL:https://baysoundings.com/event/seaside-visits-clearwater-marine-aquarium/
LOCATION:Clearwater Marine Aquarium\, 249 Windward Passage\, Clearwater\, FL\, 33767\, United States
CATEGORIES:Birds & Birding,Coastal & Wetlands,Exhibits,Kids & Families,Raptors,Wildlife
GEO:27.9771199;-82.8179797
X-APPLE-STRUCTURED-LOCATION;VALUE=URI;X-ADDRESS=Clearwater Marine Aquarium 249 Windward Passage Clearwater FL 33767 United States;X-APPLE-RADIUS=500;X-TITLE=249 Windward Passage:geo:-82.8179797,27.9771199
END:VEVENT
BEGIN:VEVENT
DTSTART;TZID=America/New_York:20240226T100000
DTEND;TZID=America/New_York:20240226T110000
DTSTAMP:20260421T014705
CREATED:20240110T184710Z
LAST-MODIFIED:20240130T183348Z
UID:10004407-1708941600-1708945200@baysoundings.com
SUMMARY:Story Time
DESCRIPTION:Listen to a couple of fun stories while playing with musical instruments and bubbles in our Majeed Discovery Garden.\nStory Time is recommended for kids 5 and under. \nContact our Children’s Garden Educator\, Jessie Wingar\, at jessieflbgfoundation@gmail.com if you have any questions.
URL:https://baysoundings.com/event/story-time/2024-02-26/
LOCATION:Florida Botanical Gardens\, 12520 Ulmerton Road\, Largo\, FL\, 33778\, United States
CATEGORIES:Gardening & Landscaping,Kids & Families,Local Community,Native Flora & Fauna,Story Time,Youth Programs
GEO:27.8830543;-82.8105436
X-APPLE-STRUCTURED-LOCATION;VALUE=URI;X-ADDRESS=Florida Botanical Gardens 12520 Ulmerton Road Largo FL 33778 United States;X-APPLE-RADIUS=500;X-TITLE=12520 Ulmerton Road:geo:-82.8105436,27.8830543
END:VEVENT
BEGIN:VEVENT
DTSTART;TZID=America/New_York:20240229T103000
DTEND;TZID=America/New_York:20240229T113000
DTSTAMP:20260421T014705
CREATED:20210625T215518Z
LAST-MODIFIED:20231121T193041Z
UID:10003727-1709202600-1709206200@baysoundings.com
SUMMARY:Book Time at Brooker
DESCRIPTION:Bring your pre-schooler to Book Time at Brooker.\n\n\n\n\n\n\n\nBring your Preschooler to this program designed to connect them to the wonders of the natural world. In addition to hearing a great story\, your child will participate in a craft related to the story that is read. This activity is recommended for ages 3 to 5. \nRegistration is not required for Book Time\, just show up with your kiddo! This program is led by Brooker Creek Volunteers. \nAdditional Notes: It takes about 10 minutes to drive from the preserve entrance (Keystone Rd.) to the parking lot\, and there is a 2-5 minute walk from the parking lot to the Education Center building. We will start promptly at 10:30am. Follow signs to the Exhibit Hall. \nREGISTER HERE
URL:https://baysoundings.com/event/book-time-at-brooker-2/2024-02-29/
LOCATION:Brooker Creek Environmental Education Center\, 3940 Keystone Road\, Tarpon Springs\, FL\, 34688\, United States
CATEGORIES:Crafts & Hobbies,Kids & Families,Story Time,Youth Programs
GEO:28.136639;-82.656421
X-APPLE-STRUCTURED-LOCATION;VALUE=URI;X-ADDRESS=Brooker Creek Environmental Education Center 3940 Keystone Road Tarpon Springs FL 34688 United States;X-APPLE-RADIUS=500;X-TITLE=3940 Keystone Road:geo:-82.656421,28.136639
END:VEVENT
END:VCALENDAR