BEGIN:VCALENDAR
VERSION:2.0
PRODID:-//Bay Soundings - ECPv6.15.11//NONSGML v1.0//EN
CALSCALE:GREGORIAN
METHOD:PUBLISH
X-ORIGINAL-URL:https://baysoundings.com
X-WR-CALDESC:Events for Bay Soundings
REFRESH-INTERVAL;VALUE=DURATION:PT1H
X-Robots-Tag:noindex
X-PUBLISHED-TTL:PT1H
BEGIN:VTIMEZONE
TZID:America/New_York
BEGIN:DAYLIGHT
TZOFFSETFROM:-0500
TZOFFSETTO:-0400
TZNAME:EDT
DTSTART:20240310T070000
END:DAYLIGHT
BEGIN:STANDARD
TZOFFSETFROM:-0400
TZOFFSETTO:-0500
TZNAME:EST
DTSTART:20241103T060000
END:STANDARD
BEGIN:DAYLIGHT
TZOFFSETFROM:-0500
TZOFFSETTO:-0400
TZNAME:EDT
DTSTART:20250309T070000
END:DAYLIGHT
BEGIN:STANDARD
TZOFFSETFROM:-0400
TZOFFSETTO:-0500
TZNAME:EST
DTSTART:20251102T060000
END:STANDARD
BEGIN:DAYLIGHT
TZOFFSETFROM:-0500
TZOFFSETTO:-0400
TZNAME:EDT
DTSTART:20260308T070000
END:DAYLIGHT
BEGIN:STANDARD
TZOFFSETFROM:-0400
TZOFFSETTO:-0500
TZNAME:EST
DTSTART:20261101T060000
END:STANDARD
END:VTIMEZONE
BEGIN:VEVENT
DTSTART;TZID=America/New_York:20250413T130000
DTEND;TZID=America/New_York:20250413T143000
DTSTAMP:20260425T210527
CREATED:20250318T164159Z
LAST-MODIFIED:20250318T164159Z
UID:10008300-1744549200-1744554600@baysoundings.com
SUMMARY:Phytoplankton and Their Friends
DESCRIPTION:Join Dr. Margaret “Maggi” Brisbin and Pinellas County Sea Grant Agent Katie Mastenbrook for an opportunity to deep dive into the world of plankton. The presentation will cover plankton communities in the Tampa Bay region\, highlighting research on the plant plankton communities know as phytoplankton. \nDr. Brisbin will cover Pyrodinium bahamense (the toxin and light producing species that blooms in Upper Tampa Bay)\, Karenia brevis (Red Tide)\, and other lesser-known species important to the region. Dr. Brisbin will share how they monitor and study phytoplankton communities at USF and explain exciting recent research developments. Pinellas County Sea Grant Agent will further showcase other common types of animal plankton known as zooplankton\, highlighting the importance of all are plankton species. \nParticipants will have a chance to view and get a hands-on experience with live plankton samples using traditional microscopes and cutting-edge\, automated microscopes. \n>>> RESERVE A SPOT <<<
URL:https://baysoundings.com/event/phytoplankton-and-their-friends/
LOCATION:Weedon Island Preserve Cultural and Natural History Center\, 1800 Weedon Drive NE\, St. Petersburg\, FL\, United States
CATEGORIES:Clean Water,Coastal & Wetlands,Homeschool,Invasive & Intrusive Species,Native Flora & Fauna,Pollution,Science & Technology,Workshops & Classes,Youth Programs
GEO:27.850451;-82.6075539
X-APPLE-STRUCTURED-LOCATION;VALUE=URI;X-ADDRESS=Weedon Island Preserve Cultural and Natural History Center 1800 Weedon Drive NE St. Petersburg FL United States;X-APPLE-RADIUS=500;X-TITLE=1800 Weedon Drive NE:geo:-82.6075539,27.850451
END:VEVENT
BEGIN:VEVENT
DTSTART;TZID=America/New_York:20250428T090000
DTEND;TZID=America/New_York:20250428T110000
DTSTAMP:20260425T210527
CREATED:20250317T181834Z
LAST-MODIFIED:20250317T181834Z
UID:10008293-1745830800-1745838000@baysoundings.com
SUMMARY:Meet an Arborist
DESCRIPTION:Finding and Hiring a Certified Arborist for Tree Care \nJoin UF/IFAS Extension Urban Forestry Agent\, Alyssa Vinson and local certified arborist\, Carson Smith for an in depth conversation all about the importance of and the steps to\, finding and hiring a certified arborist. We will discuss the in and outs of establishing your tree care goals\, how to build a plan for long term care and where to find resources. \n>>> REGISTER HERE <<< \nIf you have any questions\, please contact the UF/IFAS Extension Hillsborough County at (813) 744-5519.
URL:https://baysoundings.com/event/meet-an-arborist/
LOCATION:UF/IFAS Extension\, Hillsborough County\, 5339 County Road 579\, Seffner\, FL\, 33584\, United States
CATEGORIES:Adult Level,Agriculture & Botany,Gardening & Landscaping,Home & Lifestyle,Invasive & Intrusive Species,Native Flora & Fauna,Workshops & Classes
GEO:27.9914092;-82.3022317
X-APPLE-STRUCTURED-LOCATION;VALUE=URI;X-ADDRESS=UF/IFAS Extension Hillsborough County 5339 County Road 579 Seffner FL 33584 United States;X-APPLE-RADIUS=500;X-TITLE=5339 County Road 579:geo:-82.3022317,27.9914092
END:VEVENT
END:VCALENDAR