BEGIN:VCALENDAR
VERSION:2.0
PRODID:-//Bay Soundings - ECPv6.15.11//NONSGML v1.0//EN
CALSCALE:GREGORIAN
METHOD:PUBLISH
X-ORIGINAL-URL:https://baysoundings.com
X-WR-CALDESC:Events for Bay Soundings
REFRESH-INTERVAL;VALUE=DURATION:PT1H
X-Robots-Tag:noindex
X-PUBLISHED-TTL:PT1H
BEGIN:VTIMEZONE
TZID:America/New_York
BEGIN:DAYLIGHT
TZOFFSETFROM:-0500
TZOFFSETTO:-0400
TZNAME:EDT
DTSTART:20190310T070000
END:DAYLIGHT
BEGIN:STANDARD
TZOFFSETFROM:-0400
TZOFFSETTO:-0500
TZNAME:EST
DTSTART:20191103T060000
END:STANDARD
BEGIN:DAYLIGHT
TZOFFSETFROM:-0500
TZOFFSETTO:-0400
TZNAME:EDT
DTSTART:20200308T070000
END:DAYLIGHT
BEGIN:STANDARD
TZOFFSETFROM:-0400
TZOFFSETTO:-0500
TZNAME:EST
DTSTART:20201101T060000
END:STANDARD
BEGIN:DAYLIGHT
TZOFFSETFROM:-0500
TZOFFSETTO:-0400
TZNAME:EDT
DTSTART:20210314T070000
END:DAYLIGHT
BEGIN:STANDARD
TZOFFSETFROM:-0400
TZOFFSETTO:-0500
TZNAME:EST
DTSTART:20211107T060000
END:STANDARD
END:VTIMEZONE
BEGIN:VEVENT
DTSTART;TZID=America/New_York:20201022T180000
DTEND;TZID=America/New_York:20201022T193000
DTSTAMP:20260423T234938
CREATED:20200927T183751Z
LAST-MODIFIED:20200927T183751Z
UID:10000614-1603389600-1603395000@baysoundings.com
SUMMARY:Beekeeping Basics
DESCRIPTION:Do you want to start beekeeping to keep the dwindling honey bee population healthier? The workshop will talk about some of the basics tools and information you will need to start up beekeeping. There will be a Q&A session at the end to clarify individual’s situation and questions. There is a nominal fee of $20 to cover expenses of the in-person training. \nRegistration is required. There is a late registration fee + processing fee. Please register early! \nREGISTER HERE \nIf you have any questions pertaining to class information\, please contact Dinora Santiago at 941-722-4524\, Ext. 1823 or email d.santiago@ufl.edu
URL:https://baysoundings.com/event/beekeeping-basics/
LOCATION:UF/IFAS Manatee County Extension\, 1303 17th Street West\, Palmetto\, FL\, 34221\, United States
CATEGORIES:Insects,Workshops & Classes
GEO:27.526707;-82.580054
X-APPLE-STRUCTURED-LOCATION;VALUE=URI;X-ADDRESS=UF/IFAS Manatee County Extension 1303 17th Street West Palmetto FL 34221 United States;X-APPLE-RADIUS=500;X-TITLE=1303 17th Street West:geo:-82.580054,27.526707
END:VEVENT
BEGIN:VEVENT
DTSTART;TZID=America/New_York:20201022T180000
DTEND;TZID=America/New_York:20201022T193000
DTSTAMP:20260423T234938
CREATED:20201015T202836Z
LAST-MODIFIED:20201015T202836Z
UID:10000484-1603389600-1603395000@baysoundings.com
SUMMARY:Beekeeping Basics
DESCRIPTION:Beekeeping Basics\nIn-Person Presentation \nDo you want to start beekeeping to keep the honey bee population healthier? This workshop will discuss the basic tools and provide information needed to start up beekeeping. There will be a Q&A session at the end to clarify individual situations and/or questions. A nominal registration fee of $20 helps cover expenses of the in-person training. \nRegistration is required.  Register here.
URL:https://baysoundings.com/event/beekeeping-basics-2/
LOCATION:UF/IFAS Manatee County Extension\, 1303 17th Street West\, Palmetto\, FL\, 34221\, United States
CATEGORIES:Agriculture & Botany,Crafts & Hobbies,Farming,Gardening & Landscaping,Insects,Native Flora & Fauna,Workshops & Classes
GEO:27.526707;-82.580054
X-APPLE-STRUCTURED-LOCATION;VALUE=URI;X-ADDRESS=UF/IFAS Manatee County Extension 1303 17th Street West Palmetto FL 34221 United States;X-APPLE-RADIUS=500;X-TITLE=1303 17th Street West:geo:-82.580054,27.526707
END:VEVENT
END:VCALENDAR