BEGIN:VCALENDAR
VERSION:2.0
PRODID:-//Bay Soundings - ECPv6.15.11//NONSGML v1.0//EN
CALSCALE:GREGORIAN
METHOD:PUBLISH
X-ORIGINAL-URL:https://baysoundings.com
X-WR-CALDESC:Events for Bay Soundings
REFRESH-INTERVAL;VALUE=DURATION:PT1H
X-Robots-Tag:noindex
X-PUBLISHED-TTL:PT1H
BEGIN:VTIMEZONE
TZID:America/New_York
BEGIN:DAYLIGHT
TZOFFSETFROM:-0500
TZOFFSETTO:-0400
TZNAME:EDT
DTSTART:20190310T070000
END:DAYLIGHT
BEGIN:STANDARD
TZOFFSETFROM:-0400
TZOFFSETTO:-0500
TZNAME:EST
DTSTART:20191103T060000
END:STANDARD
BEGIN:DAYLIGHT
TZOFFSETFROM:-0500
TZOFFSETTO:-0400
TZNAME:EDT
DTSTART:20200308T070000
END:DAYLIGHT
BEGIN:STANDARD
TZOFFSETFROM:-0400
TZOFFSETTO:-0500
TZNAME:EST
DTSTART:20201101T060000
END:STANDARD
BEGIN:DAYLIGHT
TZOFFSETFROM:-0500
TZOFFSETTO:-0400
TZNAME:EDT
DTSTART:20210314T070000
END:DAYLIGHT
BEGIN:STANDARD
TZOFFSETFROM:-0400
TZOFFSETTO:-0500
TZNAME:EST
DTSTART:20211107T060000
END:STANDARD
END:VTIMEZONE
BEGIN:VEVENT
DTSTART;TZID=America/New_York:20201006T090000
DTEND;TZID=America/New_York:20201006T160000
DTSTAMP:20260424T045343
CREATED:20201002T213650Z
LAST-MODIFIED:20201002T213650Z
UID:10000619-1601974800-1602000000@baysoundings.com
SUMMARY:Master Gardener Plant Clinic
DESCRIPTION:Every Tuesday and Thursday morning from 9:00 A.M. to 4:00 P.M.\, Master Gardener Volunteers will be present in our Plant Clinic at Extension. \nYou are welcome to phone (941-722-4524) or drop by in person (1303 17th St. W.\, Palmetto.). \nWe do require masks and social distancing if you come in person! Other days you can leave us a voice-mail message or submit a request via our online submission form:  https://ufl.qualtrics.com/jfe/form/SV_0NfIZ3fyEWIuf0F
URL:https://baysoundings.com/event/master-gardener-plant-clinic-2/2020-10-06/
LOCATION:Manatee County Agriculture and Extension Office\, 1303 17th St W\, Palmetto\, FL\, 34221\, United States
CATEGORIES:Agriculture & Botany,Gardening & Landscaping,Herbs,Insects,Invasive & Intrusive Species,Local Community,Native Flora & Fauna
ORGANIZER;CN="Manatee County Extension":MAILTO:manatee@ifas.ufl.edu
GEO:27.528425;-82.580584
X-APPLE-STRUCTURED-LOCATION;VALUE=URI;X-ADDRESS=Manatee County Agriculture and Extension Office 1303 17th St W Palmetto FL 34221 United States;X-APPLE-RADIUS=500;X-TITLE=1303 17th St W:geo:-82.580584,27.528425
END:VEVENT
BEGIN:VEVENT
DTSTART;TZID=America/New_York:20201008T090000
DTEND;TZID=America/New_York:20201008T160000
DTSTAMP:20260424T045343
CREATED:20201002T213650Z
LAST-MODIFIED:20201002T213650Z
UID:10000620-1602147600-1602172800@baysoundings.com
SUMMARY:Master Gardener Plant Clinic
DESCRIPTION:Every Tuesday and Thursday morning from 9:00 A.M. to 4:00 P.M.\, Master Gardener Volunteers will be present in our Plant Clinic at Extension. \nYou are welcome to phone (941-722-4524) or drop by in person (1303 17th St. W.\, Palmetto.). \nWe do require masks and social distancing if you come in person! Other days you can leave us a voice-mail message or submit a request via our online submission form:  https://ufl.qualtrics.com/jfe/form/SV_0NfIZ3fyEWIuf0F
URL:https://baysoundings.com/event/master-gardener-plant-clinic-2/2020-10-08/
LOCATION:Manatee County Agriculture and Extension Office\, 1303 17th St W\, Palmetto\, FL\, 34221\, United States
CATEGORIES:Agriculture & Botany,Gardening & Landscaping,Herbs,Insects,Invasive & Intrusive Species,Local Community,Native Flora & Fauna
ORGANIZER;CN="Manatee County Extension":MAILTO:manatee@ifas.ufl.edu
GEO:27.528425;-82.580584
X-APPLE-STRUCTURED-LOCATION;VALUE=URI;X-ADDRESS=Manatee County Agriculture and Extension Office 1303 17th St W Palmetto FL 34221 United States;X-APPLE-RADIUS=500;X-TITLE=1303 17th St W:geo:-82.580584,27.528425
END:VEVENT
BEGIN:VEVENT
DTSTART;TZID=America/New_York:20201013T090000
DTEND;TZID=America/New_York:20201013T160000
DTSTAMP:20260424T045343
CREATED:20201002T213650Z
LAST-MODIFIED:20201002T213650Z
UID:10000621-1602579600-1602604800@baysoundings.com
SUMMARY:Master Gardener Plant Clinic
DESCRIPTION:Every Tuesday and Thursday morning from 9:00 A.M. to 4:00 P.M.\, Master Gardener Volunteers will be present in our Plant Clinic at Extension. \nYou are welcome to phone (941-722-4524) or drop by in person (1303 17th St. W.\, Palmetto.). \nWe do require masks and social distancing if you come in person! Other days you can leave us a voice-mail message or submit a request via our online submission form:  https://ufl.qualtrics.com/jfe/form/SV_0NfIZ3fyEWIuf0F
URL:https://baysoundings.com/event/master-gardener-plant-clinic-2/2020-10-13/
LOCATION:Manatee County Agriculture and Extension Office\, 1303 17th St W\, Palmetto\, FL\, 34221\, United States
CATEGORIES:Agriculture & Botany,Gardening & Landscaping,Herbs,Insects,Invasive & Intrusive Species,Local Community,Native Flora & Fauna
ORGANIZER;CN="Manatee County Extension":MAILTO:manatee@ifas.ufl.edu
GEO:27.528425;-82.580584
X-APPLE-STRUCTURED-LOCATION;VALUE=URI;X-ADDRESS=Manatee County Agriculture and Extension Office 1303 17th St W Palmetto FL 34221 United States;X-APPLE-RADIUS=500;X-TITLE=1303 17th St W:geo:-82.580584,27.528425
END:VEVENT
BEGIN:VEVENT
DTSTART;TZID=America/New_York:20201020T090000
DTEND;TZID=America/New_York:20201020T160000
DTSTAMP:20260424T045343
CREATED:20201002T213650Z
LAST-MODIFIED:20201002T213650Z
UID:10000622-1603184400-1603209600@baysoundings.com
SUMMARY:Master Gardener Plant Clinic
DESCRIPTION:Every Tuesday and Thursday morning from 9:00 A.M. to 4:00 P.M.\, Master Gardener Volunteers will be present in our Plant Clinic at Extension. \nYou are welcome to phone (941-722-4524) or drop by in person (1303 17th St. W.\, Palmetto.). \nWe do require masks and social distancing if you come in person! Other days you can leave us a voice-mail message or submit a request via our online submission form:  https://ufl.qualtrics.com/jfe/form/SV_0NfIZ3fyEWIuf0F
URL:https://baysoundings.com/event/master-gardener-plant-clinic-2/2020-10-20/
LOCATION:Manatee County Agriculture and Extension Office\, 1303 17th St W\, Palmetto\, FL\, 34221\, United States
CATEGORIES:Agriculture & Botany,Gardening & Landscaping,Herbs,Insects,Invasive & Intrusive Species,Local Community,Native Flora & Fauna
ORGANIZER;CN="Manatee County Extension":MAILTO:manatee@ifas.ufl.edu
GEO:27.528425;-82.580584
X-APPLE-STRUCTURED-LOCATION;VALUE=URI;X-ADDRESS=Manatee County Agriculture and Extension Office 1303 17th St W Palmetto FL 34221 United States;X-APPLE-RADIUS=500;X-TITLE=1303 17th St W:geo:-82.580584,27.528425
END:VEVENT
BEGIN:VEVENT
DTSTART;TZID=America/New_York:20201021T140000
DTEND;TZID=America/New_York:20201021T150000
DTSTAMP:20260424T045343
CREATED:20200927T165840Z
LAST-MODIFIED:20200927T165840Z
UID:10000616-1603288800-1603292400@baysoundings.com
SUMMARY:ZOOM: Itching for Answers
DESCRIPTION:Itching for Answers:\nThe Good\, the Bad\, and the Biology of Mosquitoes \nDid you know that mosquitoes can breed in only a bottle cap of water? Or that some mosquitoes only bite leeches? Join us for a talk with Pinellas County Environmental Specialist Alissa Berro where we’ll go over the good\, the bad and the biology of Florida’s least favorite insect! Learn more about what attracts mosquitoes\, the most effective ways to prevent them\, and answers to the questions you’ve been itching to ask.\nThis webinar will take place over Zoom. Recommended for adults.\nRegistration is required to participate in this program.\nPlease register at https://zoom.us/webinar/register/WN_rP-0xdSSQeqrGhjOjg-fbg\nQuestions? Email us at weedonisland@pinellascounty.org\n 
URL:https://baysoundings.com/event/zoom-itching-for-answers/
LOCATION:IN YOUR HOME\, YOUR FAVORITE PLACE\, ANYWHERE
CATEGORIES:Insects,Invasive & Intrusive Species,Kids & Families,Lectures & Seminars,WEBINARS & ONLINE CLASSES
END:VEVENT
BEGIN:VEVENT
DTSTART;TZID=America/New_York:20201022T180000
DTEND;TZID=America/New_York:20201022T193000
DTSTAMP:20260424T045343
CREATED:20200927T183751Z
LAST-MODIFIED:20200927T183751Z
UID:10000614-1603389600-1603395000@baysoundings.com
SUMMARY:Beekeeping Basics
DESCRIPTION:Do you want to start beekeeping to keep the dwindling honey bee population healthier? The workshop will talk about some of the basics tools and information you will need to start up beekeeping. There will be a Q&A session at the end to clarify individual’s situation and questions. There is a nominal fee of $20 to cover expenses of the in-person training. \nRegistration is required. There is a late registration fee + processing fee. Please register early! \nREGISTER HERE \nIf you have any questions pertaining to class information\, please contact Dinora Santiago at 941-722-4524\, Ext. 1823 or email d.santiago@ufl.edu
URL:https://baysoundings.com/event/beekeeping-basics/
LOCATION:UF/IFAS Manatee County Extension\, 1303 17th Street West\, Palmetto\, FL\, 34221\, United States
CATEGORIES:Insects,Workshops & Classes
GEO:27.526707;-82.580054
X-APPLE-STRUCTURED-LOCATION;VALUE=URI;X-ADDRESS=UF/IFAS Manatee County Extension 1303 17th Street West Palmetto FL 34221 United States;X-APPLE-RADIUS=500;X-TITLE=1303 17th Street West:geo:-82.580054,27.526707
END:VEVENT
BEGIN:VEVENT
DTSTART;TZID=America/New_York:20201022T180000
DTEND;TZID=America/New_York:20201022T193000
DTSTAMP:20260424T045343
CREATED:20201015T202836Z
LAST-MODIFIED:20201015T202836Z
UID:10000484-1603389600-1603395000@baysoundings.com
SUMMARY:Beekeeping Basics
DESCRIPTION:Beekeeping Basics\nIn-Person Presentation \nDo you want to start beekeeping to keep the honey bee population healthier? This workshop will discuss the basic tools and provide information needed to start up beekeeping. There will be a Q&A session at the end to clarify individual situations and/or questions. A nominal registration fee of $20 helps cover expenses of the in-person training. \nRegistration is required.  Register here.
URL:https://baysoundings.com/event/beekeeping-basics-2/
LOCATION:UF/IFAS Manatee County Extension\, 1303 17th Street West\, Palmetto\, FL\, 34221\, United States
CATEGORIES:Agriculture & Botany,Crafts & Hobbies,Farming,Gardening & Landscaping,Insects,Native Flora & Fauna,Workshops & Classes
GEO:27.526707;-82.580054
X-APPLE-STRUCTURED-LOCATION;VALUE=URI;X-ADDRESS=UF/IFAS Manatee County Extension 1303 17th Street West Palmetto FL 34221 United States;X-APPLE-RADIUS=500;X-TITLE=1303 17th Street West:geo:-82.580054,27.526707
END:VEVENT
BEGIN:VEVENT
DTSTART;TZID=America/New_York:20201027T090000
DTEND;TZID=America/New_York:20201027T160000
DTSTAMP:20260424T045343
CREATED:20201002T213650Z
LAST-MODIFIED:20201002T213650Z
UID:10000623-1603789200-1603814400@baysoundings.com
SUMMARY:Master Gardener Plant Clinic
DESCRIPTION:Every Tuesday and Thursday morning from 9:00 A.M. to 4:00 P.M.\, Master Gardener Volunteers will be present in our Plant Clinic at Extension. \nYou are welcome to phone (941-722-4524) or drop by in person (1303 17th St. W.\, Palmetto.). \nWe do require masks and social distancing if you come in person! Other days you can leave us a voice-mail message or submit a request via our online submission form:  https://ufl.qualtrics.com/jfe/form/SV_0NfIZ3fyEWIuf0F
URL:https://baysoundings.com/event/master-gardener-plant-clinic-2/2020-10-27/
LOCATION:Manatee County Agriculture and Extension Office\, 1303 17th St W\, Palmetto\, FL\, 34221\, United States
CATEGORIES:Agriculture & Botany,Gardening & Landscaping,Herbs,Insects,Invasive & Intrusive Species,Local Community,Native Flora & Fauna
ORGANIZER;CN="Manatee County Extension":MAILTO:manatee@ifas.ufl.edu
GEO:27.528425;-82.580584
X-APPLE-STRUCTURED-LOCATION;VALUE=URI;X-ADDRESS=Manatee County Agriculture and Extension Office 1303 17th St W Palmetto FL 34221 United States;X-APPLE-RADIUS=500;X-TITLE=1303 17th St W:geo:-82.580584,27.528425
END:VEVENT
END:VCALENDAR