BEGIN:VCALENDAR
VERSION:2.0
PRODID:-//Bay Soundings - ECPv6.15.11//NONSGML v1.0//EN
CALSCALE:GREGORIAN
METHOD:PUBLISH
X-ORIGINAL-URL:https://baysoundings.com
X-WR-CALDESC:Events for Bay Soundings
REFRESH-INTERVAL;VALUE=DURATION:PT1H
X-Robots-Tag:noindex
X-PUBLISHED-TTL:PT1H
BEGIN:VTIMEZONE
TZID:America/New_York
BEGIN:DAYLIGHT
TZOFFSETFROM:-0500
TZOFFSETTO:-0400
TZNAME:EDT
DTSTART:20210314T070000
END:DAYLIGHT
BEGIN:STANDARD
TZOFFSETFROM:-0400
TZOFFSETTO:-0500
TZNAME:EST
DTSTART:20211107T060000
END:STANDARD
BEGIN:DAYLIGHT
TZOFFSETFROM:-0500
TZOFFSETTO:-0400
TZNAME:EDT
DTSTART:20220313T070000
END:DAYLIGHT
BEGIN:STANDARD
TZOFFSETFROM:-0400
TZOFFSETTO:-0500
TZNAME:EST
DTSTART:20221106T060000
END:STANDARD
BEGIN:DAYLIGHT
TZOFFSETFROM:-0500
TZOFFSETTO:-0400
TZNAME:EDT
DTSTART:20230312T070000
END:DAYLIGHT
BEGIN:STANDARD
TZOFFSETFROM:-0400
TZOFFSETTO:-0500
TZNAME:EST
DTSTART:20231105T060000
END:STANDARD
END:VTIMEZONE
BEGIN:VEVENT
DTSTART;TZID=America/New_York:20221014T100000
DTEND;TZID=America/New_York:20221014T110000
DTSTAMP:20260424T152749
CREATED:20220729T213806Z
LAST-MODIFIED:20220923T185108Z
UID:10001793-1665741600-1665745200@baysoundings.com
SUMMARY:Nature Investigators' Club
DESCRIPTION:Explore different aspects of nature at the Florida Botanical Gardens!\n\nFree admission\, pre-registration only.\n\n\n\nDo you have a child ages 3-7 who loves to explore nature? Become a Member of the Nature Investigators’ Club!\nWe will meet at the Florida Botanical Gardens each Friday at 10 AM to explore the different parts of nature and their interactions for a period of 6 weeks.\n\n\nBenefits include:Small group: personal interactions with a certified environmental educatorTime in plant-rich environment\, which has several proven health and wellness benefitsLearning through exploration\, fostering development of higher-level problem solving skills\nOpportunity to interact with other children\, fostering teamwork and group collaboration skills \nOne (1) nature journal for use through the duration of the session.\nLimited capacity:7 children slots for each sessionParent/Guardian must be present for the entirety of the session.\n\n>>> REGISTER HERE <<<
URL:https://baysoundings.com/event/nature-investigators-club/2022-10-14/
LOCATION:Florida Botanical Gardens\, 12520 Ulmerton Road\, Largo\, FL\, 33778\, United States
CATEGORIES:Agriculture & Botany,Clubs,Crafts & Hobbies,Gardening & Landscaping,Home & Lifestyle,Homeschool,Kids & Families,Workshops & Classes,Youth Programs
GEO:27.8830543;-82.8105436
X-APPLE-STRUCTURED-LOCATION;VALUE=URI;X-ADDRESS=Florida Botanical Gardens 12520 Ulmerton Road Largo FL 33778 United States;X-APPLE-RADIUS=500;X-TITLE=12520 Ulmerton Road:geo:-82.8105436,27.8830543
END:VEVENT
BEGIN:VEVENT
DTSTART;TZID=America/New_York:20221014T100000
DTEND;TZID=America/New_York:20221014T110000
DTSTAMP:20260424T152749
CREATED:20220921T212832Z
LAST-MODIFIED:20220921T213250Z
UID:10001874-1665741600-1665745200@baysoundings.com
SUMMARY:The Endangered Sawfish of Tampa Bay
DESCRIPTION:Join us to see a three-foot sawfish replica\, feel some real sawfish rostra (saws)\, and get some great free sawfish swag. \n\n\n\n\n\nSawfish are large shark-like rays that once were relatively common in Florida’s coastal waters including Tampa Bay. Now\, Florida’s smalltooth sawfish is endangered and scientists are striving to learn as much as possible about this iconic and fascinating fish. Tonya Wiley\, President of Havenworth Coastal Conservation\, will provide a presentation with interesting facts about sawfish\, updates on Tampa Bay area sawfish research\, explanations of management tools such as the Endangered Species Act\, and descriptions of ways you can be involved in the recovery of smalltooth sawfish. Join us to see a three-foot sawfish replica\, feel some real sawfish rostra (saws)\, and get some great free sawfish swag. \n>>> REGISTER HERE <<<
URL:https://baysoundings.com/event/the-endangered-sawfish-of-tampa-bay/
LOCATION:Weedon Island Preserve Cultural and Natural History Center\, 1800 Weedon Drive NE\, St. Petersburg\, FL\, United States
CATEGORIES:Coastal & Wetlands,Homeschool,Lectures & Seminars,Local Community,Marine Life,Threatened & Endangered Species
GEO:27.850451;-82.6075539
X-APPLE-STRUCTURED-LOCATION;VALUE=URI;X-ADDRESS=Weedon Island Preserve Cultural and Natural History Center 1800 Weedon Drive NE St. Petersburg FL United States;X-APPLE-RADIUS=500;X-TITLE=1800 Weedon Drive NE:geo:-82.6075539,27.850451
END:VEVENT
BEGIN:VEVENT
DTSTART;TZID=America/New_York:20221014T190000
DTEND;TZID=America/New_York:20221014T203000
DTSTAMP:20260424T152749
CREATED:20220909T194021Z
LAST-MODIFIED:20220909T194021Z
UID:10001124-1665774000-1665779400@baysoundings.com
SUMMARY:Cat Tale: The Wild\, Weird Battle to Save the Florida Panther
DESCRIPTION:The Friends of Boyd Hill Nature Preserve and the St. Petersburg Parks and Recreation Department present the annual Natural History Speaker Series (NHSS)\, a program that offers fascinating presentations on the natural and cultural history of Florida by individuals who are authorities in their fields.
URL:https://baysoundings.com/event/cat-tale-the-wild-weird-battle-to-save-the-florida-panther/
LOCATION:Boyd Hill – 31st Street S\, 3130 31st Street S\, St. Petersburg\, FL\, United States
CATEGORIES:Arts, Music & Literature,History & Culture,Homeschool,Lectures & Seminars,Local Community,Native Flora & Fauna,Threatened & Endangered Species,Wildlife
GEO:27.739533;-82.674732
X-APPLE-STRUCTURED-LOCATION;VALUE=URI;X-ADDRESS=Boyd Hill – 31st Street S 3130 31st Street S St. Petersburg FL United States;X-APPLE-RADIUS=500;X-TITLE=3130 31st Street S:geo:-82.674732,27.739533
END:VEVENT
END:VCALENDAR