BEGIN:VCALENDAR
VERSION:2.0
PRODID:-//Bay Soundings - ECPv6.15.11//NONSGML v1.0//EN
CALSCALE:GREGORIAN
METHOD:PUBLISH
X-ORIGINAL-URL:https://baysoundings.com
X-WR-CALDESC:Events for Bay Soundings
REFRESH-INTERVAL;VALUE=DURATION:PT1H
X-Robots-Tag:noindex
X-PUBLISHED-TTL:PT1H
BEGIN:VTIMEZONE
TZID:America/New_York
BEGIN:DAYLIGHT
TZOFFSETFROM:-0500
TZOFFSETTO:-0400
TZNAME:EDT
DTSTART:20210314T070000
END:DAYLIGHT
BEGIN:STANDARD
TZOFFSETFROM:-0400
TZOFFSETTO:-0500
TZNAME:EST
DTSTART:20211107T060000
END:STANDARD
BEGIN:DAYLIGHT
TZOFFSETFROM:-0500
TZOFFSETTO:-0400
TZNAME:EDT
DTSTART:20220313T070000
END:DAYLIGHT
BEGIN:STANDARD
TZOFFSETFROM:-0400
TZOFFSETTO:-0500
TZNAME:EST
DTSTART:20221106T060000
END:STANDARD
BEGIN:DAYLIGHT
TZOFFSETFROM:-0500
TZOFFSETTO:-0400
TZNAME:EDT
DTSTART:20230312T070000
END:DAYLIGHT
BEGIN:STANDARD
TZOFFSETFROM:-0400
TZOFFSETTO:-0500
TZNAME:EST
DTSTART:20231105T060000
END:STANDARD
END:VTIMEZONE
BEGIN:VEVENT
DTSTART;TZID=America/New_York:20221203T090000
DTEND;TZID=America/New_York:20221203T100000
DTSTAMP:20260423T070029
CREATED:20220526T214857Z
LAST-MODIFIED:20220526T220654Z
UID:10000363-1670058000-1670061600@baysoundings.com
SUMMARY:Science Sprouts
DESCRIPTION:Budding scientists ages 2-5 can bring their favorite grown-up to explore and discover a variety of science and nature topics in the Mosaic Backyard Universe. The program sparks kids’ natural curiosity using imaginative play\, crafts\, stories\, songs and more! Please note: This program does not include Museum admission. \n\nOn Saturday\, June 4\, explore “In the Deep Ocean”\nOn Saturday\, June 11\, explore “Swirly Whirly Snails”\nOn Saturday\, June 18\, explore “Manatee Mischief”\nOn Saturday\, June 25\, explore “Busy Buzzin’ Bees”\nWhen/Where: 9-10am every Saturday in the Mosaic Backyard Universe\nCost: $12 per child for members of the Discovery Society; $15 per child for all others. (Includes one adult per child.)\nAdvance reservations required. Attendance limited to 12 children.\n\nRegister now\nThe Bishop follows the CDC’s COVID-19 Community Levels guidelines. Please visit www.CDC.gov to see the current Manatee County Community Level before visiting. Masks must be worn indoors when Community Levels are high.
URL:https://baysoundings.com/event/science-sprouts/2022-12-03/
LOCATION:Bishop Museum of Science ﻿and Nature\, 201 10th St. West\, Bradenton\, FL\, 34205\, United States
CATEGORIES:Crafts & Hobbies,Exhibits,Homeschool,Insects,Kids & Families,Marine Life,Native Flora & Fauna,Science & Technology,Story Time,Youth Programs
END:VEVENT
BEGIN:VEVENT
DTSTART;TZID=America/New_York:20221210T090000
DTEND;TZID=America/New_York:20221210T100000
DTSTAMP:20260423T070029
CREATED:20220526T214857Z
LAST-MODIFIED:20220526T220654Z
UID:10000364-1670662800-1670666400@baysoundings.com
SUMMARY:Science Sprouts
DESCRIPTION:Budding scientists ages 2-5 can bring their favorite grown-up to explore and discover a variety of science and nature topics in the Mosaic Backyard Universe. The program sparks kids’ natural curiosity using imaginative play\, crafts\, stories\, songs and more! Please note: This program does not include Museum admission. \n\nOn Saturday\, June 4\, explore “In the Deep Ocean”\nOn Saturday\, June 11\, explore “Swirly Whirly Snails”\nOn Saturday\, June 18\, explore “Manatee Mischief”\nOn Saturday\, June 25\, explore “Busy Buzzin’ Bees”\nWhen/Where: 9-10am every Saturday in the Mosaic Backyard Universe\nCost: $12 per child for members of the Discovery Society; $15 per child for all others. (Includes one adult per child.)\nAdvance reservations required. Attendance limited to 12 children.\n\nRegister now\nThe Bishop follows the CDC’s COVID-19 Community Levels guidelines. Please visit www.CDC.gov to see the current Manatee County Community Level before visiting. Masks must be worn indoors when Community Levels are high.
URL:https://baysoundings.com/event/science-sprouts/2022-12-10/
LOCATION:Bishop Museum of Science ﻿and Nature\, 201 10th St. West\, Bradenton\, FL\, 34205\, United States
CATEGORIES:Crafts & Hobbies,Exhibits,Homeschool,Insects,Kids & Families,Marine Life,Native Flora & Fauna,Science & Technology,Story Time,Youth Programs
END:VEVENT
BEGIN:VEVENT
DTSTART;TZID=America/New_York:20221211T130000
DTEND;TZID=America/New_York:20221211T140000
DTSTAMP:20260423T070029
CREATED:20221121T215326Z
LAST-MODIFIED:20221121T215326Z
UID:10001218-1670763600-1670767200@baysoundings.com
SUMMARY:Cure Your Crabbiness: Explore Weedon’s World of Crabs
DESCRIPTION:Join us to learn more about the types of crabs that we find at Weedon Island and why mangroves are important for these special animals. \n\n\nHave you ever wanted to know more about the small crabs climbing on the mangrove trees along the boardwalk? Join us to learn more about the types of crabs that we find at Weedon Island and why mangroves are important for these special animals. \nThis program will include a presentation inside the Cultural and Natural History Center\, followed by a short walk along the boardwalk to see these crabs up close. \nThis program will be led by Olivia Blondheim\, a Biological Oceanography doctoral student at the University of South Florida College of Marine Science. Her research explores the function of species at the transition zones between habitats. She is interested in the role of mangrove crabs in marine ecosystems and whether that role changes across mangrove and salt marsh habitats. \n>>> REGISTER HERE <<< \nPinellas County complies with the Americans with Disabilities Act. If you are a person with a disability who needs any accommodation in order to participate in this class you are entitled\, at no cost to you\, to the provision of certain assistance. Prior to ten (10) working days before the class\, please submit your request to accommodations@pinellascounty.org and cc weedonisland@pinellas.gov. In your request\, please be sure to include the date and title of the program you need accommodations for\, indicate that the Weedon Island Preserve Cultural and Natural History Center is the program host\, and include what specific accommodations you will need.
URL:https://baysoundings.com/event/cure-your-crabbiness-explore-weedons-world-of-crabs/
LOCATION:Weedon Island Preserve Cultural and Natural History Center\, 1800 Weedon Drive NE\, St. Petersburg\, FL\, United States
CATEGORIES:Coastal & Wetlands,Homeschool,Kids & Families,Lectures & Seminars,Marine Life,Native Flora & Fauna,Workshops & Classes
GEO:27.850451;-82.6075539
X-APPLE-STRUCTURED-LOCATION;VALUE=URI;X-ADDRESS=Weedon Island Preserve Cultural and Natural History Center 1800 Weedon Drive NE St. Petersburg FL United States;X-APPLE-RADIUS=500;X-TITLE=1800 Weedon Drive NE:geo:-82.6075539,27.850451
END:VEVENT
BEGIN:VEVENT
DTSTART;TZID=America/New_York:20221217T090000
DTEND;TZID=America/New_York:20221217T100000
DTSTAMP:20260423T070029
CREATED:20220526T214857Z
LAST-MODIFIED:20220526T220654Z
UID:10000365-1671267600-1671271200@baysoundings.com
SUMMARY:Science Sprouts
DESCRIPTION:Budding scientists ages 2-5 can bring their favorite grown-up to explore and discover a variety of science and nature topics in the Mosaic Backyard Universe. The program sparks kids’ natural curiosity using imaginative play\, crafts\, stories\, songs and more! Please note: This program does not include Museum admission. \n\nOn Saturday\, June 4\, explore “In the Deep Ocean”\nOn Saturday\, June 11\, explore “Swirly Whirly Snails”\nOn Saturday\, June 18\, explore “Manatee Mischief”\nOn Saturday\, June 25\, explore “Busy Buzzin’ Bees”\nWhen/Where: 9-10am every Saturday in the Mosaic Backyard Universe\nCost: $12 per child for members of the Discovery Society; $15 per child for all others. (Includes one adult per child.)\nAdvance reservations required. Attendance limited to 12 children.\n\nRegister now\nThe Bishop follows the CDC’s COVID-19 Community Levels guidelines. Please visit www.CDC.gov to see the current Manatee County Community Level before visiting. Masks must be worn indoors when Community Levels are high.
URL:https://baysoundings.com/event/science-sprouts/2022-12-17/
LOCATION:Bishop Museum of Science ﻿and Nature\, 201 10th St. West\, Bradenton\, FL\, 34205\, United States
CATEGORIES:Crafts & Hobbies,Exhibits,Homeschool,Insects,Kids & Families,Marine Life,Native Flora & Fauna,Science & Technology,Story Time,Youth Programs
END:VEVENT
BEGIN:VEVENT
DTSTART;TZID=America/New_York:20221224T090000
DTEND;TZID=America/New_York:20221224T100000
DTSTAMP:20260423T070029
CREATED:20220526T214857Z
LAST-MODIFIED:20220526T220654Z
UID:10000366-1671872400-1671876000@baysoundings.com
SUMMARY:Science Sprouts
DESCRIPTION:Budding scientists ages 2-5 can bring their favorite grown-up to explore and discover a variety of science and nature topics in the Mosaic Backyard Universe. The program sparks kids’ natural curiosity using imaginative play\, crafts\, stories\, songs and more! Please note: This program does not include Museum admission. \n\nOn Saturday\, June 4\, explore “In the Deep Ocean”\nOn Saturday\, June 11\, explore “Swirly Whirly Snails”\nOn Saturday\, June 18\, explore “Manatee Mischief”\nOn Saturday\, June 25\, explore “Busy Buzzin’ Bees”\nWhen/Where: 9-10am every Saturday in the Mosaic Backyard Universe\nCost: $12 per child for members of the Discovery Society; $15 per child for all others. (Includes one adult per child.)\nAdvance reservations required. Attendance limited to 12 children.\n\nRegister now\nThe Bishop follows the CDC’s COVID-19 Community Levels guidelines. Please visit www.CDC.gov to see the current Manatee County Community Level before visiting. Masks must be worn indoors when Community Levels are high.
URL:https://baysoundings.com/event/science-sprouts/2022-12-24/
LOCATION:Bishop Museum of Science ﻿and Nature\, 201 10th St. West\, Bradenton\, FL\, 34205\, United States
CATEGORIES:Crafts & Hobbies,Exhibits,Homeschool,Insects,Kids & Families,Marine Life,Native Flora & Fauna,Science & Technology,Story Time,Youth Programs
END:VEVENT
BEGIN:VEVENT
DTSTART;TZID=America/New_York:20221231T090000
DTEND;TZID=America/New_York:20221231T100000
DTSTAMP:20260423T070029
CREATED:20220526T214857Z
LAST-MODIFIED:20220526T220654Z
UID:10000367-1672477200-1672480800@baysoundings.com
SUMMARY:Science Sprouts
DESCRIPTION:Budding scientists ages 2-5 can bring their favorite grown-up to explore and discover a variety of science and nature topics in the Mosaic Backyard Universe. The program sparks kids’ natural curiosity using imaginative play\, crafts\, stories\, songs and more! Please note: This program does not include Museum admission. \n\nOn Saturday\, June 4\, explore “In the Deep Ocean”\nOn Saturday\, June 11\, explore “Swirly Whirly Snails”\nOn Saturday\, June 18\, explore “Manatee Mischief”\nOn Saturday\, June 25\, explore “Busy Buzzin’ Bees”\nWhen/Where: 9-10am every Saturday in the Mosaic Backyard Universe\nCost: $12 per child for members of the Discovery Society; $15 per child for all others. (Includes one adult per child.)\nAdvance reservations required. Attendance limited to 12 children.\n\nRegister now\nThe Bishop follows the CDC’s COVID-19 Community Levels guidelines. Please visit www.CDC.gov to see the current Manatee County Community Level before visiting. Masks must be worn indoors when Community Levels are high.
URL:https://baysoundings.com/event/science-sprouts/2022-12-31/
LOCATION:Bishop Museum of Science ﻿and Nature\, 201 10th St. West\, Bradenton\, FL\, 34205\, United States
CATEGORIES:Crafts & Hobbies,Exhibits,Homeschool,Insects,Kids & Families,Marine Life,Native Flora & Fauna,Science & Technology,Story Time,Youth Programs
END:VEVENT
END:VCALENDAR