BEGIN:VCALENDAR
VERSION:2.0
PRODID:-//Bay Soundings - ECPv6.15.11//NONSGML v1.0//EN
CALSCALE:GREGORIAN
METHOD:PUBLISH
X-ORIGINAL-URL:https://baysoundings.com
X-WR-CALDESC:Events for Bay Soundings
REFRESH-INTERVAL;VALUE=DURATION:PT1H
X-Robots-Tag:noindex
X-PUBLISHED-TTL:PT1H
BEGIN:VTIMEZONE
TZID:America/New_York
BEGIN:DAYLIGHT
TZOFFSETFROM:-0500
TZOFFSETTO:-0400
TZNAME:EDT
DTSTART:20210314T070000
END:DAYLIGHT
BEGIN:STANDARD
TZOFFSETFROM:-0400
TZOFFSETTO:-0500
TZNAME:EST
DTSTART:20211107T060000
END:STANDARD
BEGIN:DAYLIGHT
TZOFFSETFROM:-0500
TZOFFSETTO:-0400
TZNAME:EDT
DTSTART:20220313T070000
END:DAYLIGHT
BEGIN:STANDARD
TZOFFSETFROM:-0400
TZOFFSETTO:-0500
TZNAME:EST
DTSTART:20221106T060000
END:STANDARD
BEGIN:DAYLIGHT
TZOFFSETFROM:-0500
TZOFFSETTO:-0400
TZNAME:EDT
DTSTART:20230312T070000
END:DAYLIGHT
BEGIN:STANDARD
TZOFFSETFROM:-0400
TZOFFSETTO:-0500
TZNAME:EST
DTSTART:20231105T060000
END:STANDARD
END:VTIMEZONE
BEGIN:VEVENT
DTSTART;TZID=America/New_York:20220625T090000
DTEND;TZID=America/New_York:20220625T110000
DTSTAMP:20260423T040937
CREATED:20220524T221235Z
LAST-MODIFIED:20220622T215456Z
UID:10001744-1656147600-1656154800@baysoundings.com
SUMMARY:Archaeology Hike
DESCRIPTION:Take a walk through the early history of Weedon Island to learn about the indigenous cultures that lived here long ago.\n\n\n\n\n\n\n\nHike to an active archaeological dig-site on Weeden Island. Attendees will learn about the early peoples that inhabited Weedon Island thousands of years ago\, and the ongoing work being done by researchers to better understand these ancient cultures and how they interacted with their environment. \nThis hike is recommended for adults and youth ages 12+. Participants should be prepared for a 2 mile hike on uneven terrain. \nProceeds will support the Friends of Weedon Island\, a non-profit organization that work to promotes education and conservation of the Weedon Island Preserve. \n>>> REGISTER HERE <<<
URL:https://baysoundings.com/event/archaeology-hike-2/2022-06-25/
LOCATION:Weedon Island Preserve Cultural and Natural History Center\, 1800 Weedon Drive NE\, St. Petersburg\, FL\, United States
CATEGORIES:Archaeology,History & Culture,Nature Tours & Hikes,Workshops & Classes
GEO:27.850451;-82.6075539
X-APPLE-STRUCTURED-LOCATION;VALUE=URI;X-ADDRESS=Weedon Island Preserve Cultural and Natural History Center 1800 Weedon Drive NE St. Petersburg FL United States;X-APPLE-RADIUS=500;X-TITLE=1800 Weedon Drive NE:geo:-82.6075539,27.850451
END:VEVENT
END:VCALENDAR