BEGIN:VCALENDAR
VERSION:2.0
PRODID:-//Bay Soundings - ECPv6.15.11//NONSGML v1.0//EN
CALSCALE:GREGORIAN
METHOD:PUBLISH
X-ORIGINAL-URL:https://baysoundings.com
X-WR-CALDESC:Events for Bay Soundings
REFRESH-INTERVAL;VALUE=DURATION:PT1H
X-Robots-Tag:noindex
X-PUBLISHED-TTL:PT1H
BEGIN:VTIMEZONE
TZID:America/New_York
BEGIN:DAYLIGHT
TZOFFSETFROM:-0500
TZOFFSETTO:-0400
TZNAME:EDT
DTSTART:20230312T070000
END:DAYLIGHT
BEGIN:STANDARD
TZOFFSETFROM:-0400
TZOFFSETTO:-0500
TZNAME:EST
DTSTART:20231105T060000
END:STANDARD
BEGIN:DAYLIGHT
TZOFFSETFROM:-0500
TZOFFSETTO:-0400
TZNAME:EDT
DTSTART:20240310T070000
END:DAYLIGHT
BEGIN:STANDARD
TZOFFSETFROM:-0400
TZOFFSETTO:-0500
TZNAME:EST
DTSTART:20241103T060000
END:STANDARD
BEGIN:DAYLIGHT
TZOFFSETFROM:-0500
TZOFFSETTO:-0400
TZNAME:EDT
DTSTART:20250309T070000
END:DAYLIGHT
BEGIN:STANDARD
TZOFFSETFROM:-0400
TZOFFSETTO:-0500
TZNAME:EST
DTSTART:20251102T060000
END:STANDARD
END:VTIMEZONE
BEGIN:VEVENT
DTSTART;TZID=America/New_York:20240705T130000
DTEND;TZID=America/New_York:20240705T150000
DTSTAMP:20260421T170331
CREATED:20240304T211214Z
LAST-MODIFIED:20240726T185224Z
UID:10006569-1720184400-1720191600@baysoundings.com
SUMMARY:Volunteer Archaeology Lab
DESCRIPTION:Learn how to sort\, identify\, and clean artifacts and other material from real archaeological sites! \n\n\nLearn how artifacts and other archaeological material get processed for study in this volunteer lab that is led by professional archaeologists with the West Central chapter of the Florida Public Archaeology Network. Participants will help sort through\, clean\, and identify artifacts and other material from real archaeological sites so they can be used by researchers to learn about the past. \nThis event is best suited for adults; children 12 and under must be accompanied by an adult. Seating is limited so registration is required! \nIf you have a homeschool group that would like to participate\, please email westcentral@fpan.us to set up a separate lab time to accomodate your students. \n>>> REGISTER HERE <<<
URL:https://baysoundings.com/event/volunteer-archaeology-lab/2024-07-05/
LOCATION:Weedon Island Preserve Cultural and Natural History Center\, 1800 Weedon Drive NE\, St. Petersburg\, FL\, United States
CATEGORIES:Adult Level,Archaeology,Certification & Training Programs,Coastal & Wetlands,For Teachers & Educators,Geology & Geography,Homeschool,Local Community,Native Flora & Fauna,Volunteering,Workshops & Classes
GEO:27.850451;-82.6075539
X-APPLE-STRUCTURED-LOCATION;VALUE=URI;X-ADDRESS=Weedon Island Preserve Cultural and Natural History Center 1800 Weedon Drive NE St. Petersburg FL United States;X-APPLE-RADIUS=500;X-TITLE=1800 Weedon Drive NE:geo:-82.6075539,27.850451
END:VEVENT
BEGIN:VEVENT
DTSTART;TZID=America/New_York:20240706T090000
DTEND;TZID=America/New_York:20240706T110000
DTSTAMP:20260421T170331
CREATED:20231222T215416Z
LAST-MODIFIED:20241227T200222Z
UID:10004354-1720256400-1720263600@baysoundings.com
SUMMARY:Emerson Point Preserve Tour
DESCRIPTION:First Saturday of the month (December – April)\, at 9:00am \nCasually stroll through the beautiful Emerson Point Preserve and learn about Florida’s native plants and inhabitants of a coastal environment. Suitable for all ages. \n>>> RESERVE A SPOT <<< \nMeet at the first parking area on the RIGHT at the Observation Tower (not at the classroom). \nThe University of Florida is committed to providing universal access to all of our events. For disability accommodations such as sign language interpreters and listening devices\, please contact our office at (941) 722-4524 at least 1 week in advance. Advance notice is necessary to arrange for some accessibility needs.
URL:https://baysoundings.com/event/emerson-point-preserve-tour-3-2/2024-07-06/
LOCATION:Emerson Point Preserve\, 5801 17th St W\, Palmetto\, FL\, 34221\, United States
CATEGORIES:Coastal & Wetlands,Geology & Geography,Kids & Families,Local Community,Native Flora & Fauna,Nature Tours & Hikes
GEO:27.532876;-82.625834
X-APPLE-STRUCTURED-LOCATION;VALUE=URI;X-ADDRESS=Emerson Point Preserve 5801 17th St W Palmetto FL 34221 United States;X-APPLE-RADIUS=500;X-TITLE=5801 17th St W:geo:-82.625834,27.532876
END:VEVENT
BEGIN:VEVENT
DTSTART;TZID=America/New_York:20240720T090000
DTEND;TZID=America/New_York:20240720T103000
DTSTAMP:20260421T170331
CREATED:20240422T212105Z
LAST-MODIFIED:20241109T183500Z
UID:10006631-1721466000-1721471400@baysoundings.com
SUMMARY:Hidden Wonders Nature Walk
DESCRIPTION:This family-friendly nature hike will take you on an exploration of the wet and dry habitats of “Our Wildest Place.” \nWe will investigate some interesting plants and animals that call Brooker Creek Preserve home. Everyday reveals new natural wonders to enjoy\, join us! \nRegistration is required. \nAdditional Notes: Volunteer hike guides will meet participants in the lobby of the Education Center 10 minutes before the scheduled start time. Please note that it takes about 10 minutes to drive from the preserve entrance (Keystone Rd.) to the parking lot\, and there is a 2-5 minute walk from the parking lot to the Education Center. We strongly suggest all hikers visit the restroom before you begin as there are no facilities along the trail. \n 
URL:https://baysoundings.com/event/hidden-wonders-nature-walk-5-3-2/2024-07-20/
LOCATION:Brooker Creek Environmental Education Center\, 3940 Keystone Road\, Tarpon Springs\, FL\, 34688\, United States
CATEGORIES:Coastal & Wetlands,Geology & Geography,Kids & Families,Native Flora & Fauna,Nature Tours & Hikes,Wildlife
GEO:28.136639;-82.656421
X-APPLE-STRUCTURED-LOCATION;VALUE=URI;X-ADDRESS=Brooker Creek Environmental Education Center 3940 Keystone Road Tarpon Springs FL 34688 United States;X-APPLE-RADIUS=500;X-TITLE=3940 Keystone Road:geo:-82.656421,28.136639
END:VEVENT
END:VCALENDAR