BEGIN:VCALENDAR
VERSION:2.0
PRODID:-//Bay Soundings - ECPv6.15.11//NONSGML v1.0//EN
CALSCALE:GREGORIAN
METHOD:PUBLISH
X-ORIGINAL-URL:https://baysoundings.com
X-WR-CALDESC:Events for Bay Soundings
REFRESH-INTERVAL;VALUE=DURATION:PT1H
X-Robots-Tag:noindex
X-PUBLISHED-TTL:PT1H
BEGIN:VTIMEZONE
TZID:America/New_York
BEGIN:DAYLIGHT
TZOFFSETFROM:-0500
TZOFFSETTO:-0400
TZNAME:EDT
DTSTART:20230312T070000
END:DAYLIGHT
BEGIN:STANDARD
TZOFFSETFROM:-0400
TZOFFSETTO:-0500
TZNAME:EST
DTSTART:20231105T060000
END:STANDARD
BEGIN:DAYLIGHT
TZOFFSETFROM:-0500
TZOFFSETTO:-0400
TZNAME:EDT
DTSTART:20240310T070000
END:DAYLIGHT
BEGIN:STANDARD
TZOFFSETFROM:-0400
TZOFFSETTO:-0500
TZNAME:EST
DTSTART:20241103T060000
END:STANDARD
BEGIN:DAYLIGHT
TZOFFSETFROM:-0500
TZOFFSETTO:-0400
TZNAME:EDT
DTSTART:20250309T070000
END:DAYLIGHT
BEGIN:STANDARD
TZOFFSETFROM:-0400
TZOFFSETTO:-0500
TZNAME:EST
DTSTART:20251102T060000
END:STANDARD
END:VTIMEZONE
BEGIN:VEVENT
DTSTART;TZID=America/New_York:20240202T130000
DTEND;TZID=America/New_York:20240202T150000
DTSTAMP:20260423T010132
CREATED:20231123T232916Z
LAST-MODIFIED:20240116T211803Z
UID:10004388-1706878800-1706886000@baysoundings.com
SUMMARY:Open Archaeology Lab
DESCRIPTION:Learn from professional archaeologists on how to sort\, identify\, and clean artifacts and other material from real archaeological sites! \n\n\nEver wonder what archaeologists do with all that stuff they dig up at archaeological sites once the fieldwork is finished? Join us for an open archaeology lab!\nLearn from professional archaeologists with the West Central Region of the Florida Public Archaeology Network about how artifacts and other archaeological material get processed in the laboratory so they can be used to learn about the past. Participants will get the chance to sort through\, identify\, and clean artifacts and other material from real archaeological sites!\nAll ages are welcome to participate or observe\, but children 12 and under must be accompanied by an adult. All individuals planning to attend should be registered.\n>>> REGISTER HERE <<<
URL:https://baysoundings.com/event/archaeology-lab/2024-02-02/
LOCATION:Weedon Island Preserve Cultural and Natural History Center\, 1800 Weedon Drive NE\, St. Petersburg\, FL\, United States
CATEGORIES:Archaeology,Geology & Geography,History & Culture,Homeschool,Local Community,Native Flora & Fauna,Science & Technology,Workshops & Classes,Youth Programs
GEO:27.850451;-82.6075539
X-APPLE-STRUCTURED-LOCATION;VALUE=URI;X-ADDRESS=Weedon Island Preserve Cultural and Natural History Center 1800 Weedon Drive NE St. Petersburg FL United States;X-APPLE-RADIUS=500;X-TITLE=1800 Weedon Drive NE:geo:-82.6075539,27.850451
END:VEVENT
BEGIN:VEVENT
DTSTART;TZID=America/New_York:20240203T090000
DTEND;TZID=America/New_York:20240203T110000
DTSTAMP:20260423T010132
CREATED:20231222T203402Z
LAST-MODIFIED:20231222T203452Z
UID:10004229-1706950800-1706958000@baysoundings.com
SUMMARY:Naturalist Guided Tour
DESCRIPTION:Explore the coastal and upland ecosystems of Weedon Island on this guided tour of the Preserve. \n\n\nParticipants will learn about the environment\, native wildlife\, and early history of Weedon Island on this guided hike.\nThis tour is for adults and youth ages 10+. Youth must be supervised by an adult. Attendees will meet inside the Cultural and Natural History Center for a short introduction before departing for the trails. The total hike length may be up to two miles. This tour may traverse uneven\, natural paths or boardwalks so please prepare accordingly.\n>>> RESERVE A SPOT <<< \nProceeds from this program go to the Friends of Weedon Island. The Friends support the Weedon Island Preserve through education\, preservation and protection of its habitats\, ecology\, and cultural history. Become a Friend today!
URL:https://baysoundings.com/event/naturalist-guided-tour-2-2/2024-02-03/
LOCATION:Weedon Island Preserve Cultural and Natural History Center\, 1800 Weedon Drive NE\, St. Petersburg\, FL\, United States
CATEGORIES:Coastal & Wetlands,Geology & Geography,History & Culture,Lectures & Seminars,Local Community,Native Flora & Fauna,Nature Tours & Hikes
GEO:27.850451;-82.6075539
X-APPLE-STRUCTURED-LOCATION;VALUE=URI;X-ADDRESS=Weedon Island Preserve Cultural and Natural History Center 1800 Weedon Drive NE St. Petersburg FL United States;X-APPLE-RADIUS=500;X-TITLE=1800 Weedon Drive NE:geo:-82.6075539,27.850451
END:VEVENT
BEGIN:VEVENT
DTSTART;TZID=America/New_York:20240203T090000
DTEND;TZID=America/New_York:20240203T110000
DTSTAMP:20260423T010132
CREATED:20231222T215416Z
LAST-MODIFIED:20241227T200222Z
UID:10004349-1706950800-1706958000@baysoundings.com
SUMMARY:Emerson Point Preserve Tour
DESCRIPTION:First Saturday of the month (December – April)\, at 9:00am \nCasually stroll through the beautiful Emerson Point Preserve and learn about Florida’s native plants and inhabitants of a coastal environment. Suitable for all ages. \n>>> RESERVE A SPOT <<< \nMeet at the first parking area on the RIGHT at the Observation Tower (not at the classroom). \nThe University of Florida is committed to providing universal access to all of our events. For disability accommodations such as sign language interpreters and listening devices\, please contact our office at (941) 722-4524 at least 1 week in advance. Advance notice is necessary to arrange for some accessibility needs.
URL:https://baysoundings.com/event/emerson-point-preserve-tour-3-2/2024-02-03/
LOCATION:Emerson Point Preserve\, 5801 17th St W\, Palmetto\, FL\, 34221\, United States
CATEGORIES:Coastal & Wetlands,Geology & Geography,Kids & Families,Local Community,Native Flora & Fauna,Nature Tours & Hikes
GEO:27.532876;-82.625834
X-APPLE-STRUCTURED-LOCATION;VALUE=URI;X-ADDRESS=Emerson Point Preserve 5801 17th St W Palmetto FL 34221 United States;X-APPLE-RADIUS=500;X-TITLE=5801 17th St W:geo:-82.625834,27.532876
END:VEVENT
BEGIN:VEVENT
DTSTART;TZID=America/New_York:20240210T090000
DTEND;TZID=America/New_York:20240210T110000
DTSTAMP:20260423T010132
CREATED:20231222T203402Z
LAST-MODIFIED:20231222T203452Z
UID:10004230-1707555600-1707562800@baysoundings.com
SUMMARY:Naturalist Guided Tour
DESCRIPTION:Explore the coastal and upland ecosystems of Weedon Island on this guided tour of the Preserve. \n\n\nParticipants will learn about the environment\, native wildlife\, and early history of Weedon Island on this guided hike.\nThis tour is for adults and youth ages 10+. Youth must be supervised by an adult. Attendees will meet inside the Cultural and Natural History Center for a short introduction before departing for the trails. The total hike length may be up to two miles. This tour may traverse uneven\, natural paths or boardwalks so please prepare accordingly.\n>>> RESERVE A SPOT <<< \nProceeds from this program go to the Friends of Weedon Island. The Friends support the Weedon Island Preserve through education\, preservation and protection of its habitats\, ecology\, and cultural history. Become a Friend today!
URL:https://baysoundings.com/event/naturalist-guided-tour-2-2/2024-02-10/
LOCATION:Weedon Island Preserve Cultural and Natural History Center\, 1800 Weedon Drive NE\, St. Petersburg\, FL\, United States
CATEGORIES:Coastal & Wetlands,Geology & Geography,History & Culture,Lectures & Seminars,Local Community,Native Flora & Fauna,Nature Tours & Hikes
GEO:27.850451;-82.6075539
X-APPLE-STRUCTURED-LOCATION;VALUE=URI;X-ADDRESS=Weedon Island Preserve Cultural and Natural History Center 1800 Weedon Drive NE St. Petersburg FL United States;X-APPLE-RADIUS=500;X-TITLE=1800 Weedon Drive NE:geo:-82.6075539,27.850451
END:VEVENT
BEGIN:VEVENT
DTSTART;TZID=America/New_York:20240210T090000
DTEND;TZID=America/New_York:20240210T150000
DTSTAMP:20260423T010132
CREATED:20230923T194410Z
LAST-MODIFIED:20230923T194410Z
UID:10003111-1707555600-1707577200@baysoundings.com
SUMMARY:Turtle Science
DESCRIPTION:This engaging hands-on class will introduce the study of tortoises and freshwater turtles. Join turtle biologist and environmental educator George L. Heinrich for this rare educational opportunity. \nStudents will learn about the ecology and conservation of tortoises and freshwater turtles through a blend of classroom and field sessions. Classroom sessions include PowerPoint presentations and hands-on activities; field sessions will include lessons on identification techniques and data collection. \nAges 18 yrs + \n>>> REGISTER HERE <<< \n\n\n\nSchedule:\nNovember 11\, 2023\n\n\nWhy Turtles Are Cool (classroom session).\nSearch for turtles along the preserve’s trails (field session).\n\nDecember 9\, 2023 \n\n\nGopher Tortoises + Prescribed Fire = Increased Biodiversity (classroom session).\nSearch for tortoises and their burrows in the preserve’s uplands\, and learn how to conduct a burrow survey and estimate population size (field session).\n\nJanuary 13\, 2024 \n\n\nTurtle Anatomy: The Clues Are in the Bones (classroom session).\nExamine skeletal material in the field (field session).\n\nFebruary 10\, 2024 \n\n\nIn One End and Out the Other: Determining Turtle Diets by Studying Scat (classroom session).\nCollect and dissect gopher tortoise scat (field session)\n\nMarch 9\, 2024 \n\n\nTurtle Nesting Ecology (classroom session).\nSearch for turtles in the preserve’s diverse habitats (field session).\n\nApril 13\, 2024 \n\n\nGlobal Turtle Conservation Issues (classroom session).\nSearch for gopher tortoises in the preserve’s uplands (field session).\n\nMay 11\, 2024 \n\n\nField trip to Rainbow Run in Dunnellon\, Florida (canoe and snorkel).
URL:https://baysoundings.com/event/turtle-science/2024-02-10/
LOCATION:Boyd Hill Nature Preserve Classroom\, 1101 COUNTRY CLUB WY S\, St. Petersburg\, FL\, 33705\, United States
CATEGORIES:Coastal & Wetlands,Exhibits,Geology & Geography,Homeschool,Native Flora & Fauna,Nature Tours & Hikes,Reptiles & Amphibians,Science & Technology,Workshops & Classes
ORGANIZER;CN="Boyd Hill Nature Preserve":MAILTO:stpeteparksrec@stpete.org 
GEO:27.724764;-82.6502749
X-APPLE-STRUCTURED-LOCATION;VALUE=URI;X-ADDRESS=Boyd Hill Nature Preserve Classroom 1101 COUNTRY CLUB WY S St. Petersburg FL 33705 United States;X-APPLE-RADIUS=500;X-TITLE=1101 COUNTRY CLUB WY S:geo:-82.6502749,27.724764
END:VEVENT
BEGIN:VEVENT
DTSTART;TZID=America/New_York:20240210T100000
DTEND;TZID=America/New_York:20240210T113000
DTSTAMP:20260423T010132
CREATED:20240110T180011Z
LAST-MODIFIED:20240110T180011Z
UID:10004377-1707559200-1707564600@baysoundings.com
SUMMARY:Native Plant Hike
DESCRIPTION:Immerse yourself in the world of native Florida plant species on this ranger-led hike. \n>>> REGISTER HERE <<<
URL:https://baysoundings.com/event/native-plant-hike-2-2/
LOCATION:Boyd Hill Nature Preserve Classroom\, 1101 COUNTRY CLUB WY S\, St. Petersburg\, FL\, 33705\, United States
CATEGORIES:Agriculture & Botany,Coastal & Wetlands,Gardening & Landscaping,Geology & Geography,Lectures & Seminars,Local Community,Native Flora & Fauna,Nature Tours & Hikes
ORGANIZER;CN="Boyd Hill Nature Preserve":MAILTO:stpeteparksrec@stpete.org 
GEO:27.724764;-82.6502749
X-APPLE-STRUCTURED-LOCATION;VALUE=URI;X-ADDRESS=Boyd Hill Nature Preserve Classroom 1101 COUNTRY CLUB WY S St. Petersburg FL 33705 United States;X-APPLE-RADIUS=500;X-TITLE=1101 COUNTRY CLUB WY S:geo:-82.6502749,27.724764
END:VEVENT
BEGIN:VEVENT
DTSTART;TZID=America/New_York:20240217T090000
DTEND;TZID=America/New_York:20240217T110000
DTSTAMP:20260423T010132
CREATED:20231222T203402Z
LAST-MODIFIED:20231222T203452Z
UID:10004231-1708160400-1708167600@baysoundings.com
SUMMARY:Naturalist Guided Tour
DESCRIPTION:Explore the coastal and upland ecosystems of Weedon Island on this guided tour of the Preserve. \n\n\nParticipants will learn about the environment\, native wildlife\, and early history of Weedon Island on this guided hike.\nThis tour is for adults and youth ages 10+. Youth must be supervised by an adult. Attendees will meet inside the Cultural and Natural History Center for a short introduction before departing for the trails. The total hike length may be up to two miles. This tour may traverse uneven\, natural paths or boardwalks so please prepare accordingly.\n>>> RESERVE A SPOT <<< \nProceeds from this program go to the Friends of Weedon Island. The Friends support the Weedon Island Preserve through education\, preservation and protection of its habitats\, ecology\, and cultural history. Become a Friend today!
URL:https://baysoundings.com/event/naturalist-guided-tour-2-2/2024-02-17/
LOCATION:Weedon Island Preserve Cultural and Natural History Center\, 1800 Weedon Drive NE\, St. Petersburg\, FL\, United States
CATEGORIES:Coastal & Wetlands,Geology & Geography,History & Culture,Lectures & Seminars,Local Community,Native Flora & Fauna,Nature Tours & Hikes
GEO:27.850451;-82.6075539
X-APPLE-STRUCTURED-LOCATION;VALUE=URI;X-ADDRESS=Weedon Island Preserve Cultural and Natural History Center 1800 Weedon Drive NE St. Petersburg FL United States;X-APPLE-RADIUS=500;X-TITLE=1800 Weedon Drive NE:geo:-82.6075539,27.850451
END:VEVENT
BEGIN:VEVENT
DTSTART;TZID=America/New_York:20240217T130000
DTEND;TZID=America/New_York:20240217T150000
DTSTAMP:20260423T010132
CREATED:20240116T202228Z
LAST-MODIFIED:20240116T202228Z
UID:10004382-1708174800-1708182000@baysoundings.com
SUMMARY:Branching Out: Your Voice\, Our Trees
DESCRIPTION:A community conversation on urban trees in public spaces. \nTalk About Trees \nJoin us for a world cafe where we will talk about trees and their role in our communities! \nPinellas County is embarking on the development of their first-ever Urban Forestry Master Plan for unincorporated and they are seeking YOUR input to help guide this plan. Urban trees play a critical role in our daily lives and the County wants to ensure they are managed in a resilient and sustainable manner. It’s very important to the County to get your input about trees in our public spaces so they can better understand the benefits and challenges about urban trees. \nWhat is a world cafe? \nWe will create a comfortable environment where you will feel encouraged to talk to fellow participants at roundtables about trees! Different tables will have different questions. You will get a chance to hear from your community members on their thoughts while also expressing your own. You will rotate around to different tables with different questions where your thoughts will be documented. Following the forum\, all of the input provided will be summarized and provided to the County to identify common themes that will help guide their Urban Forestry Master Plan. \nWho can participate? \nAnyone that lives in unincorporated areas of Pinellas County. Unsure? Check out this map. \nThis is a unique opportunity for you to share your feedback! \nRefreshments will be provided. We want to hear from you. Don’t delay and register today!
URL:https://baysoundings.com/event/branching-out-your-voice-our-trees/
LOCATION:Brooker Creek Environmental Education Center\, 3940 Keystone Road\, Tarpon Springs\, FL\, 34688\, United States
CATEGORIES:Adult Level,Agriculture & Botany,Conferences & Forums,Conservation & Ecology,Geology & Geography,Local Community,Native Flora & Fauna
GEO:28.136639;-82.656421
X-APPLE-STRUCTURED-LOCATION;VALUE=URI;X-ADDRESS=Brooker Creek Environmental Education Center 3940 Keystone Road Tarpon Springs FL 34688 United States;X-APPLE-RADIUS=500;X-TITLE=3940 Keystone Road:geo:-82.656421,28.136639
END:VEVENT
BEGIN:VEVENT
DTSTART;TZID=America/New_York:20240224T090000
DTEND;TZID=America/New_York:20240224T110000
DTSTAMP:20260423T010132
CREATED:20231222T203402Z
LAST-MODIFIED:20231222T203452Z
UID:10004232-1708765200-1708772400@baysoundings.com
SUMMARY:Naturalist Guided Tour
DESCRIPTION:Explore the coastal and upland ecosystems of Weedon Island on this guided tour of the Preserve. \n\n\nParticipants will learn about the environment\, native wildlife\, and early history of Weedon Island on this guided hike.\nThis tour is for adults and youth ages 10+. Youth must be supervised by an adult. Attendees will meet inside the Cultural and Natural History Center for a short introduction before departing for the trails. The total hike length may be up to two miles. This tour may traverse uneven\, natural paths or boardwalks so please prepare accordingly.\n>>> RESERVE A SPOT <<< \nProceeds from this program go to the Friends of Weedon Island. The Friends support the Weedon Island Preserve through education\, preservation and protection of its habitats\, ecology\, and cultural history. Become a Friend today!
URL:https://baysoundings.com/event/naturalist-guided-tour-2-2/2024-02-24/
LOCATION:Weedon Island Preserve Cultural and Natural History Center\, 1800 Weedon Drive NE\, St. Petersburg\, FL\, United States
CATEGORIES:Coastal & Wetlands,Geology & Geography,History & Culture,Lectures & Seminars,Local Community,Native Flora & Fauna,Nature Tours & Hikes
GEO:27.850451;-82.6075539
X-APPLE-STRUCTURED-LOCATION;VALUE=URI;X-ADDRESS=Weedon Island Preserve Cultural and Natural History Center 1800 Weedon Drive NE St. Petersburg FL United States;X-APPLE-RADIUS=500;X-TITLE=1800 Weedon Drive NE:geo:-82.6075539,27.850451
END:VEVENT
END:VCALENDAR