BEGIN:VCALENDAR
VERSION:2.0
PRODID:-//Bay Soundings - ECPv6.15.11//NONSGML v1.0//EN
CALSCALE:GREGORIAN
METHOD:PUBLISH
X-ORIGINAL-URL:https://baysoundings.com
X-WR-CALDESC:Events for Bay Soundings
REFRESH-INTERVAL;VALUE=DURATION:PT1H
X-Robots-Tag:noindex
X-PUBLISHED-TTL:PT1H
BEGIN:VTIMEZONE
TZID:America/New_York
BEGIN:DAYLIGHT
TZOFFSETFROM:-0500
TZOFFSETTO:-0400
TZNAME:EDT
DTSTART:20220313T070000
END:DAYLIGHT
BEGIN:STANDARD
TZOFFSETFROM:-0400
TZOFFSETTO:-0500
TZNAME:EST
DTSTART:20221106T060000
END:STANDARD
BEGIN:DAYLIGHT
TZOFFSETFROM:-0500
TZOFFSETTO:-0400
TZNAME:EDT
DTSTART:20230312T070000
END:DAYLIGHT
BEGIN:STANDARD
TZOFFSETFROM:-0400
TZOFFSETTO:-0500
TZNAME:EST
DTSTART:20231105T060000
END:STANDARD
BEGIN:DAYLIGHT
TZOFFSETFROM:-0500
TZOFFSETTO:-0400
TZNAME:EDT
DTSTART:20240310T070000
END:DAYLIGHT
BEGIN:STANDARD
TZOFFSETFROM:-0400
TZOFFSETTO:-0500
TZNAME:EST
DTSTART:20241103T060000
END:STANDARD
END:VTIMEZONE
BEGIN:VEVENT
DTSTART;TZID=America/New_York:20231012T190000
DTEND;TZID=America/New_York:20231012T200000
DTSTAMP:20260423T175423
CREATED:20230925T201927Z
LAST-MODIFIED:20230925T202038Z
UID:10003182-1697137200-1697140800@baysoundings.com
SUMMARY:Climate Change and Cultural Sites in Florida
DESCRIPTION:Learn how historical and archaeological sites threatened by climate change are protected in Florida. \nHow do we protect cemeteries\, historic buildings\, and archaeological sites that are threatened by climate change in Florida? How is it decided which sites get attention and which do not? Join the Alliance for Weedon Island Archaeological Research and Education in collaboration with the Central Gulf Coast Archaeological Society for a special presentation of how archaeologists are currently answering these questions\, what significant threats are observed in Florida\, and how the public can help! \nThis program will take place inside the auditorium of the Weedon Island Preserve Cultural and Natural History Center. This program is recommended for adults. \n>>> REGISTER HERE <<< \nThis presentation will feature guest speaker Rachael Kangas. Rachael is the Director for the West Central and Central Regions of the Florida Public Archaeology Network\, and she conducts public archaeology and outreach in the regions. She earned her M.A. from the University of Central Florida (UCF) in 2015 and is certified as a member of the Register of Professional Archaeologists (RPA). She has participated in fieldwork in the Americas and conducted lab work and teaching during her time at UCF. She is also an American Academy for Underwater Sciences (AAUS) diver\, allowing her to assist with underwater research around the state. \n \nEvent photos courtesy of the Florida Public Archaeology Network.
URL:https://baysoundings.com/event/climate-change-and-cultural-sites-in-florida/
LOCATION:Weedon Island Preserve Cultural and Natural History Center\, 1800 Weedon Drive NE\, St. Petersburg\, FL\, United States
CATEGORIES:Adult Level,Archaeology,Climate,Coastal & Wetlands,Conservation & Ecology,Geology & Geography,History & Culture,Lectures & Seminars
GEO:27.850451;-82.6075539
X-APPLE-STRUCTURED-LOCATION;VALUE=URI;X-ADDRESS=Weedon Island Preserve Cultural and Natural History Center 1800 Weedon Drive NE St. Petersburg FL United States;X-APPLE-RADIUS=500;X-TITLE=1800 Weedon Drive NE:geo:-82.6075539,27.850451
END:VEVENT
BEGIN:VEVENT
DTSTART;TZID=America/New_York:20231020T100000
DTEND;TZID=America/New_York:20231020T120000
DTSTAMP:20260423T175423
CREATED:20230928T222611Z
LAST-MODIFIED:20230928T222611Z
UID:10003190-1697796000-1697803200@baysoundings.com
SUMMARY:All About Epiphytes
DESCRIPTION:Learn about these amazing plants that don’t need soil to survive! \nThis class will open your eyes to many plants from around the world that you may never have realized were epiphytes! From elusive native Florida orchids and bromeliads to tropical rainforest species in South America\, we’ll explore the fascinating world of the plants that perch on other plants! \n>>> REGISTER HERE <<< \nThe University of Florida is committed to providing universal access to all of our events. For disability accommodations such as sign language interpreters and listening devices\, please contact Katie Granberg\, katiebg@ufl.edu\, (941) 722-4524 x 1815 at least 1 week in advance. Advance notice is necessary to arrange for some accessibility needs.
URL:https://baysoundings.com/event/all-about-epiphytes/
LOCATION:UF/IFAS Manatee County Extension\, 1303 17th Street West\, Palmetto\, FL\, 34221\, United States
CATEGORIES:Agriculture & Botany,Gardening & Landscaping,Geology & Geography,Native Flora & Fauna,Workshops & Classes
GEO:27.526707;-82.580054
X-APPLE-STRUCTURED-LOCATION;VALUE=URI;X-ADDRESS=UF/IFAS Manatee County Extension 1303 17th Street West Palmetto FL 34221 United States;X-APPLE-RADIUS=500;X-TITLE=1303 17th Street West:geo:-82.580054,27.526707
END:VEVENT
BEGIN:VEVENT
DTSTART;TZID=America/New_York:20231021T100000
DTEND;TZID=America/New_York:20231021T113000
DTSTAMP:20260423T175423
CREATED:20230827T192737Z
LAST-MODIFIED:20230827T192737Z
UID:10002830-1697882400-1697887800@baysoundings.com
SUMMARY:Map and Compass Navigation
DESCRIPTION:This camping skills course will teach you how to read a map and compass to help you better develop a sense of direction and travel for any outdoor expedition. \nPlease select the correct number of participants or seats needed for your family at the time of enrollment. \nAges 18 yrs + \n>>> REGISTER HERE <<<
URL:https://baysoundings.com/event/map-and-compass-navigation/
LOCATION:Boyd Hill Nature Preserve Classroom\, 1101 COUNTRY CLUB WY S\, St. Petersburg\, FL\, 33705\, United States
CATEGORIES:Adult Level,Backpacking & Camping,Geology & Geography,Lectures & Seminars,Local Community,Nature Tours & Hikes,Safety,Workshops & Classes
ORGANIZER;CN="Boyd Hill Nature Preserve":MAILTO:stpeteparksrec@stpete.org 
GEO:27.724764;-82.6502749
X-APPLE-STRUCTURED-LOCATION;VALUE=URI;X-ADDRESS=Boyd Hill Nature Preserve Classroom 1101 COUNTRY CLUB WY S St. Petersburg FL 33705 United States;X-APPLE-RADIUS=500;X-TITLE=1101 COUNTRY CLUB WY S:geo:-82.6502749,27.724764
END:VEVENT
END:VCALENDAR