BEGIN:VCALENDAR
VERSION:2.0
PRODID:-//Bay Soundings - ECPv6.15.11//NONSGML v1.0//EN
CALSCALE:GREGORIAN
METHOD:PUBLISH
X-ORIGINAL-URL:https://baysoundings.com
X-WR-CALDESC:Events for Bay Soundings
REFRESH-INTERVAL;VALUE=DURATION:PT1H
X-Robots-Tag:noindex
X-PUBLISHED-TTL:PT1H
BEGIN:VTIMEZONE
TZID:America/New_York
BEGIN:DAYLIGHT
TZOFFSETFROM:-0500
TZOFFSETTO:-0400
TZNAME:EDT
DTSTART:20220313T070000
END:DAYLIGHT
BEGIN:STANDARD
TZOFFSETFROM:-0400
TZOFFSETTO:-0500
TZNAME:EST
DTSTART:20221106T060000
END:STANDARD
BEGIN:DAYLIGHT
TZOFFSETFROM:-0500
TZOFFSETTO:-0400
TZNAME:EDT
DTSTART:20230312T070000
END:DAYLIGHT
BEGIN:STANDARD
TZOFFSETFROM:-0400
TZOFFSETTO:-0500
TZNAME:EST
DTSTART:20231105T060000
END:STANDARD
BEGIN:DAYLIGHT
TZOFFSETFROM:-0500
TZOFFSETTO:-0400
TZNAME:EDT
DTSTART:20240310T070000
END:DAYLIGHT
BEGIN:STANDARD
TZOFFSETFROM:-0400
TZOFFSETTO:-0500
TZNAME:EST
DTSTART:20241103T060000
END:STANDARD
END:VTIMEZONE
BEGIN:VEVENT
DTSTART;TZID=America/New_York:20230908T100000
DTEND;TZID=America/New_York:20230908T110000
DTSTAMP:20260425T091438
CREATED:20230828T204514Z
LAST-MODIFIED:20230828T204514Z
UID:10003036-1694167200-1694170800@baysoundings.com
SUMMARY:The Archaeology of Weedon Island
DESCRIPTION:  \nTravel with professional archaeologists into the ancient past of Weedon Island. \nWeedon Island has been a place for community for thousands of years\, with spaces for special events\, daily activities\, and other parts of community life that we still see in our lives today. Join us for a presentation from professional archaeologist Rachael Kangas who will discuss the basics of archaeology at Weedon Island and why the site is so important to understanding people and communities. \nThis program will take place inside the auditorium of the Weedon Island Preserve Cultural and Natural History Center. This program is recommended for adults and youth ages 14 and up. \n>>> REGISTER HERE <<< \nRachael Kangas is the Regional Director for the West Central region of the Florida Public Archaeology Network\, and she conducts public archaeology and outreach. She earned her M.A. from the University of Central Florida (UCF) in 2015 and is certified as a member of the Register of Professional Archaeologists (RPA). She is also an American Academy for Underwater Sciences (AAUS) diver\, allowing her to assist with underwater research around the state.
URL:https://baysoundings.com/event/the-archaeology-of-weedon-island/
LOCATION:Weedon Island Preserve Cultural and Natural History Center\, 1800 Weedon Drive NE\, St. Petersburg\, FL\, United States
CATEGORIES:Agriculture & Botany,Archaeology,Coastal & Wetlands,Geology & Geography,History & Culture,Lectures & Seminars,Local Community,Native Flora & Fauna
GEO:27.850451;-82.6075539
X-APPLE-STRUCTURED-LOCATION;VALUE=URI;X-ADDRESS=Weedon Island Preserve Cultural and Natural History Center 1800 Weedon Drive NE St. Petersburg FL United States;X-APPLE-RADIUS=500;X-TITLE=1800 Weedon Drive NE:geo:-82.6075539,27.850451
END:VEVENT
BEGIN:VEVENT
DTSTART;TZID=America/New_York:20230921T110000
DTEND;TZID=America/New_York:20230921T120000
DTSTAMP:20260425T091438
CREATED:20230829T191122Z
LAST-MODIFIED:20230829T191122Z
UID:10003077-1695294000-1695297600@baysoundings.com
SUMMARY:Gardening Basics: The Scoop on Dirt
DESCRIPTION:Join UF/IFAS Extension Manatee County for the inside scoop on dirt! This course will cover basics of Florida soils and how to build a healthy foundation for your plants. \n>>> REGISTER HERE <<<
URL:https://baysoundings.com/event/gardening-basics-the-scoop-on-dirt/
LOCATION:Manatee County Agriculture and Extension Office\, 1303 17th St W\, Palmetto\, FL\, 34221\, United States
CATEGORIES:Agriculture & Botany,Farming,Gardening & Landscaping,Geology & Geography,Local Community,Workshops & Classes
ORGANIZER;CN="Manatee County Extension":MAILTO:manatee@ifas.ufl.edu
GEO:27.528425;-82.580584
X-APPLE-STRUCTURED-LOCATION;VALUE=URI;X-ADDRESS=Manatee County Agriculture and Extension Office 1303 17th St W Palmetto FL 34221 United States;X-APPLE-RADIUS=500;X-TITLE=1303 17th St W:geo:-82.580584,27.528425
END:VEVENT
END:VCALENDAR