BEGIN:VCALENDAR
VERSION:2.0
PRODID:-//Bay Soundings - ECPv6.15.11//NONSGML v1.0//EN
CALSCALE:GREGORIAN
METHOD:PUBLISH
X-ORIGINAL-URL:https://baysoundings.com
X-WR-CALDESC:Events for Bay Soundings
REFRESH-INTERVAL;VALUE=DURATION:PT1H
X-Robots-Tag:noindex
X-PUBLISHED-TTL:PT1H
BEGIN:VTIMEZONE
TZID:America/New_York
BEGIN:DAYLIGHT
TZOFFSETFROM:-0500
TZOFFSETTO:-0400
TZNAME:EDT
DTSTART:20220313T070000
END:DAYLIGHT
BEGIN:STANDARD
TZOFFSETFROM:-0400
TZOFFSETTO:-0500
TZNAME:EST
DTSTART:20221106T060000
END:STANDARD
BEGIN:DAYLIGHT
TZOFFSETFROM:-0500
TZOFFSETTO:-0400
TZNAME:EDT
DTSTART:20230312T070000
END:DAYLIGHT
BEGIN:STANDARD
TZOFFSETFROM:-0400
TZOFFSETTO:-0500
TZNAME:EST
DTSTART:20231105T060000
END:STANDARD
BEGIN:DAYLIGHT
TZOFFSETFROM:-0500
TZOFFSETTO:-0400
TZNAME:EDT
DTSTART:20240310T070000
END:DAYLIGHT
BEGIN:STANDARD
TZOFFSETFROM:-0400
TZOFFSETTO:-0500
TZNAME:EST
DTSTART:20241103T060000
END:STANDARD
END:VTIMEZONE
BEGIN:VEVENT
DTSTART;TZID=America/New_York:20230506T100000
DTEND;TZID=America/New_York:20230506T230000
DTSTAMP:20260425T195351
CREATED:20230426T194140Z
LAST-MODIFIED:20230426T194140Z
UID:10002133-1683367200-1683414000@baysoundings.com
SUMMARY:Science Sprouts: Geology Rocks
DESCRIPTION:Budding young scientists can bring their favorite grown-up to explore and discover a variety of science and nature topics in the Mosaic Backyard Universe. This program sparks kids’ natural curiosity using crafts\, guided observations\, games\, stories\, songs and more! \n\nWhen/Where: 10-11am every Saturday in the Mosaic Backyard Universe at The Bishop\n\nCost: Included with Museum admission\n\n>>> REGISTER HERE <<<
URL:https://baysoundings.com/event/science-sprouts-geology-rocks/2023-05-06/
LOCATION:Bishop Museum of Science ﻿and Nature\, 201 10th St. West\, Bradenton\, FL\, 34205\, United States
CATEGORIES:Geology & Geography,Kids & Families,Youth Programs
END:VEVENT
BEGIN:VEVENT
DTSTART;TZID=America/New_York:20230513T100000
DTEND;TZID=America/New_York:20230513T230000
DTSTAMP:20260425T195351
CREATED:20230426T194140Z
LAST-MODIFIED:20230426T194140Z
UID:10002134-1683972000-1684018800@baysoundings.com
SUMMARY:Science Sprouts: Geology Rocks
DESCRIPTION:Budding young scientists can bring their favorite grown-up to explore and discover a variety of science and nature topics in the Mosaic Backyard Universe. This program sparks kids’ natural curiosity using crafts\, guided observations\, games\, stories\, songs and more! \n\nWhen/Where: 10-11am every Saturday in the Mosaic Backyard Universe at The Bishop\n\nCost: Included with Museum admission\n\n>>> REGISTER HERE <<<
URL:https://baysoundings.com/event/science-sprouts-geology-rocks/2023-05-13/
LOCATION:Bishop Museum of Science ﻿and Nature\, 201 10th St. West\, Bradenton\, FL\, 34205\, United States
CATEGORIES:Geology & Geography,Kids & Families,Youth Programs
END:VEVENT
BEGIN:VEVENT
DTSTART;TZID=America/New_York:20230513T130000
DTEND;TZID=America/New_York:20230513T143000
DTSTAMP:20260425T195351
CREATED:20230425T191801Z
LAST-MODIFIED:20230425T191801Z
UID:10002122-1683982800-1683988200@baysoundings.com
SUMMARY:NOAA Aircraft Operations & Hurricanes
DESCRIPTION:Learn about hurricane research and reconnaissance with the National Oceanic and Atmospheric Administration (NOAA). \nJoin us for a talk with Alan Goldstein\, the National Oceanic and Atmospheric Administration (NOAA) Aircraft Acquisition Program Manager\, to learn about hurricane research and reconnaissance using specialized aircrafts. \nAlan Goldstein is the NOAA Aircraft Acquisition Program Manager\, responsible for all new aircraft acquisitions. Previously\, he was a design engineer and head of the Science and Engineering Branch at NOAA’s Aircraft Operations Center. Alan has over 46 years of experience with NOAA aircraft\, including 350 hurricane penetrations and has participated in research projects from the Indian Ocean to the Arctic. He is married to Michelle Goldstein\, who volunteers as a docent at the WIP Cultural and Natural History Center and leads the Tot Time programs. They both enjoy traveling and the outdoors\, including kayaking at Weedon Island. \n>>> REGISTER HERE <<<
URL:https://baysoundings.com/event/noaa-aircraft-operations-hurricanes/
LOCATION:Weedon Island Preserve Cultural and Natural History Center\, 1800 Weedon Drive NE\, St. Petersburg\, FL\, United States
CATEGORIES:Climate,Coastal & Wetlands,Exhibits,Geology & Geography,Lectures & Seminars,Local Community,Maritime Topics,Safety,Science & Technology
GEO:27.850451;-82.6075539
X-APPLE-STRUCTURED-LOCATION;VALUE=URI;X-ADDRESS=Weedon Island Preserve Cultural and Natural History Center 1800 Weedon Drive NE St. Petersburg FL United States;X-APPLE-RADIUS=500;X-TITLE=1800 Weedon Drive NE:geo:-82.6075539,27.850451
END:VEVENT
BEGIN:VEVENT
DTSTART;TZID=America/New_York:20230520T100000
DTEND;TZID=America/New_York:20230520T230000
DTSTAMP:20260425T195351
CREATED:20230426T194140Z
LAST-MODIFIED:20230426T194140Z
UID:10002135-1684576800-1684623600@baysoundings.com
SUMMARY:Science Sprouts: Geology Rocks
DESCRIPTION:Budding young scientists can bring their favorite grown-up to explore and discover a variety of science and nature topics in the Mosaic Backyard Universe. This program sparks kids’ natural curiosity using crafts\, guided observations\, games\, stories\, songs and more! \n\nWhen/Where: 10-11am every Saturday in the Mosaic Backyard Universe at The Bishop\n\nCost: Included with Museum admission\n\n>>> REGISTER HERE <<<
URL:https://baysoundings.com/event/science-sprouts-geology-rocks/2023-05-20/
LOCATION:Bishop Museum of Science ﻿and Nature\, 201 10th St. West\, Bradenton\, FL\, 34205\, United States
CATEGORIES:Geology & Geography,Kids & Families,Youth Programs
END:VEVENT
BEGIN:VEVENT
DTSTART;TZID=America/New_York:20230527T100000
DTEND;TZID=America/New_York:20230527T230000
DTSTAMP:20260425T195351
CREATED:20230426T194140Z
LAST-MODIFIED:20230426T194140Z
UID:10002136-1685181600-1685228400@baysoundings.com
SUMMARY:Science Sprouts: Geology Rocks
DESCRIPTION:Budding young scientists can bring their favorite grown-up to explore and discover a variety of science and nature topics in the Mosaic Backyard Universe. This program sparks kids’ natural curiosity using crafts\, guided observations\, games\, stories\, songs and more! \n\nWhen/Where: 10-11am every Saturday in the Mosaic Backyard Universe at The Bishop\n\nCost: Included with Museum admission\n\n>>> REGISTER HERE <<<
URL:https://baysoundings.com/event/science-sprouts-geology-rocks/2023-05-27/
LOCATION:Bishop Museum of Science ﻿and Nature\, 201 10th St. West\, Bradenton\, FL\, 34205\, United States
CATEGORIES:Geology & Geography,Kids & Families,Youth Programs
END:VEVENT
END:VCALENDAR