BEGIN:VCALENDAR
VERSION:2.0
PRODID:-//Bay Soundings - ECPv6.15.11//NONSGML v1.0//EN
CALSCALE:GREGORIAN
METHOD:PUBLISH
X-ORIGINAL-URL:https://baysoundings.com
X-WR-CALDESC:Events for Bay Soundings
REFRESH-INTERVAL;VALUE=DURATION:PT1H
X-Robots-Tag:noindex
X-PUBLISHED-TTL:PT1H
BEGIN:VTIMEZONE
TZID:America/New_York
BEGIN:DAYLIGHT
TZOFFSETFROM:-0500
TZOFFSETTO:-0400
TZNAME:EDT
DTSTART:20210314T070000
END:DAYLIGHT
BEGIN:STANDARD
TZOFFSETFROM:-0400
TZOFFSETTO:-0500
TZNAME:EST
DTSTART:20211107T060000
END:STANDARD
BEGIN:DAYLIGHT
TZOFFSETFROM:-0500
TZOFFSETTO:-0400
TZNAME:EDT
DTSTART:20220313T070000
END:DAYLIGHT
BEGIN:STANDARD
TZOFFSETFROM:-0400
TZOFFSETTO:-0500
TZNAME:EST
DTSTART:20221106T060000
END:STANDARD
BEGIN:DAYLIGHT
TZOFFSETFROM:-0500
TZOFFSETTO:-0400
TZNAME:EDT
DTSTART:20230312T070000
END:DAYLIGHT
BEGIN:STANDARD
TZOFFSETFROM:-0400
TZOFFSETTO:-0500
TZNAME:EST
DTSTART:20231105T060000
END:STANDARD
END:VTIMEZONE
BEGIN:VEVENT
DTSTART;TZID=America/New_York:20220302T090000
DTEND;TZID=America/New_York:20220302T110000
DTSTAMP:20260421T082009
CREATED:20220125T234717Z
LAST-MODIFIED:20220125T234717Z
UID:10001628-1646211600-1646218800@baysoundings.com
SUMMARY:King of Fruits (Zoom workshop)
DESCRIPTION:Join us for King of Fruits! Come and learn about mango trees and how to care for them.\n\n\n\n\n\n\n\nJoin us for King of Fruits! In this almost two-hour workshop\, we will be discussing mangoes. Topics include growing requirements\, general care\, variety selection\, and more. For more information\, please contact\, Mack Lessig\, at (941) 722-4521 ext.1821 or mlessig@ufl.edu. This is a free workshop. \nREGISTER HERE
URL:https://baysoundings.com/event/king-of-fruits-zoom-workshop/
LOCATION:Online Event
CATEGORIES:Agriculture & Botany,Food & Cooking,Gardening & Landscaping,WEBINARS & ONLINE CLASSES
END:VEVENT
BEGIN:VEVENT
DTSTART;TZID=America/New_York:20220313T100000
DTEND;TZID=America/New_York:20220313T120000
DTSTAMP:20260421T082009
CREATED:20220305T235100Z
LAST-MODIFIED:20220305T235253Z
UID:10000916-1647165600-1647172800@baysoundings.com
SUMMARY:Intro to Beekeeping
DESCRIPTION:Introduction to Beekeeping:\nA Hobby with Sweet Rewards ~ Part 2 \n\n\n\nThis is part two of a three part series!\n\n\n\n\n\n\n\nThis program will cover what it takes to get started in this amazing hobby with a focus on the equipment and tools necessary for beekeeping. We will review the components of the “modern” bee hive\, the tools used by beekeepers\, and demystify the seemingly countless number of paraphernalia available for the hobbyist beekeeping. \nIn addition we will discuss the proper locations for beehives and explain Florida’s rules and guidelines. \nAgenda: \n\nHistory and Components of the Modern Bee Hive\nReview of Equipment needed to Get Started\nAcquiring Honey Bees\nTypical hive throughout the year’s changing seasons\nConsiderations about equipment\, hive set-up\, and location\nWhere to get your first bees & how to put them in the hive\n\nInstructor: Robert Burkard\, President of the Friends of Brooker Creek Preserve’s Beekeepers Club \nAdditional Notes: This program will be held in our auditorium. It takes about 10 minutes to drive from the preserve entrance (Keystone Rd.) to the parking lot\, and there is a 2-5 minute walk from the parking lot to the auditorium. Follow signs to the auditorium. \nREGISTER HERE \nRegister for Part 3 on Saturday April 9th here! 
URL:https://baysoundings.com/event/intro-to-beekeeping/
LOCATION:Brooker Creek Environmental Education Center\, 3940 Keystone Road\, Tarpon Springs\, FL\, 34688\, United States
CATEGORIES:Crafts & Hobbies,Farming,Gardening & Landscaping,Insects,Native Flora & Fauna,Workshops & Classes
GEO:28.136639;-82.656421
X-APPLE-STRUCTURED-LOCATION;VALUE=URI;X-ADDRESS=Brooker Creek Environmental Education Center 3940 Keystone Road Tarpon Springs FL 34688 United States;X-APPLE-RADIUS=500;X-TITLE=3940 Keystone Road:geo:-82.656421,28.136639
END:VEVENT
BEGIN:VEVENT
DTSTART;TZID=America/New_York:20220317T090000
DTEND;TZID=America/New_York:20220317T150000
DTSTAMP:20260421T082009
CREATED:20220307T223105Z
LAST-MODIFIED:20220307T223105Z
UID:10001673-1647507600-1647529200@baysoundings.com
SUMMARY:Tips for Hiring a Landscape & Pond Professional
DESCRIPTION:Hiring a landscape or pond professional can be a challenge especially for homeowner association (HOA) board members who very often only evaluate the bids on price. These folks soon realize you get what you pay for and the lowest priced contract may end up costing you more in the long run. \nThis workshop is offered to landscape committees\, pond committees\, HOA board members\, and community managers. An overview of some of the best management practices will be given as well as model language for maintenance contracts and other tips to look for in professional interviews. \nGeneral Admission – $5 \nAgenda \n\n9:00 – Noon – Focusing on Landscape Professionals\n12:00 – 12:30pm – Lunch\n12:30 – 3:00 – Focusing on Pond Professionals\n\n\nRegister HERE.
URL:https://baysoundings.com/event/tips-for-hiring-a-landscape-pond-professional/
LOCATION:UF/IFAS Manatee County Extension\, 1303 17th Street West\, Palmetto\, FL\, 34221\, United States
CATEGORIES:Gardening & Landscaping,Home & Lifestyle,Local Community,Workshops & Classes
GEO:27.526707;-82.580054
X-APPLE-STRUCTURED-LOCATION;VALUE=URI;X-ADDRESS=UF/IFAS Manatee County Extension 1303 17th Street West Palmetto FL 34221 United States;X-APPLE-RADIUS=500;X-TITLE=1303 17th Street West:geo:-82.580054,27.526707
END:VEVENT
BEGIN:VEVENT
DTSTART;TZID=America/New_York:20220327T090000
DTEND;TZID=America/New_York:20220327T120000
DTSTAMP:20260421T082009
CREATED:20220307T232923Z
LAST-MODIFIED:20220307T232923Z
UID:10001679-1648371600-1648382400@baysoundings.com
SUMMARY:Mobile Plant Clinic - Robinson Preserve
DESCRIPTION:Master Gardener Volunteer Mobile Plant Clinic\nat Robinson Preserve \nVisit our mobile plant clinic located at Robinson Preserve\, 1704 99th St NW\, Bradenton. Hours are 9AM – 12PM. \nPlease meet at the South Entrance near the picnic pavilions. Master Gardener Volunteers are available to share their horticulture knowledge and assist with plant questions. We’ve Got a Good Thing Growing!
URL:https://baysoundings.com/event/mobile-plant-clinic-robinson-preserve/
LOCATION:ROBINSON PRESERVE\, 1704 99th Street Northwest\, Bradenton\, FL\, 34209\, United States
CATEGORIES:Agriculture & Botany,Farming,Gardening & Landscaping,Herbs,Local Community
GEO:27.5144373;-82.6610077
X-APPLE-STRUCTURED-LOCATION;VALUE=URI;X-ADDRESS=ROBINSON PRESERVE 1704 99th Street Northwest Bradenton FL 34209 United States;X-APPLE-RADIUS=500;X-TITLE=1704 99th Street Northwest:geo:-82.6610077,27.5144373
END:VEVENT
END:VCALENDAR